Workbook
Name fakt1R: #REF!
Name KDOLEN1: #REF!
Name KONIECB: #REF!
Name KONIECC: #REF!
Name KONIECCELK: #REF!
Name KONIECJC: #REF!
Name KONIECKP: #REF!
Name KONIECMNOZ: #REF!
Name KONIECSP: #REF!
Name Posl2: #REF!
Name PoslA: #REF!
Name Prva2: #REF!
Name PrvaA: #REF!
Name PRVALAVA: #REF!
Name Q: [1]Suhrnny_list!$O$61
Name ZACB: #REF!
Name ZACC: #REF!
Name ZACKP: #REF!

Sheet Rekapitulácia stavby
B2: REKAPITULÁCIA STAVBY
B4: Stavba: | C4: Strategické územie Valaliky
B5: Kód:
B6: Miesto: | C6: katastrálne územie: Valaliky, Geča
B8: Objednávateľ: | C8: Valaliky Industrial Park, s.r.o.
B9: Adresa: | C9: Trnavská cesta 100, Bratislava - mestská časť Ružinov 821 01
B10: IČO: | C10: 54485053
B12: Súťažiaci:
B13: Adresa:
B14: IČO:
B16: Zodpovedná osoba:
B17: Dátum:
B18: Podpis a pečiatka:
B20: Cena bez DPH | C20: Stavebné objekty | F20: ='Rekapitulácia objektov stavby'!AG94 -> 0
B21: Cena bez DPH | C21: Všeobecné položky | F21: ='VSEOB.POLOZKY.ROZPOCET'!H28 -> 0
B22: Cena bez DPH | C22: Celkom | F22: =SUM(F20:F21) -> 0
B23: DPH | F23: =F22*0.2 -> 0
B24: Cena s DPH | F24: =F22+F23 -> 0

Sheet VSEOB.POLOZKY.ROZPOCET
A1: ROZPOČET
A2: Stavba: | C2: Strategické územie Valaliky
A3: Kód:
A4: Časť : | C4: Všeobecné položky stavby
A6: POLOŽKA | D6: NAZOV POLOZKY | E6: M.J. | F6: MNOŽ. | G6: JEDN. CENA | H6: CENA CELKOM
A7: Č. | B7: KÓD KP | C7: KÓD SP
A8: 1 | B8: 45.00.00 | C8: 00000101 | D8: Zariadenie staveniska objednávateľa hlavne - prevádzka ZS | E8: mes | F8: 24 | G8: 0 | H8: =ROUND(F8*G8,2) -> 0
D9: (popis položky viď Príloha č.1 - Požiadavky Objednávateľa, časť C5.1 Zariadenie staveniska - Zariadenie pre činnosť Objednávateľa)
A10: 3 | B10: 45.00.00 | C10: 00000103 | D10: Dokumentácia skutočného zhotovenia stavby DSZS) | E10: kpl | F10: 1 | G10: =VSEOB.POLOZKY_PD!D27 -> 0 | H10: =ROUND(F10*G10,2) -> 0
D11: Dokumentácia skutočného zhotovenia stavby (DSZS)
D12: dokumentácia, pozostávajúca z technickej správy,
D13: výkresov a manuálu užívania a prevádzkových poriadkov
D14: vypracovaná pre každú časť stavby samostatne vrátane technologickej časti
D15: projekt a výpočet zaťažiteľnosti mostných objektov a pod., mostné zošity
D16: vypracovaná v tlačenej aj digitálnej forme
D17: vypracovaná projektantom s platným osvedčením v zmysle legislatívy SR
A18: 4 | B18: 45.00.00 | C18: 00000104 | D18: Požiadavky objednávateľa ostatné požiadavky pyrotechnický prieskum a dozor | E18: m2 | F18: 8500 | G18: 0 | H18: =ROUND(F18*G18,2) -> 0
D19: Predpoklad rozsahu prieskumu na ploche trvalého
A20: 7 | B20: 45.00.00 | C20: 00000107 | D20: Výskumná dokumentácia archeologického dozoru | E20: kpl | F20: 1 | G20: 0 | H20: =F20*G20 -> 0
D21: (popis položky viď Príloha č.1 - Požiadavky Objednávateľa, bod E.6 Archeologický dozor / Služba – Archeologický dozor pri zemných prácach – výkopoch)
A22: 8 | B22: 45.00.00 | C22: 00000108 | D22: Archeologický dozor pri zemných prácach – výkopoch | E22: deň | F22: 90 | G22: 0 | H22: =F22*G22 -> 0
D23: (popis položky viď Príloha č.1 - Požiadavky Objednávateľa, bod E.6 Archeologický dozor / Služba – Archeologický dozor pri zemných prácach – výkopoch)
A24: 9 | B24: 45.00.00 | C24: 00000109 | D24: Strážna služba pre archeologický výskum | E24: deň | F24: 90 | G24: 0 | H24: =F24*G24 -> 0
D25: (popis položky viď Príloha č.1 - Požiadavky Objednávateľa, bod E.6 Archeologický dozor / Služba – strážna služba pre archeologický výskum)
A26: 10 | B26: 45.00.00 | C26: 00000110 | D26: Zemné práce pre vykonanie archeologického výskumu | E26: deň | F26: 90 | G26: 0 | H26: =F26*G26 -> 0
D27: (popis položky viď Príloha č.1 - Požiadavky Objednávateľa, bod E.6 Archeologický dozor / Služba – zemné práce pre vykonanie archeologického výskumu)
H28: =SUM(H8:H27) -> 0

Sheet VSEOB.POLOZKY_PD
B1: ROZPOČET
B2: Stavba: | C2: Strategické územie Valaliky
B3: Kód:
B4: Časť : | C4: Všeobecné položky stavby
C5: Projektová dokumentácia súvisiaca s realizáciou stavby a dokončením / kolaudáciou stavby
B8: Kód | C8: Popis | D8: DSZS
C9: Cestné napojenie medzi priem. parkom Valaliky a obcou Valaliky-Nové Koščany | D9: =SUBTOTAL(9,D10:D26) -> 0
B10: PS 309 | C10: PZZ v žkm 362,792 184 | D10: 0
B11: PS 301.1 | C11: Čaňa - Valalíky, TZZ, Úprava | D11: 0
B12: SO 115 | C12: MK pre napojenie obce Valalíky - Nové Koščany na cestu III/3813 v úseku N - E | D12: 0
B13: SO 161.1 | C13: Cyklochodník pre napojenie obce Valalíky - Nové Koščany na cestu III/3813 v úseku N - E | D13: 0
B14: SO 161 | C14: Cyklochodník, úsek 4, Úprava | D14: 0
B15: SO 161 | C15: Cyklochodník, úsek 5, Úprava | D15: 0
B16: SO 165.1 | C16: Chodník pre napojenie obce Valalíky - Nové Koščany na cestu III/3813 v úseku N - E | D16: 0
B17: SO 165 | C17: Chodníky, Úprava | D17: 0
B18: SO 215 | C18: Priepust cez Valalický kanál na MK Valaliky- Nové Koščany
B19: SO 215 | C19: Priepust cez Valalický kanál na MK Valaliky- Nové Koščany | D19: 0
B20: SO 409 | C20: Barca- Čaňa, železničný spodok | D20: 0
B21: SO 410 | C21: Barca- Čaňa, železničný zvršok | D21: 0
B22: SO 410.2 | C22: Barca- Čaňa, železničné priecestie km 362,792 184 | D22: 0
B23: SO 433 | C23: TIOP Valaliky- ŽSR, Protihlukové steny- Búracie práce | D23: 0
B24: SO 442 | C24: Barca- Čaňa, prípojka NN pre PZZ v žkm 362,792 184 | D24: 0
B25: SO 659.1 | C25: Verejné osvetlenie cyklochodníka- kataser Valaliky a NN prípojky, Úprava a rozšírenie | D25: 0
B26: D 3 | C26: Dopravné zančenie_ MK Valaliky- Nové Koščany | D26: 0
C27: Celkom | D27: =D9 -> 0
B30: DSZS - Dokumentácia skutočného zhtovenia stavby

Sheet Rekapitulácia objektov stavby
A1: Export Komplet | AZ1: 1 | BA1: 2.0 | BB1: ZAMOK | BT1: False | BU1: False | BV1: {ddfe40c9-1ae7-4ff5-93de-0a1c9de020eb}
BS2: 0,01 | BT2: 23
BS3: 0,01 | BT3: 23
D4: REKAPITULÁCIA OBJEKTOV STAVBY | AS4: v --- nižšie sa nachádzajú doplnkové a pomocné údaje k zostavám --- v | BE4: Návod na vyplnenie | BS4: 0,001
D5: Kód: | K5: VALALIKY | BE5: Meniť je možné iba bunky so žltým podfarbením!_x000D_ _x000D_ 1) na prvom liste Rekapitulácie stavby vyplňte v zostave_x000D_ _x000D_ a) Rekapitulácia stavby_x000D_ - údaje o Zhotoviteľovi_x000D_ (prenesú sa do ostatných zostáv aj v iných listoch)_x000D_ _x000D_ b) Rekapitulácia objektov stavby_x000D_ - potrebné Ostatné náklady_x000D_ _x000D_ 2) na vybraných listoch vyplňte v zostave_x000D_ _x000D_ a) Krycí list_x000D_ - údaje o Zhotoviteľovi, pokiaľ sa líšia od údajov o Zhotoviteľovi na Rekapitulácii stavby_x000D_ (údaje se prenesú do ostatných zostav v danom liste)_x000D_ _x000D_ b) Rekapitulácia rozpočtu_x000D_ - potrebné Ostatné náklady_x000D_ _x000D_ c) Celkové náklady za stavbu_x000D_ - ceny na položkách_x000D_ - množstvo, pokiaľ má žlté podfarbenie_x000D_ - a v prípade potreby poznámku (tá je v skrytom stĺpci) | BS5: 0,01
D6: Stavba: | K6: Strategické územie Valalíky | BS6: 0,01
D7: JKSO: | K7: 1 | AK7: ČS: | AN7: 1 | BS7: 0,01
D8: Miesto: | K8: kú: Valaliky, kú: Barca, kú: Čaňa | AK8: Dátum: | AN8: 27. 7. 2026 | BS8: 0,01
BS9: 0,01
D10: Objednávateľ: | AK10: IČO: | AN10: 1 | BS10: 0,01
E11: Valaliky Industrial Park, s.r.o., Bratislava | AK11: IČ DPH: | AN11: 1 | BS11: 0,01
BS12: 0,01
D13: Zhotoviteľ: | AK13: IČO: | BS13: 0,01
AK14: IČ DPH: | BS14: 0,01
BS15: False
D16: Projektant: | AK16: IČO: | AN16: 1 | BS16: False
E17: RRi design, spol. s r.o., Košice | AK17: IČ DPH: | AN17: 1 | BS17: True
BS18: 0,01
D19: Spracovateľ: | AK19: IČO: | AN19: 1 | BS19: 0,01
AK20: IČ DPH: | AN20: 1 | BS20: True
D22: Poznámka:
E23: 1
D26: Cena bez DPH | AK26: =ROUND(AG94,2) -> 0
L28: Sadzba dane | W28: Základ dane | AK28: Výška dane
D29: DPH | F29: základná | L29: 0.23 | W29: =ROUND(AZ94, 2) -> 0 | AK29: =ROUND(AV94, 2) -> 0
F30: znížená | L30: 0.23 | W30: =ROUND(BA94, 2) -> 0 | AK30: =ROUND(AW94, 2) -> 0
F31: zákl. prenesená | L31: 0.23 | W31: =ROUND(BB94, 2) -> 0 | AK31: 0
F32: zníž. prenesená | L32: 0.23 | W32: =ROUND(BC94, 2) -> 0 | AK32: 0
F33: nulová | L33: 0 | W33: =ROUND(BD94, 2) -> 0 | AK33: 0
D35: Cena s DPH | T35: v | X35: EUR | AK35: =SUM(AK26:AK33) -> 0
D49: Projektant | AH49: Spracovateľ
D60: Dátum a podpis: | V60: Pečiatka | AH60: Dátum a podpis: | AM60: Pečiatka
D64: Objednávateľ | AH64: Zhotoviteľ
D75: Dátum a podpis: | V75: Pečiatka | AH75: Dátum a podpis: | AM75: Pečiatka
C82: REKAPITULÁCIA OBJEKTOV STAVBY
C84: Kód: | L84: =K5 -> VALALIKY
C85: Stavba: | L85: =K6 -> Strategické územie Valalíky
C87: Miesto: | L87: =IF(K8="","",K8) -> kú: Valaliky, kú: Barca, kú: Čaňa | AI87: Dátum: | AM87: =IF(AN8= "","",AN8) -> 27. 7. 2026
C89: Objednávateľ: | L89: =IF(E11= "","",E11) -> Valaliky Industrial Park, s.r.o., Bratislava | AI89: Projektant: | AM89: =IF(E17="","",E17) -> RRi design, spol. s r.o., Košice | AS89: Informatívne údaje z listov zákaziek
C90: Zhotoviteľ: | L90: =IF(E14= "Vyplň údaj","",E14) -> 0 | AI90: Spracovateľ: | AM90: =IF(E20="","",E20)
C92: Kód | I92: Popis | AG92: Cena bez DPH [EUR] | AN92: Cena s DPH [EUR] | AQ92: Typ | AS92: z toho Ostat._x000D_ náklady [EUR] | AT92: DPH [EUR] | AU92: Normohodiny [h] | AV92: DPH základná [EUR] | AW92: DPH znížená [EUR] | AX92: DPH základná prenesená_x000D_ [EUR] | AY92: DPH znížená prenesená_x000D_ [EUR] | AZ92: Základňa_x000D_ DPH základná | BA92: Základňa_x000D_ DPH znížená | BB92: Základňa_x000D_ DPH zákl. prenesená | BC92: Základňa_x000D_ DPH zníž. prenesená | BD92: Základňa_x000D_ DPH nulová
C94: Náklady z rozpočtov | AG94: =ROUND(SUM(AG95:AG110),2) -> 0 | AN94: =SUM(AG94,AT94) -> 0 | AQ94: 1 | AS94: =ROUND(SUM(AS95:AS110),2) -> 0 | AT94: =ROUND(SUM(AV94:AW94),2) -> 0 | AU94: =ROUND(SUM(AU95:AU110),5) -> 0 | AV94: =ROUND(AZ94*L29,2) -> 0 | AW94: =ROUND(BA94*L30,2) -> 0 | AX94: =ROUND(BB94*L29,2) -> 0 | AY94: =ROUND(BC94*L30,2) -> 0 | AZ94: =ROUND(SUM(AZ95:AZ110),2) -> 0 | BA94: =ROUND(SUM(BA95:BA110),2) -> 0 | BB94: =ROUND(SUM(BB95:BB110),2) -> 0 | BC94: =ROUND(SUM(BC95:BC110),2) -> 0 | BD94: =ROUND(SUM(BD95:BD110),2) -> 0 | BS94: D | BT94: 0 | BU94: ###NOIMPORT### | BV94: IMPORT | BW94: {ddfe40c9-1ae7-4ff5-93de-0a1c9de020eb} | BX94: {00000000-0000-0000-0000-000000000000} | CL94: 1
A95: / | D95: PS 309 | J95: PZZ v žkm 362,792 184 | AG95: ='PS 309 - PZZ žkm 362,792 184'!J32 -> 0 | AN95: =SUM(AG95,AT95) -> 0 | AQ95: PRO | AS95: 0 | AT95: =ROUND(SUM(AV95:AW95),2) -> 0 | AU95: ='PS 309 - PZZ žkm 362,792 184'!P131 -> 0 | AV95: ='PS 309 - PZZ žkm 362,792 184'!J35 -> 0 | AW95: ='PS 309 - PZZ žkm 362,792 184'!J36 -> 0 | AX95: ='PS 309 - PZZ žkm 362,792 184'!J37 -> 0 | AY95: ='PS 309 - PZZ žkm 362,792 184'!J38 -> 0 | AZ95: ='PS 309 - PZZ žkm 362,792 184'!F35 -> 0 | BA95: ='PS 309 - PZZ žkm 362,792 184'!F36 -> 0 | BB95: ='PS 309 - PZZ žkm 362,792 184'!F37 -> 0 | BC95: ='PS 309 - PZZ žkm 362,792 184'!F38 -> 0 | BD95: ='PS 309 - PZZ žkm 362,792 184'!F39 -> 0 | BT95: 1 | BV95: IMPORT | BW95: {b1f6e103-0acb-456e-a8ce-1a3d1e5c8a7c} | BX95: {ddfe40c9-1ae7-4ff5-93de-0a1c9de020eb} | CL95: 1 | CM95: 0
A96: / | D96: PS 301.1 | J96: Čaňa - Valaliky, TZZ, - Úprava | AG96: ='PS 301.1 - TZZ - Úprava'!J32 -> 0 | AN96: =SUM(AG96,AT96) -> 0 | AQ96: PRO | AS96: 0 | AT96: =ROUND(SUM(AV96:AW96),2) -> 0 | AU96: ='PS 301.1 - TZZ - Úprava'!P129 -> 0 | AV96: ='PS 301.1 - TZZ - Úprava'!J35 -> 0 | AW96: ='PS 301.1 - TZZ - Úprava'!J36 -> 0 | AX96: ='PS 301.1 - TZZ - Úprava'!J37 -> 0 | AY96: ='PS 301.1 - TZZ - Úprava'!J38 -> 0 | AZ96: ='PS 301.1 - TZZ - Úprava'!F35 -> 0 | BA96: ='PS 301.1 - TZZ - Úprava'!F36 -> 0 | BB96: ='PS 301.1 - TZZ - Úprava'!F37 -> 0 | BC96: ='PS 301.1 - TZZ - Úprava'!F38 -> 0 | BD96: ='PS 301.1 - TZZ - Úprava'!F39 -> 0 | BT96: 1 | BV96: IMPORT | BW96: {feb2e094-1f62-4e8e-a5df-a6a4483983e9} | BX96: {ddfe40c9-1ae7-4ff5-93de-0a1c9de020eb} | CL96: 1 | CM96: 0
A97: / | D97: SO 115 | J97: MK pre napojenie obce Valaliky- Nové Koščany na cestu III/3813 v úseku "N-E" | AG97: ='SO 115 - MK napojenie'!J32 -> 0 | AN97: =SUM(AG97,AT97) -> 0 | AQ97: STA | AS97: 0 | AT97: =ROUND(SUM(AV97:AW97),2) -> 0 | AU97: ='SO 115 - MK napojenie'!P135 -> 0 | AV97: ='SO 115 - MK napojenie'!J35 -> 0 | AW97: ='SO 115 - MK napojenie'!J36 -> 0 | AX97: ='SO 115 - MK napojenie'!J37 -> 0 | AY97: ='SO 115 - MK napojenie'!J38 -> 0 | AZ97: ='SO 115 - MK napojenie'!F35 -> 0 | BA97: ='SO 115 - MK napojenie'!F36 -> 0 | BB97: ='SO 115 - MK napojenie'!F37 -> 0 | BC97: ='SO 115 - MK napojenie'!F38 -> 0 | BD97: ='SO 115 - MK napojenie'!F39 -> 0 | BT97: 1 | BV97: IMPORT | BW97: {cf31ee3d-caf4-40d7-8829-90b85582cca3} | BX97: {ddfe40c9-1ae7-4ff5-93de-0a1c9de020eb} | CL97: 1 | CM97: 0
A98: / | D98: SO 161.1 | J98: Cyklochodník - pre napojenie obce Valaliky - Nové Koščany na cestu III/3813 v úseku "N-E" | AG98: ='SO 161.1 - Cyklochodník'!J32 -> 0 | AN98: =SUM(AG98,AT98) -> 0 | AQ98: STA | AS98: 0 | AT98: =ROUND(SUM(AV98:AW98),2) -> 0 | AU98: ='SO 161.1 - Cyklochodník'!P131 -> 0 | AV98: ='SO 161.1 - Cyklochodník'!J35 -> 0 | AW98: ='SO 161.1 - Cyklochodník'!J36 -> 0 | AX98: ='SO 161.1 - Cyklochodník'!J37 -> 0 | AY98: ='SO 161.1 - Cyklochodník'!J38 -> 0 | AZ98: ='SO 161.1 - Cyklochodník'!F35 -> 0 | BA98: ='SO 161.1 - Cyklochodník'!F36 -> 0 | BB98: ='SO 161.1 - Cyklochodník'!F37 -> 0 | BC98: ='SO 161.1 - Cyklochodník'!F38 -> 0 | BD98: ='SO 161.1 - Cyklochodník'!F39 -> 0 | BT98: 1 | BV98: IMPORT | BW98: {e03262f0-fb90-450d-9578-679f304b1af9} | BX98: {ddfe40c9-1ae7-4ff5-93de-0a1c9de020eb} | CL98: 1 | CM98: 0
A99: / | D99: SO 161 | J99: Cyklochodníky - Úprava | AG99: ='SO 161 - Úprava - úsek 4'!J32 -> 0 | AN99: =SUM(AG99,AT99) -> 0 | AQ99: STA | AS99: 0 | AT99: =ROUND(SUM(AV99:AW99),2) -> 0 | AU99: ='SO 161 - Úprava - úsek 4'!P131 -> 0 | AV99: ='SO 161 - Úprava - úsek 4'!J35 -> 0 | AW99: ='SO 161 - Úprava - úsek 4'!J36 -> 0 | AX99: ='SO 161 - Úprava - úsek 4'!J37 -> 0 | AY99: ='SO 161 - Úprava - úsek 4'!J38 -> 0 | AZ99: ='SO 161 - Úprava - úsek 4'!F35 -> 0 | BA99: ='SO 161 - Úprava - úsek 4'!F36 -> 0 | BB99: ='SO 161 - Úprava - úsek 4'!F37 -> 0 | BC99: ='SO 161 - Úprava - úsek 4'!F38 -> 0 | BD99: ='SO 161 - Úprava - úsek 4'!F39 -> 0 | BT99: 1 | BV99: IMPORT | BW99: {bb78afa2-67f9-46ef-9703-9ff595bec6df} | BX99: {ddfe40c9-1ae7-4ff5-93de-0a1c9de020eb} | CL99: 1 | CM99: 0
A100: / | D100: SO 161 | J100: Cyklochodníky - Úprava | AG100: ='SO 161 - Úprava - úsek 5'!J32 -> 0 | AN100: =SUM(AG100,AT100) -> 0 | AQ100: STA | AS100: 0 | AT100: =ROUND(SUM(AV100:AW100),2) -> 0 | AU100: ='SO 161 - Úprava - úsek 5'!P128 -> 0 | AV100: ='SO 161 - Úprava - úsek 5'!J35 -> 0 | AW100: ='SO 161 - Úprava - úsek 5'!J36 -> 0 | AX100: ='SO 161 - Úprava - úsek 5'!J37 -> 0 | AY100: ='SO 161 - Úprava - úsek 5'!J38 -> 0 | AZ100: ='SO 161 - Úprava - úsek 5'!F35 -> 0 | BA100: ='SO 161 - Úprava - úsek 5'!F36 -> 0 | BB100: ='SO 161 - Úprava - úsek 5'!F37 -> 0 | BC100: ='SO 161 - Úprava - úsek 5'!F38 -> 0 | BD100: ='SO 161 - Úprava - úsek 5'!F39 -> 0 | BT100: 1 | BV100: IMPORT | BW100: {7bc53312-bdd6-444a-a2fd-30d0be3c9e10} | BX100: {ddfe40c9-1ae7-4ff5-93de-0a1c9de020eb} | CL100: 1 | CM100: 0
A101: / | D101: SO 165.1 | J101: Chodník - pre napojenie obce Valaliky - Nové Koščany na cestu III/3813 v úseku "N-E" | AG101: ='SO 165.1 - Chodník'!J32 -> 0 | AN101: =SUM(AG101,AT101) -> 0 | AQ101: STA | AS101: 0 | AT101: =ROUND(SUM(AV101:AW101),2) -> 0 | AU101: ='SO 165.1 - Chodník'!P129 -> 0 | AV101: ='SO 165.1 - Chodník'!J35 -> 0 | AW101: ='SO 165.1 - Chodník'!J36 -> 0 | AX101: ='SO 165.1 - Chodník'!J37 -> 0 | AY101: ='SO 165.1 - Chodník'!J38 -> 0 | AZ101: ='SO 165.1 - Chodník'!F35 -> 0 | BA101: ='SO 165.1 - Chodník'!F36 -> 0 | BB101: ='SO 165.1 - Chodník'!F37 -> 0 | BC101: ='SO 165.1 - Chodník'!F38 -> 0 | BD101: ='SO 165.1 - Chodník'!F39 -> 0 | BT101: 1 | BV101: IMPORT | BW101: {921ec1ab-5f59-4b52-aac9-4e5729832627} | BX101: {ddfe40c9-1ae7-4ff5-93de-0a1c9de020eb} | CL101: 1 | CM101: 0
A102: / | D102: SO 165 | J102: Chodníky - Úprava | AG102: ='SO 165 - Úprava'!J32 -> 0 | AN102: =SUM(AG102,AT102) -> 0 | AQ102: STA | AS102: 0 | AT102: =ROUND(SUM(AV102:AW102),2) -> 0 | AU102: ='SO 165 - Úprava'!P131 -> 0 | AV102: ='SO 165 - Úprava'!J35 -> 0 | AW102: ='SO 165 - Úprava'!J36 -> 0 | AX102: ='SO 165 - Úprava'!J37 -> 0 | AY102: ='SO 165 - Úprava'!J38 -> 0 | AZ102: ='SO 165 - Úprava'!F35 -> 0 | BA102: ='SO 165 - Úprava'!F36 -> 0 | BB102: ='SO 165 - Úprava'!F37 -> 0 | BC102: ='SO 165 - Úprava'!F38 -> 0 | BD102: ='SO 165 - Úprava'!F39 -> 0 | BT102: 1 | BV102: IMPORT | BW102: {6b024d99-e4ce-4ac5-abd1-3c269edc1640} | BX102: {ddfe40c9-1ae7-4ff5-93de-0a1c9de020eb} | CL102: 1 | CM102: 0
A103: / | D103: SO 215 | J103: Priepust cez Valalický kanál na MK Valaliky- Nové Koščany | AG103: ='SO 215 - Priepust'!J32 -> 0 | AN103: =SUM(AG103,AT103) -> 0 | AQ103: STA | AS103: 0 | AT103: =ROUND(SUM(AV103:AW103),2) -> 0 | AU103: ='SO 215 - Priepust'!P135 -> 0 | AV103: ='SO 215 - Priepust'!J35 -> 0 | AW103: ='SO 215 - Priepust'!J36 -> 0 | AX103: ='SO 215 - Priepust'!J37 -> 0 | AY103: ='SO 215 - Priepust'!J38 -> 0 | AZ103: ='SO 215 - Priepust'!F35 -> 0 | BA103: ='SO 215 - Priepust'!F36 -> 0 | BB103: ='SO 215 - Priepust'!F37 -> 0 | BC103: ='SO 215 - Priepust'!F38 -> 0 | BD103: ='SO 215 - Priepust'!F39 -> 0 | BT103: 1 | BV103: IMPORT | BW103: {44941707-5611-4fa3-a549-6461b311fa80} | BX103: {ddfe40c9-1ae7-4ff5-93de-0a1c9de020eb} | CL103: 1 | CM103: 0
A104: / | D104: SO 409 | J104: Barca- Čaňa, Železničný spodok | AG104: ='SO 409 - Železničný spodok'!J32 -> 0 | AN104: =SUM(AG104,AT104) -> 0 | AQ104: STA | AS104: 0 | AT104: =ROUND(SUM(AV104:AW104),2) -> 0 | AU104: ='SO 409 - Železničný spodok'!P133 -> 0 | AV104: ='SO 409 - Železničný spodok'!J35 -> 0 | AW104: ='SO 409 - Železničný spodok'!J36 -> 0 | AX104: ='SO 409 - Železničný spodok'!J37 -> 0 | AY104: ='SO 409 - Železničný spodok'!J38 -> 0 | AZ104: ='SO 409 - Železničný spodok'!F35 -> 0 | BA104: ='SO 409 - Železničný spodok'!F36 -> 0 | BB104: ='SO 409 - Železničný spodok'!F37 -> 0 | BC104: ='SO 409 - Železničný spodok'!F38 -> 0 | BD104: ='SO 409 - Železničný spodok'!F39 -> 0 | BT104: 1 | BV104: IMPORT | BW104: {2f0803a1-9988-449c-8e22-77374517cc6f} | BX104: {ddfe40c9-1ae7-4ff5-93de-0a1c9de020eb} | CL104: 1 | CM104: 0
A105: / | D105: SO 410 | J105: Barca- Čaňa, Železničný zvršok | AG105: ='SO 410 - Železničný zvršok'!J32 -> 0 | AN105: =SUM(AG105,AT105) -> 0 | AQ105: STA | AS105: 0 | AT105: =ROUND(SUM(AV105:AW105),2) -> 0 | AU105: ='SO 410 - Železničný zvršok'!P132 -> 0 | AV105: ='SO 410 - Železničný zvršok'!J35 -> 0 | AW105: ='SO 410 - Železničný zvršok'!J36 -> 0 | AX105: ='SO 410 - Železničný zvršok'!J37 -> 0 | AY105: ='SO 410 - Železničný zvršok'!J38 -> 0 | AZ105: ='SO 410 - Železničný zvršok'!F35 -> 0 | BA105: ='SO 410 - Železničný zvršok'!F36 -> 0 | BB105: ='SO 410 - Železničný zvršok'!F37 -> 0 | BC105: ='SO 410 - Železničný zvršok'!F38 -> 0 | BD105: ='SO 410 - Železničný zvršok'!F39 -> 0 | BT105: 1 | BV105: IMPORT | BW105: {93ca7183-4309-44fb-b6fd-597ffea12e41} | BX105: {ddfe40c9-1ae7-4ff5-93de-0a1c9de020eb} | CL105: 1 | CM105: 0
A106: / | D106: SO 410.2 | J106: Barca- Čaňa, Železničné priecestie km 362,792 184 | AG106: ='SO 410.2 - Žel. priecestie'!J32 -> 0 | AN106: =SUM(AG106,AT106) -> 0 | AQ106: STA | AS106: 0 | AT106: =ROUND(SUM(AV106:AW106),2) -> 0 | AU106: ='SO 410.2 - Žel. priecestie'!P130 -> 0 | AV106: ='SO 410.2 - Žel. priecestie'!J35 -> 0 | AW106: ='SO 410.2 - Žel. priecestie'!J36 -> 0 | AX106: ='SO 410.2 - Žel. priecestie'!J37 -> 0 | AY106: ='SO 410.2 - Žel. priecestie'!J38 -> 0 | AZ106: ='SO 410.2 - Žel. priecestie'!F35 -> 0 | BA106: ='SO 410.2 - Žel. priecestie'!F36 -> 0 | BB106: ='SO 410.2 - Žel. priecestie'!F37 -> 0 | BC106: ='SO 410.2 - Žel. priecestie'!F38 -> 0 | BD106: ='SO 410.2 - Žel. priecestie'!F39 -> 0 | BT106: 1 | BV106: IMPORT | BW106: {c5230461-acb1-47ee-a7ab-9b8266b5594d} | BX106: {ddfe40c9-1ae7-4ff5-93de-0a1c9de020eb} | CL106: 1 | CM106: 0
A107: / | D107: SO 433 | J107: TIOP Valaliky- ŽSR, Protihlukové steny- Búracie práce | AG107: ='SO 433 - PHS - Búracie práce'!J32 -> 0 | AN107: =SUM(AG107,AT107) -> 0 | AQ107: STA | AS107: 0 | AT107: =ROUND(SUM(AV107:AW107),2) -> 0 | AU107: ='SO 433 - PHS - Búracie práce'!P130 -> 0 | AV107: ='SO 433 - PHS - Búracie práce'!J35 -> 0 | AW107: ='SO 433 - PHS - Búracie práce'!J36 -> 0 | AX107: ='SO 433 - PHS - Búracie práce'!J37 -> 0 | AY107: ='SO 433 - PHS - Búracie práce'!J38 -> 0 | AZ107: ='SO 433 - PHS - Búracie práce'!F35 -> 0 | BA107: ='SO 433 - PHS - Búracie práce'!F36 -> 0 | BB107: ='SO 433 - PHS - Búracie práce'!F37 -> 0 | BC107: ='SO 433 - PHS - Búracie práce'!F38 -> 0 | BD107: ='SO 433 - PHS - Búracie práce'!F39 -> 0 | BT107: 1 | BV107: IMPORT | BW107: {c13c4c90-e40a-47ad-98df-14e4c20494e4} | BX107: {ddfe40c9-1ae7-4ff5-93de-0a1c9de020eb} | CL107: 1 | CM107: 0
A108: / | D108: SO 442 | J108: Barca-Čaňa, prípojka NN pre PZZ v žkm 362,792 184 | AG108: ='SO 442 - NN prípojka PZZ'!J32 -> 0 | AN108: =SUM(AG108,AT108) -> 0 | AQ108: STA | AS108: 0 | AT108: =ROUND(SUM(AV108:AW108),2) -> 0 | AU108: ='SO 442 - NN prípojka PZZ'!P134 -> 0 | AV108: ='SO 442 - NN prípojka PZZ'!J35 -> 0 | AW108: ='SO 442 - NN prípojka PZZ'!J36 -> 0 | AX108: ='SO 442 - NN prípojka PZZ'!J37 -> 0 | AY108: ='SO 442 - NN prípojka PZZ'!J38 -> 0 | AZ108: ='SO 442 - NN prípojka PZZ'!F35 -> 0 | BA108: ='SO 442 - NN prípojka PZZ'!F36 -> 0 | BB108: ='SO 442 - NN prípojka PZZ'!F37 -> 0 | BC108: ='SO 442 - NN prípojka PZZ'!F38 -> 0 | BD108: ='SO 442 - NN prípojka PZZ'!F39 -> 0 | BT108: 1 | BV108: IMPORT | BW108: {0c44c09b-45e1-42c5-9b15-bd00a167fa03} | BX108: {ddfe40c9-1ae7-4ff5-93de-0a1c9de020eb} | CL108: 1 | CM108: 0
A109: / | D109: SO 659.1 | J109: Verejné osvetlenie cyklochodníka - kataster Valaliky a NN prípojky - Úprava a rozšírenie | AG109: ='SO 659.1 - VO - Úprava'!J32 -> 0 | AN109: =SUM(AG109,AT109) -> 0 | AQ109: STA | AS109: 0 | AT109: =ROUND(SUM(AV109:AW109),2) -> 0 | AU109: ='SO 659.1 - VO - Úprava'!P133 -> 0 | AV109: ='SO 659.1 - VO - Úprava'!J35 -> 0 | AW109: ='SO 659.1 - VO - Úprava'!J36 -> 0 | AX109: ='SO 659.1 - VO - Úprava'!J37 -> 0 | AY109: ='SO 659.1 - VO - Úprava'!J38 -> 0 | AZ109: ='SO 659.1 - VO - Úprava'!F35 -> 0 | BA109: ='SO 659.1 - VO - Úprava'!F36 -> 0 | BB109: ='SO 659.1 - VO - Úprava'!F37 -> 0 | BC109: ='SO 659.1 - VO - Úprava'!F38 -> 0 | BD109: ='SO 659.1 - VO - Úprava'!F39 -> 0 | BT109: 1 | BV109: IMPORT | BW109: {564af72b-1c0a-40e1-9437-94b846524baa} | BX109: {ddfe40c9-1ae7-4ff5-93de-0a1c9de020eb} | CL109: 1 | CM109: 0
A110: / | D110: D3 | J110: Dopravné značenie MK Valaliky - Nové Koščany | AG110: ='D3 - Dopravné značenie'!J32 -> 0 | AN110: =SUM(AG110,AT110) -> 0 | AQ110: STA | AS110: 0 | AT110: =ROUND(SUM(AV110:AW110),2) -> 0 | AU110: ='D3 - Dopravné značenie'!P128 -> 0 | AV110: ='D3 - Dopravné značenie'!J35 -> 0 | AW110: ='D3 - Dopravné značenie'!J36 -> 0 | AX110: ='D3 - Dopravné značenie'!J37 -> 0 | AY110: ='D3 - Dopravné značenie'!J38 -> 0 | AZ110: ='D3 - Dopravné značenie'!F35 -> 0 | BA110: ='D3 - Dopravné značenie'!F36 -> 0 | BB110: ='D3 - Dopravné značenie'!F37 -> 0 | BC110: ='D3 - Dopravné značenie'!F38 -> 0 | BD110: ='D3 - Dopravné značenie'!F39 -> 0 | BT110: 1 | BV110: IMPORT | BW110: {5ebffb9b-983d-463b-902a-693acf7b890e} | BX110: {ddfe40c9-1ae7-4ff5-93de-0a1c9de020eb} | CL110: 1 | CM110: 0

Sheet PS 309 - PZZ žkm 362,792 184
AT2: {b1f6e103-0acb-456e-a8ce-1a3d1e5c8a7c}
AT3: 0
D4: KRYCÍ LIST ROZPOČTU | M4: v --- nižšie sa nachádzajú doplnkové a pomocné údaje k zostavám --- v | AT4: False
D6: Stavba:
E7: ='Rekapitulácia objektov stavby'!K6 -> Strategické územie Valalíky
D8: Objekt:
E9: PS 309 - PZZ v žkm 362,792 184
D11: JKSO: | F11: 1 | I11: ČS: | J11: 1
D12: Miesto: | F12: kú: Valaliky, kú: Barca, kú: Čaňa | I12: Dátum: | J12: ='Rekapitulácia objektov stavby'!AN8 -> 27. 7. 2026
D14: Objednávateľ: | I14: IČO: | J14: 1
E15: Valaliky Industrial Park, s.r.o., Bratislava | I15: IČ DPH: | J15: 1
D17: Zhotoviteľ: | I17: IČO: | J17: ='Rekapitulácia objektov stavby'!AN13 -> 0
E18: ='Rekapitulácia objektov stavby'!E14 -> 0 | I18: IČ DPH: | J18: ='Rekapitulácia objektov stavby'!AN14 -> 0
D20: Projektant: | I20: IČO: | J20: 1
E21: RRi design, spol. s r.o., Košice | I21: IČ DPH: | J21: 1
D23: Spracovateľ: | I23: IČO: | J23: =IF('Rekapitulácia objektov stavby'!AN19="","",'Rekapitulácia objektov stavby'!AN19) -> 1
E24: =IF('Rekapitulácia objektov stavby'!E20="","",'Rekapitulácia objektov stavby'!E20) | I24: IČ DPH: | J24: =IF('Rekapitulácia objektov stavby'!AN20="","",'Rekapitulácia objektov stavby'!AN20) -> 1
D26: Poznámka:
E27: 1
D30: Náklady z rozpočtu | J30: =J96 -> 0
D31: Ostatné náklady | J31: =J104 -> 0
D32: Cena bez DPH | J32: =ROUND(J30 + J31, 2) -> 0
F34: Základ dane | I34: Sadzba dane | J34: Výška dane
D35: DPH | E35: základná | F35: =ROUND((SUM(BE104:BE111) + SUM(BE131:BE262)), 2) -> 0 | I35: 0.23 | J35: =ROUND(((SUM(BE104:BE111) + SUM(BE131:BE262))*I35), 2) -> 0
E36: znížená | F36: =ROUND((SUM(BF104:BF111) + SUM(BF131:BF262)), 2) -> 0 | I36: 0.23 | J36: =ROUND(((SUM(BF104:BF111) + SUM(BF131:BF262))*I36), 2) -> 0
E37: zákl. prenesená | F37: =ROUND((SUM(BG104:BG111) + SUM(BG131:BG262)), 2) -> 0 | I37: 0.23 | J37: =0 -> 0
E38: zníž. prenesená | F38: =ROUND((SUM(BH104:BH111) + SUM(BH131:BH262)), 2) -> 0 | I38: 0.23 | J38: =0 -> 0
E39: nulová | F39: =ROUND((SUM(BI104:BI111) + SUM(BI131:BI262)), 2) -> 0 | I39: 0 | J39: =0 -> 0
D41: Cena s DPH | G41: v | H41: EUR | J41: =SUM(J32:J39) -> 0
D50: Projektant | G50: Spracovateľ
D61: Dátum a podpis: | F61: Pečiatka | G61: Dátum a podpis: | J61: Pečiatka
D65: Objednávateľ | G65: Zhotoviteľ
D76: Dátum a podpis: | F76: Pečiatka | G76: Dátum a podpis: | J76: Pečiatka
C82: REKAPITULÁCIA ROZPOČTU
C84: Stavba:
E85: =E7 -> Strategické územie Valalíky
C86: Objekt:
E87: =E9 -> PS 309 - PZZ v žkm 362,792 184
C89: Miesto: | F89: =F12 -> kú: Valaliky, kú: Barca, kú: Čaňa | I89: Dátum: | J89: =IF(J12="","",J12) -> 27. 7. 2026
C91: Objednávateľ: | F91: =E15 -> Valaliky Industrial Park, s.r.o., Bratislava | I91: Projektant: | J91: =E21 -> RRi design, spol. s r.o., Košice
C92: Zhotoviteľ: | F92: =IF(E18="","",E18) -> 0 | I92: Spracovateľ: | J92: =E24
C94: Kód dielu - Popis | J94: Cena celkom [EUR]
C96: 1) Náklady z rozpočtu | J96: =J131 -> 0 | AU96: -1
D97: M - Práce a dodávky M | J97: =J132 -> 0
D98: 1 - Materiál | J98: =J133 -> 0
D99: 22-M - Montáže oznam. a zabezp. zariadení | J99: =J191 -> 0
D100: 46-M - Zemné práce pri extr. mont. prácach | J100: =J241 -> 0
D101: 84-M - Geodetické práce | J101: =J261 -> 0
C104: 2) Ostatné náklady | J104: =ROUND(J105 + J106 + J107 + J108 + J109 + J110,2) -> 0 | N104: DPH
D105: GZS | J105: 0 | N105: znížená | AY105: VRN | BE105: =IF(N105="základná",J105,0) -> 0 | BF105: =IF(N105="znížená",J105,0) -> 0 | BG105: =IF(N105="zákl. prenesená",J105,0) -> 0 | BH105: =IF(N105="zníž. prenesená",J105,0) -> 0 | BI105: =IF(N105="nulová",J105,0) -> 0 | BJ105: 2
D106: Projektové práce | J106: 0 | N106: znížená | AY106: VRN | BE106: =IF(N106="základná",J106,0) -> 0 | BF106: =IF(N106="znížená",J106,0) -> 0 | BG106: =IF(N106="zákl. prenesená",J106,0) -> 0 | BH106: =IF(N106="zníž. prenesená",J106,0) -> 0 | BI106: =IF(N106="nulová",J106,0) -> 0 | BJ106: 2
D107: Sťažené podmienky | J107: 0 | N107: znížená | AY107: VRN | BE107: =IF(N107="základná",J107,0) -> 0 | BF107: =IF(N107="znížená",J107,0) -> 0 | BG107: =IF(N107="zákl. prenesená",J107,0) -> 0 | BH107: =IF(N107="zníž. prenesená",J107,0) -> 0 | BI107: =IF(N107="nulová",J107,0) -> 0 | BJ107: 2
D108: Vplyv prostredia | J108: 0 | N108: znížená | AY108: VRN | BE108: =IF(N108="základná",J108,0) -> 0 | BF108: =IF(N108="znížená",J108,0) -> 0 | BG108: =IF(N108="zákl. prenesená",J108,0) -> 0 | BH108: =IF(N108="zníž. prenesená",J108,0) -> 0 | BI108: =IF(N108="nulová",J108,0) -> 0 | BJ108: 2
D109: Iné VRN | J109: 0 | N109: znížená | AY109: VRN | BE109: =IF(N109="základná",J109,0) -> 0 | BF109: =IF(N109="znížená",J109,0) -> 0 | BG109: =IF(N109="zákl. prenesená",J109,0) -> 0 | BH109: =IF(N109="zníž. prenesená",J109,0) -> 0 | BI109: =IF(N109="nulová",J109,0) -> 0 | BJ109: 2
D110: Kompletačná činnosť | J110: =ROUND(J30*T110,2) -> 0 | N110: znížená | AY110: KOMPLETACNA | BE110: =IF(N110="základná",J110,0) -> 0 | BF110: =IF(N110="znížená",J110,0) -> 0 | BG110: =IF(N110="zákl. prenesená",J110,0) -> 0 | BH110: =IF(N110="zníž. prenesená",J110,0) -> 0 | BI110: =IF(N110="nulová",J110,0) -> 0 | BJ110: 2
C112: Celkové náklady za stavbu 1) + 2) | J112: =ROUND(J96+J104,2) -> 0
C118: ROZPOČET
C120: Stavba:
E121: =E7 -> Strategické územie Valalíky
C122: Objekt:
E123: =E9 -> PS 309 - PZZ v žkm 362,792 184
C125: Miesto: | F125: =F12 -> kú: Valaliky, kú: Barca, kú: Čaňa | I125: Dátum: | J125: =IF(J12="","",J12) -> 27. 7. 2026
C127: Objednávateľ: | F127: =E15 -> Valaliky Industrial Park, s.r.o., Bratislava | I127: Projektant: | J127: =E21 -> RRi design, spol. s r.o., Košice
C128: Zhotoviteľ: | F128: =IF(E18="","",E18) -> 0 | I128: Spracovateľ: | J128: =E24
C130: PČ | D130: Typ | E130: Kód | F130: Popis | G130: MJ | H130: Množstvo | I130: J.cena [EUR] | J130: Cena celkom [EUR] | K130: Cenová sústava | M130: 1 | N130: DPH | O130: J. Nh [h] | P130: Nh celkom [h] | Q130: J. hmotnosť [t] | R130: Hmotnosť celkom [t] | S130: J. suť [t] | T130: Suť Celkom [t]
C131: Náklady z rozpočtu | J131: =BK131 -> 0 | P131: =P132 -> 0 | R131: =R132 -> 0 | T131: =T132 -> 0 | AT131: D | AU131: -1 | BK131: =BK132 -> 0
D132: D | E132: M | F132: Práce a dodávky M | J132: =BK132 -> 0 | P132: =P133+P191+P241+P261 -> 0 | R132: =R133+R191+R241+R261 -> 0 | T132: =T133+T191+T241+T261 -> 0 | AR132: 1 | AT132: D | AU132: 0 | AY132: ROZPOCET | BK132: =BK133+BK191+BK241+BK261 -> 0
D133: D | E133: 1 | F133: Materiál | J133: =BK133 -> 0 | P133: =SUM(P134:P190) -> 0 | R133: =SUM(R134:R190) -> 0 | T133: =SUM(T134:T190) -> 0 | AR133: 1 | AT133: D | AU133: 1 | AY133: ROZPOCET | BK133: =SUM(BK134:BK190) -> 0
C134: 1 | D134: M | E134: 22086007610 | F134: Výstražník LED | G134: ks | H134: 6 | J134: =ROUND(I134*H134,2) -> 0 | M134: 1 | N134: znížená | P134: =O134*H134 -> 0 | Q134: 0 | R134: =Q134*H134 -> 0 | S134: 0 | T134: =S134*H134 -> 0 | AR134: 128 | AT134: M | AU134: 2 | AY134: ROZPOCET | BE134: =IF(N134="základná",J134,0) -> 0 | BF134: =IF(N134="znížená",J134,0) -> 0 | BG134: =IF(N134="zákl. prenesená",J134,0) -> 0 | BH134: =IF(N134="zníž. prenesená",J134,0) -> 0 | BI134: =IF(N134="nulová",J134,0) -> 0 | BJ134: 2 | BK134: =ROUND(I134*H134,2) -> 0 | BL134: 128 | BM134: -910749827
C135: 2 | D135: M | E135: 22086007608 | F135: Elektronický zvon ZV02 č.v. 70 839 A | G135: ks | H135: 6 | J135: =ROUND(I135*H135,2) -> 0 | M135: 1 | N135: znížená | P135: =O135*H135 -> 0 | Q135: 0 | R135: =Q135*H135 -> 0 | S135: 0 | T135: =S135*H135 -> 0 | AR135: 128 | AT135: M | AU135: 2 | AY135: ROZPOCET | BE135: =IF(N135="základná",J135,0) -> 0 | BF135: =IF(N135="znížená",J135,0) -> 0 | BG135: =IF(N135="zákl. prenesená",J135,0) -> 0 | BH135: =IF(N135="zníž. prenesená",J135,0) -> 0 | BI135: =IF(N135="nulová",J135,0) -> 0 | BJ135: 2 | BK135: =ROUND(I135*H135,2) -> 0 | BL135: 128 | BM135: 1282102444
C136: 3 | D136: M | E136: 22086007110 | F136: Brvno závory s unášačom 5,0m | G136: ks | H136: 2 | J136: =ROUND(I136*H136,2) -> 0 | M136: 1 | N136: znížená | P136: =O136*H136 -> 0 | Q136: 0 | R136: =Q136*H136 -> 0 | S136: 0 | T136: =S136*H136 -> 0 | AR136: 128 | AT136: M | AU136: 2 | AY136: ROZPOCET | BE136: =IF(N136="základná",J136,0) -> 0 | BF136: =IF(N136="znížená",J136,0) -> 0 | BG136: =IF(N136="zákl. prenesená",J136,0) -> 0 | BH136: =IF(N136="zníž. prenesená",J136,0) -> 0 | BI136: =IF(N136="nulová",J136,0) -> 0 | BJ136: 2 | BK136: =ROUND(I136*H136,2) -> 0 | BL136: 128 | BM136: 2138880826
C137: 4 | D137: M | E137: 22086007111 | F137: Brvno závory s unášačom 5,5m | G137: ks | H137: 2 | J137: =ROUND(I137*H137,2) -> 0 | M137: 1 | N137: znížená | P137: =O137*H137 -> 0 | Q137: 0 | R137: =Q137*H137 -> 0 | S137: 0 | T137: =S137*H137 -> 0 | AR137: 128 | AT137: M | AU137: 2 | AY137: ROZPOCET | BE137: =IF(N137="základná",J137,0) -> 0 | BF137: =IF(N137="znížená",J137,0) -> 0 | BG137: =IF(N137="zákl. prenesená",J137,0) -> 0 | BH137: =IF(N137="zníž. prenesená",J137,0) -> 0 | BI137: =IF(N137="nulová",J137,0) -> 0 | BJ137: 2 | BK137: =ROUND(I137*H137,2) -> 0 | BL137: 128 | BM137: 413589439
C138: 5 | D138: M | E138: 22086007112 | F138: Brvno závory s unášačom 6,5m | G138: ks | H138: 2 | J138: =ROUND(I138*H138,2) -> 0 | M138: 1 | N138: znížená | P138: =O138*H138 -> 0 | Q138: 0 | R138: =Q138*H138 -> 0 | S138: 0 | T138: =S138*H138 -> 0 | AR138: 128 | AT138: M | AU138: 2 | AY138: ROZPOCET | BE138: =IF(N138="základná",J138,0) -> 0 | BF138: =IF(N138="znížená",J138,0) -> 0 | BG138: =IF(N138="zákl. prenesená",J138,0) -> 0 | BH138: =IF(N138="zníž. prenesená",J138,0) -> 0 | BI138: =IF(N138="nulová",J138,0) -> 0 | BJ138: 2 | BK138: =ROUND(I138*H138,2) -> 0 | BL138: 128 | BM138: -514033228
C139: 6 | D139: M | E139: 22086007119 | F139: Krídla s protizávažím | G139: ks | H139: 6 | J139: =ROUND(I139*H139,2) -> 0 | M139: 1 | N139: znížená | P139: =O139*H139 -> 0 | Q139: 0 | R139: =Q139*H139 -> 0 | S139: 0 | T139: =S139*H139 -> 0 | AR139: 128 | AT139: M | AU139: 2 | AY139: ROZPOCET | BE139: =IF(N139="základná",J139,0) -> 0 | BF139: =IF(N139="znížená",J139,0) -> 0 | BG139: =IF(N139="zákl. prenesená",J139,0) -> 0 | BH139: =IF(N139="zníž. prenesená",J139,0) -> 0 | BI139: =IF(N139="nulová",J139,0) -> 0 | BJ139: 2 | BK139: =ROUND(I139*H139,2) -> 0 | BL139: 128 | BM139: -246281914
C140: 7 | D140: M | E140: 22086007510 | F140: Stajan závory s pohonom pre jeden výstražník, vrátane konzoly pre dopravnú značku | G140: ks | H140: 6 | J140: =ROUND(I140*H140,2) -> 0 | M140: 1 | N140: znížená | P140: =O140*H140 -> 0 | Q140: 0 | R140: =Q140*H140 -> 0 | S140: 0 | T140: =S140*H140 -> 0 | AR140: 128 | AT140: M | AU140: 2 | AY140: ROZPOCET | BE140: =IF(N140="základná",J140,0) -> 0 | BF140: =IF(N140="znížená",J140,0) -> 0 | BG140: =IF(N140="zákl. prenesená",J140,0) -> 0 | BH140: =IF(N140="zníž. prenesená",J140,0) -> 0 | BI140: =IF(N140="nulová",J140,0) -> 0 | BJ140: 2 | BK140: =ROUND(I140*H140,2) -> 0 | BL140: 128 | BM140: 2004462610
C141: 8 | D141: M | E141: 22083007001 | F141: Kľúč skrutkového záveru č.v. 72 104 A | G141: ks | H141: 1 | J141: =ROUND(I141*H141,2) -> 0 | M141: 1 | N141: znížená | P141: =O141*H141 -> 0 | Q141: 0 | R141: =Q141*H141 -> 0 | S141: 0 | T141: =S141*H141 -> 0 | AR141: 128 | AT141: M | AU141: 2 | AY141: ROZPOCET | BE141: =IF(N141="základná",J141,0) -> 0 | BF141: =IF(N141="znížená",J141,0) -> 0 | BG141: =IF(N141="zákl. prenesená",J141,0) -> 0 | BH141: =IF(N141="zníž. prenesená",J141,0) -> 0 | BI141: =IF(N141="nulová",J141,0) -> 0 | BJ141: 2 | BK141: =ROUND(I141*H141,2) -> 0 | BL141: 128 | BM141: -1048287230
C142: 9 | D142: M | E142: 22086007605 | F142: Schody viacúčelové EN131 | G142: ks | H142: 1 | J142: =ROUND(I142*H142,2) -> 0 | M142: 1 | N142: znížená | P142: =O142*H142 -> 0 | Q142: 0 | R142: =Q142*H142 -> 0 | S142: 0 | T142: =S142*H142 -> 0 | AR142: 128 | AT142: M | AU142: 2 | AY142: ROZPOCET | BE142: =IF(N142="základná",J142,0) -> 0 | BF142: =IF(N142="znížená",J142,0) -> 0 | BG142: =IF(N142="zákl. prenesená",J142,0) -> 0 | BH142: =IF(N142="zníž. prenesená",J142,0) -> 0 | BI142: =IF(N142="nulová",J142,0) -> 0 | BJ142: 2 | BK142: =ROUND(I142*H142,2) -> 0 | BL142: 128 | BM142: -75729149
C143: 10 | D143: M | E143: 22083001215 | F143: Betónový základ TIIIZ | G143: ks | H143: 6 | J143: =ROUND(I143*H143,2) -> 0 | M143: 1 | N143: znížená | P143: =O143*H143 -> 0 | Q143: 0 | R143: =Q143*H143 -> 0 | S143: 0 | T143: =S143*H143 -> 0 | AR143: 128 | AT143: M | AU143: 2 | AY143: ROZPOCET | BE143: =IF(N143="základná",J143,0) -> 0 | BF143: =IF(N143="znížená",J143,0) -> 0 | BG143: =IF(N143="zákl. prenesená",J143,0) -> 0 | BH143: =IF(N143="zníž. prenesená",J143,0) -> 0 | BI143: =IF(N143="nulová",J143,0) -> 0 | BJ143: 2 | BK143: =ROUND(I143*H143,2) -> 0 | BL143: 128 | BM143: 503690265
C144: 11 | D144: M | E144: 22086008111 | F144: Nálepka pre označenie priecestia - JIČ | G144: ks | H144: 6 | J144: =ROUND(I144*H144,2) -> 0 | M144: 1 | N144: znížená | P144: =O144*H144 -> 0 | Q144: 0 | R144: =Q144*H144 -> 0 | S144: 0 | T144: =S144*H144 -> 0 | AR144: 128 | AT144: M | AU144: 2 | AY144: ROZPOCET | BE144: =IF(N144="základná",J144,0) -> 0 | BF144: =IF(N144="znížená",J144,0) -> 0 | BG144: =IF(N144="zákl. prenesená",J144,0) -> 0 | BH144: =IF(N144="zníž. prenesená",J144,0) -> 0 | BI144: =IF(N144="nulová",J144,0) -> 0 | BJ144: 2 | BK144: =ROUND(I144*H144,2) -> 0 | BL144: 128 | BM144: -1117449713
C145: 12 | D145: M | E145: 2208600611 | F145: Ovládacia skrinka priec. zariadenia, č.v. 72 308d | G145: ks | H145: 1 | J145: =ROUND(I145*H145,2) -> 0 | M145: 1 | N145: znížená | P145: =O145*H145 -> 0 | Q145: 0 | R145: =Q145*H145 -> 0 | S145: 0 | T145: =S145*H145 -> 0 | AR145: 128 | AT145: M | AU145: 2 | AY145: ROZPOCET | BE145: =IF(N145="základná",J145,0) -> 0 | BF145: =IF(N145="znížená",J145,0) -> 0 | BG145: =IF(N145="zákl. prenesená",J145,0) -> 0 | BH145: =IF(N145="zníž. prenesená",J145,0) -> 0 | BI145: =IF(N145="nulová",J145,0) -> 0 | BJ145: 2 | BK145: =ROUND(I145*H145,2) -> 0 | BL145: 128 | BM145: -1732069433
... C190: 57 | D190: M | E190: 22088000811 | F190: Technológia SZZ Valaliky - úprava - SW,HW, prenosové zariadenie, kabelizácia, diagnostika, montáž, dodávateľská dokumentácia | G190: ks | H190: 1 | J190: =ROUND(I190*H190,2) -> 0 | M190: 1 | N190: znížená | P190: =O190*H190 -> 0 | Q190: 0 | R190: =Q190*H190 -> 0 | S190: 0 | T190: =S190*H190 -> 0 | AR190: 128 | AT190: M | AU190: 2 | AY190: ROZPOCET | BE190: =IF(N190="základná",J190,0) -> 0 | BF190: =IF(N190="znížená",J190,0) -> 0 | BG190: =IF(N190="zákl. prenesená",J190,0) -> 0 | BH190: =IF(N190="zníž. prenesená",J190,0) -> 0 | BI190: =IF(N190="nulová",J190,0) -> 0 | BJ190: 2 | BK190: =ROUND(I190*H190,2) -> 0 | BL190: 128 | BM190: 421421521
D191: D | E191: 22-M | F191: Montáže oznam. a zabezp. zariadení | J191: =BK191 -> 0 | P191: =SUM(P192:P240) -> 0 | R191: =SUM(R192:R240) -> 0 | T191: =SUM(T192:T240) -> 0 | AR191: 3 | AT191: D | AU191: 1 | AY191: ROZPOCET | BK191: =SUM(BK192:BK240) -> 0
C192: 58 | D192: K | E192: 220060301 | F192: Príprava bubna,káblov,meranie,rezanie,odpancierovanie,úprava dvoch koncov káblov do 100 žíl | G192: ks | H192: 12 | J192: =ROUND(I192*H192,2) -> 0 | M192: 1 | N192: znížená | P192: =O192*H192 -> 0 | Q192: 0 | R192: =Q192*H192 -> 0 | S192: 0 | T192: =S192*H192 -> 0 | AR192: 64 | AT192: K | AU192: 2 | AY192: ROZPOCET | BE192: =IF(N192="základná",J192,0) -> 0 | BF192: =IF(N192="znížená",J192,0) -> 0 | BG192: =IF(N192="zákl. prenesená",J192,0) -> 0 | BH192: =IF(N192="zníž. prenesená",J192,0) -> 0 | BI192: =IF(N192="nulová",J192,0) -> 0 | BJ192: 2 | BK192: =ROUND(I192*H192,2) -> 0 | BL192: 64 | BM192: -1804874702
C193: 59 | D193: K | E193: 220060342 | F193: Premeranie izolačného stavu a kontinuity žíl kábla,úprava a uzavretie koncov-kábel úložny 20 žíl | G193: ks | H193: 5 | J193: =ROUND(I193*H193,2) -> 0 | M193: 1 | N193: znížená | P193: =O193*H193 -> 0 | Q193: 0 | R193: =Q193*H193 -> 0 | S193: 0 | T193: =S193*H193 -> 0 | AR193: 64 | AT193: K | AU193: 2 | AY193: ROZPOCET | BE193: =IF(N193="základná",J193,0) -> 0 | BF193: =IF(N193="znížená",J193,0) -> 0 | BG193: =IF(N193="zákl. prenesená",J193,0) -> 0 | BH193: =IF(N193="zníž. prenesená",J193,0) -> 0 | BI193: =IF(N193="nulová",J193,0) -> 0 | BJ193: 2 | BK193: =ROUND(I193*H193,2) -> 0 | BL193: 64 | BM193: 151923666
C194: 60 | D194: K | E194: 220060344 | F194: Premeranie izolačného stavu a kontinuity žíl kábla,úprava a uzavretie koncov-kábel úložny 40 žíl | G194: ks | H194: 6 | J194: =ROUND(I194*H194,2) -> 0 | M194: 1 | N194: znížená | P194: =O194*H194 -> 0 | Q194: 0 | R194: =Q194*H194 -> 0 | S194: 0 | T194: =S194*H194 -> 0 | AR194: 64 | AT194: K | AU194: 2 | AY194: ROZPOCET | BE194: =IF(N194="základná",J194,0) -> 0 | BF194: =IF(N194="znížená",J194,0) -> 0 | BG194: =IF(N194="zákl. prenesená",J194,0) -> 0 | BH194: =IF(N194="zníž. prenesená",J194,0) -> 0 | BI194: =IF(N194="nulová",J194,0) -> 0 | BJ194: 2 | BK194: =ROUND(I194*H194,2) -> 0 | BL194: 64 | BM194: -1690373007
C195: 61 | D195: K | E195: 220060345 | F195: Premeranie izolačného stavu a kontinuity žíl kábla,úprava a uzavretie koncov-kábel úložny 60 žíl | G195: ks | H195: 1 | J195: =ROUND(I195*H195,2) -> 0 | M195: 1 | N195: znížená | P195: =O195*H195 -> 0 | Q195: 0 | R195: =Q195*H195 -> 0 | S195: 0 | T195: =S195*H195 -> 0 | AR195: 64 | AT195: K | AU195: 2 | AY195: ROZPOCET | BE195: =IF(N195="základná",J195,0) -> 0 | BF195: =IF(N195="znížená",J195,0) -> 0 | BG195: =IF(N195="zákl. prenesená",J195,0) -> 0 | BH195: =IF(N195="zníž. prenesená",J195,0) -> 0 | BI195: =IF(N195="nulová",J195,0) -> 0 | BJ195: 2 | BK195: =ROUND(I195*H195,2) -> 0 | BL195: 64 | BM195: -1119577606
C196: 62 | D196: K | E196: 220061502 | F196: Montáž(uloženie) do lôžka, káblovodu alebo žľabu návestných káblov TCEKEY,TCEKFE,TCEKFY do 61x2 s jadr.CU 1,0 | G196: m | H196: 1540 | J196: =ROUND(I196*H196,2) -> 0 | M196: 1 | N196: znížená | P196: =O196*H196 -> 0 | Q196: 0 | R196: =Q196*H196 -> 0 | S196: 0 | T196: =S196*H196 -> 0 | AR196: 64 | AT196: K | AU196: 2 | AY196: ROZPOCET | BE196: =IF(N196="základná",J196,0) -> 0 | BF196: =IF(N196="znížená",J196,0) -> 0 | BG196: =IF(N196="zákl. prenesená",J196,0) -> 0 | BH196: =IF(N196="zníž. prenesená",J196,0) -> 0 | BI196: =IF(N196="nulová",J196,0) -> 0 | BJ196: 2 | BK196: =ROUND(I196*H196,2) -> 0 | BL196: 64 | BM196: -1515115859
C197: 63 | D197: K | E197: 220061161 | F197: Montáž(voľné uloženie) do lôžka, káblovodu alebo žľabu vr.uzavr.koncov-TCEKE do 50 XN 0,8 | G197: m | H197: 3270 | J197: =ROUND(I197*H197,2) -> 0 | M197: 1 | N197: znížená | P197: =O197*H197 -> 0 | Q197: 0 | R197: =Q197*H197 -> 0 | S197: 0 | T197: =S197*H197 -> 0 | AR197: 64 | AT197: K | AU197: 2 | AY197: ROZPOCET | BE197: =IF(N197="základná",J197,0) -> 0 | BF197: =IF(N197="znížená",J197,0) -> 0 | BG197: =IF(N197="zákl. prenesená",J197,0) -> 0 | BH197: =IF(N197="zníž. prenesená",J197,0) -> 0 | BI197: =IF(N197="nulová",J197,0) -> 0 | BJ197: 2 | BK197: =ROUND(I197*H197,2) -> 0 | BL197: 64 | BM197: -2000661476
C198: 64 | D198: K | E198: 210810053 | F198: Silový kábel medený 750 - 1000 V /mm2/ pevne uložený CYKY-CYKYm 750 V 5x10 | G198: m | H198: 50 | J198: =ROUND(I198*H198,2) -> 0 | M198: 1 | N198: znížená | P198: =O198*H198 -> 0 | Q198: 0 | R198: =Q198*H198 -> 0 | S198: 0 | T198: =S198*H198 -> 0 | AR198: 64 | AT198: K | AU198: 2 | AY198: ROZPOCET | BE198: =IF(N198="základná",J198,0) -> 0 | BF198: =IF(N198="znížená",J198,0) -> 0 | BG198: =IF(N198="zákl. prenesená",J198,0) -> 0 | BH198: =IF(N198="zníž. prenesená",J198,0) -> 0 | BI198: =IF(N198="nulová",J198,0) -> 0 | BJ198: 2 | BK198: =ROUND(I198*H198,2) -> 0 | BL198: 64 | BM198: -593633887
C199: 65 | D199: K | E199: 210810054 | F199: Silový kábel 750 - 1000 V /mm2/ pevne uložený CYKY-CYKYm 750 V 4x10 | G199: m | H199: 210 | J199: =ROUND(I199*H199,2) -> 0 | M199: 1 | N199: znížená | P199: =O199*H199 -> 0 | Q199: 0 | R199: =Q199*H199 -> 0 | S199: 0 | T199: =S199*H199 -> 0 | AR199: 64 | AT199: K | AU199: 2 | AY199: ROZPOCET | BE199: =IF(N199="základná",J199,0) -> 0 | BF199: =IF(N199="znížená",J199,0) -> 0 | BG199: =IF(N199="zákl. prenesená",J199,0) -> 0 | BH199: =IF(N199="zníž. prenesená",J199,0) -> 0 | BI199: =IF(N199="nulová",J199,0) -> 0 | BJ199: 2 | BK199: =ROUND(I199*H199,2) -> 0 | BL199: 64 | BM199: -490548473
C200: 66 | D200: K | E200: 220080032 | F200: Montáž spojky rovnej S1 (spoj.žíl zátorkami),žily 0,8 bez čislovania, celoplastové káble do 20 žíl | G200: ks | H200: 14 | J200: =ROUND(I200*H200,2) -> 0 | M200: 1 | N200: znížená | P200: =O200*H200 -> 0 | Q200: 0 | R200: =Q200*H200 -> 0 | S200: 0 | T200: =S200*H200 -> 0 | AR200: 64 | AT200: K | AU200: 2 | AY200: ROZPOCET | BE200: =IF(N200="základná",J200,0) -> 0 | BF200: =IF(N200="znížená",J200,0) -> 0 | BG200: =IF(N200="zákl. prenesená",J200,0) -> 0 | BH200: =IF(N200="zníž. prenesená",J200,0) -> 0 | BI200: =IF(N200="nulová",J200,0) -> 0 | BJ200: 2 | BK200: =ROUND(I200*H200,2) -> 0 | BL200: 64 | BM200: 1732934554
C201: 67 | D201: K | E201: 220080126 | F201: Montáž spojky rovnej S1 pre oznamovacie a ovládacie káble s pancierom, párové, žily 1,0 mm do 48 žíl | G201: ks | H201: 5 | J201: =ROUND(I201*H201,2) -> 0 | M201: 1 | N201: znížená | P201: =O201*H201 -> 0 | Q201: 0 | R201: =Q201*H201 -> 0 | S201: 0 | T201: =S201*H201 -> 0 | AR201: 64 | AT201: K | AU201: 2 | AY201: ROZPOCET | BE201: =IF(N201="základná",J201,0) -> 0 | BF201: =IF(N201="znížená",J201,0) -> 0 | BG201: =IF(N201="zákl. prenesená",J201,0) -> 0 | BH201: =IF(N201="zníž. prenesená",J201,0) -> 0 | BI201: =IF(N201="nulová",J201,0) -> 0 | BJ201: 2 | BK201: =ROUND(I201*H201,2) -> 0 | BL201: 64 | BM201: -75513277
C202: 68 | D202: K | E202: 220261145 | F202: Príchytka káblová SONAP, pripevnenie káblovej príchytky na konštrukciu 41 - 54, č.v. 637554 | G202: ks | H202: 1 | J202: =ROUND(I202*H202,2) -> 0 | M202: 1 | N202: znížená | P202: =O202*H202 -> 0 | Q202: 0 | R202: =Q202*H202 -> 0 | S202: 0 | T202: =S202*H202 -> 0 | AR202: 64 | AT202: K | AU202: 2 | AY202: ROZPOCET | BE202: =IF(N202="základná",J202,0) -> 0 | BF202: =IF(N202="znížená",J202,0) -> 0 | BG202: =IF(N202="zákl. prenesená",J202,0) -> 0 | BH202: =IF(N202="zníž. prenesená",J202,0) -> 0 | BI202: =IF(N202="nulová",J202,0) -> 0 | BJ202: 2 | BK202: =ROUND(I202*H202,2) -> 0 | BL202: 64 | BM202: 1611527492
C203: 69 | D203: K | E203: 220261144 | F203: Príchytka káblová SONAP, pripevnenie káblovej príchytky na konštrukciu 29 -40, č.v. 637540 | G203: ks | H203: 18 | J203: =ROUND(I203*H203,2) -> 0 | M203: 1 | N203: znížená | P203: =O203*H203 -> 0 | Q203: 0 | R203: =Q203*H203 -> 0 | S203: 0 | T203: =S203*H203 -> 0 | AR203: 64 | AT203: K | AU203: 2 | AY203: ROZPOCET | BE203: =IF(N203="základná",J203,0) -> 0 | BF203: =IF(N203="znížená",J203,0) -> 0 | BG203: =IF(N203="zákl. prenesená",J203,0) -> 0 | BH203: =IF(N203="zníž. prenesená",J203,0) -> 0 | BI203: =IF(N203="nulová",J203,0) -> 0 | BJ203: 2 | BK203: =ROUND(I203*H203,2) -> 0 | BL203: 64 | BM203: -433772165
... C240: 105 | D240: K | E240: 22088016502 | F240: Dokumentácia skutočného vyhotovenia | G240: ks | H240: 1 | J240: =ROUND(I240*H240,2) -> 0 | M240: 1 | N240: znížená | P240: =O240*H240 -> 0 | Q240: 0 | R240: =Q240*H240 -> 0 | S240: 0 | T240: =S240*H240 -> 0 | AR240: 64 | AT240: K | AU240: 2 | AY240: ROZPOCET | BE240: =IF(N240="základná",J240,0) -> 0 | BF240: =IF(N240="znížená",J240,0) -> 0 | BG240: =IF(N240="zákl. prenesená",J240,0) -> 0 | BH240: =IF(N240="zníž. prenesená",J240,0) -> 0 | BI240: =IF(N240="nulová",J240,0) -> 0 | BJ240: 2 | BK240: =ROUND(I240*H240,2) -> 0 | BL240: 64 | BM240: -2003278575
D241: D | E241: 46-M | F241: Zemné práce pri extr. mont. prácach | J241: =BK241 -> 0 | P241: =SUM(P242:P260) -> 0 | R241: =SUM(R242:R260) -> 0 | T241: =SUM(T242:T260) -> 0 | AR241: 3 | AT241: D | AU241: 1 | AY241: ROZPOCET | BK241: =SUM(BK242:BK260) -> 0
C242: 107 | D242: K | E242: 460010021 | F242: Vytýčenie trasy káblového vedenia | G242: km | H242: 2.45 | J242: =ROUND(I242*H242,2) -> 0 | M242: 1 | N242: znížená | P242: =O242*H242 -> 0 | Q242: 0 | R242: =Q242*H242 -> 0 | S242: 0 | T242: =S242*H242 -> 0 | AR242: 64 | AT242: K | AU242: 2 | AY242: ROZPOCET | BE242: =IF(N242="základná",J242,0) -> 0 | BF242: =IF(N242="znížená",J242,0) -> 0 | BG242: =IF(N242="zákl. prenesená",J242,0) -> 0 | BH242: =IF(N242="zníž. prenesená",J242,0) -> 0 | BI242: =IF(N242="nulová",J242,0) -> 0 | BJ242: 2 | BK242: =ROUND(I242*H242,2) -> 0 | BL242: 64 | BM242: 1906129480
C243: 108 | D243: K | E243: 460200164 | F243: Hĺbenie káblovej ryhy 35 cm širokej a 80 cm hlbokej, v zemine triedy 4 | G243: m | H243: 1740 | J243: =ROUND(I243*H243,2) -> 0 | M243: 1 | N243: znížená | P243: =O243*H243 -> 0 | Q243: 0 | R243: =Q243*H243 -> 0 | S243: 0 | T243: =S243*H243 -> 0 | AR243: 64 | AT243: K | AU243: 2 | AY243: ROZPOCET | BE243: =IF(N243="základná",J243,0) -> 0 | BF243: =IF(N243="znížená",J243,0) -> 0 | BG243: =IF(N243="zákl. prenesená",J243,0) -> 0 | BH243: =IF(N243="zníž. prenesená",J243,0) -> 0 | BI243: =IF(N243="nulová",J243,0) -> 0 | BJ243: 2 | BK243: =ROUND(I243*H243,2) -> 0 | BL243: 64 | BM243: 610654973
C244: 109 | D244: K | E244: 460200134 | F244: Hĺbenie káblovej ryhy 35 cm širokej a 50 cm hlbokej, v zemine triedy 4 | G244: m | H244: 410 | J244: =ROUND(I244*H244,2) -> 0 | M244: 1 | N244: znížená | P244: =O244*H244 -> 0 | Q244: 0 | R244: =Q244*H244 -> 0 | S244: 0 | T244: =S244*H244 -> 0 | AR244: 64 | AT244: K | AU244: 2 | AY244: ROZPOCET | BE244: =IF(N244="základná",J244,0) -> 0 | BF244: =IF(N244="znížená",J244,0) -> 0 | BG244: =IF(N244="zákl. prenesená",J244,0) -> 0 | BH244: =IF(N244="zníž. prenesená",J244,0) -> 0 | BI244: =IF(N244="nulová",J244,0) -> 0 | BJ244: 2 | BK244: =ROUND(I244*H244,2) -> 0 | BL244: 64 | BM244: 1864864445
C245: 110 | D245: K | E245: 460200684 | F245: Hĺbenie káblovej ryhy 65 cm širokej a 120 cm hlbokej, v zemine triedy 4 | G245: m | H245: 60 | J245: =ROUND(I245*H245,2) -> 0 | M245: 1 | N245: znížená | P245: =O245*H245 -> 0 | Q245: 0 | R245: =Q245*H245 -> 0 | S245: 0 | T245: =S245*H245 -> 0 | AR245: 64 | AT245: K | AU245: 2 | AY245: ROZPOCET | BE245: =IF(N245="základná",J245,0) -> 0 | BF245: =IF(N245="znížená",J245,0) -> 0 | BG245: =IF(N245="zákl. prenesená",J245,0) -> 0 | BH245: =IF(N245="zníž. prenesená",J245,0) -> 0 | BI245: =IF(N245="nulová",J245,0) -> 0 | BJ245: 2 | BK245: =ROUND(I245*H245,2) -> 0 | BL245: 64 | BM245: -1575571281
...

Sheet PS 301.1 - TZZ - Úprava
AT2: {feb2e094-1f62-4e8e-a5df-a6a4483983e9}
AT3: 0
D4: KRYCÍ LIST ROZPOČTU | M4: v --- nižšie sa nachádzajú doplnkové a pomocné údaje k zostavám --- v | AT4: False
D6: Stavba:
E7: ='Rekapitulácia objektov stavby'!K6 -> Strategické územie Valalíky
D8: Objekt:
E9: PS 301.1 - Čaňa - Valaliky, TZZ, - Úprava
D11: JKSO: | F11: 1 | I11: ČS: | J11: 1
D12: Miesto: | F12: kú: Valaliky, kú: Barca, kú: Čaňa | I12: Dátum: | J12: ='Rekapitulácia objektov stavby'!AN8 -> 27. 7. 2026
D14: Objednávateľ: | I14: IČO: | J14: 1
E15: Valaliky Industrial Park, s.r.o., Bratislava | I15: IČ DPH: | J15: 1
D17: Zhotoviteľ: | I17: IČO: | J17: ='Rekapitulácia objektov stavby'!AN13 -> 0
E18: ='Rekapitulácia objektov stavby'!E14 -> 0 | I18: IČ DPH: | J18: ='Rekapitulácia objektov stavby'!AN14 -> 0
D20: Projektant: | I20: IČO: | J20: 1
E21: RRi design, spol. s r.o., Košice | I21: IČ DPH: | J21: 1
D23: Spracovateľ: | I23: IČO: | J23: =IF('Rekapitulácia objektov stavby'!AN19="","",'Rekapitulácia objektov stavby'!AN19) -> 1
E24: =IF('Rekapitulácia objektov stavby'!E20="","",'Rekapitulácia objektov stavby'!E20) | I24: IČ DPH: | J24: =IF('Rekapitulácia objektov stavby'!AN20="","",'Rekapitulácia objektov stavby'!AN20) -> 1
D26: Poznámka:
E27: 1
D30: Náklady z rozpočtu | J30: =J96 -> 0
D31: Ostatné náklady | J31: =J102 -> 0
D32: Cena bez DPH | J32: =ROUND(J30 + J31, 2) -> 0
F34: Základ dane | I34: Sadzba dane | J34: Výška dane
D35: DPH | E35: základná | F35: =ROUND((SUM(BE102:BE109) + SUM(BE129:BE149)), 2) -> 0 | I35: 0.23 | J35: =ROUND(((SUM(BE102:BE109) + SUM(BE129:BE149))*I35), 2) -> 0
E36: znížená | F36: =ROUND((SUM(BF102:BF109) + SUM(BF129:BF149)), 2) -> 0 | I36: 0.23 | J36: =ROUND(((SUM(BF102:BF109) + SUM(BF129:BF149))*I36), 2) -> 0
E37: zákl. prenesená | F37: =ROUND((SUM(BG102:BG109) + SUM(BG129:BG149)), 2) -> 0 | I37: 0.23 | J37: =0 -> 0
E38: zníž. prenesená | F38: =ROUND((SUM(BH102:BH109) + SUM(BH129:BH149)), 2) -> 0 | I38: 0.23 | J38: =0 -> 0
E39: nulová | F39: =ROUND((SUM(BI102:BI109) + SUM(BI129:BI149)), 2) -> 0 | I39: 0 | J39: =0 -> 0
D41: Cena s DPH | G41: v | H41: EUR | J41: =SUM(J32:J39) -> 0
D50: Projektant | G50: Spracovateľ
D61: Dátum a podpis: | F61: Pečiatka | G61: Dátum a podpis: | J61: Pečiatka
D65: Objednávateľ | G65: Zhotoviteľ
D76: Dátum a podpis: | F76: Pečiatka | G76: Dátum a podpis: | J76: Pečiatka
C82: REKAPITULÁCIA ROZPOČTU
C84: Stavba:
E85: =E7 -> Strategické územie Valalíky
C86: Objekt:
E87: =E9 -> PS 301.1 - Čaňa - Valaliky, TZZ, - Úprava
C89: Miesto: | F89: =F12 -> kú: Valaliky, kú: Barca, kú: Čaňa | I89: Dátum: | J89: =IF(J12="","",J12) -> 27. 7. 2026
C91: Objednávateľ: | F91: =E15 -> Valaliky Industrial Park, s.r.o., Bratislava | I91: Projektant: | J91: =E21 -> RRi design, spol. s r.o., Košice
C92: Zhotoviteľ: | F92: =IF(E18="","",E18) -> 0 | I92: Spracovateľ: | J92: =E24
C94: Kód dielu - Popis | J94: Cena celkom [EUR]
C96: 1) Náklady z rozpočtu | J96: =J129 -> 0 | AU96: -1
D97: M - Práce a dodávky M | J97: =J130 -> 0
D98: 21-M - Elektromontáže | J98: =J131 -> 0
D99: 22-M - Montáže oznam. a zabezp. zariadení | J99: =J135 -> 0
C102: 2) Ostatné náklady | J102: =ROUND(J103 + J104 + J105 + J106 + J107 + J108,2) -> 0 | N102: DPH
D103: GZS | J103: 0 | N103: znížená | AY103: VRN | BE103: =IF(N103="základná",J103,0) -> 0 | BF103: =IF(N103="znížená",J103,0) -> 0 | BG103: =IF(N103="zákl. prenesená",J103,0) -> 0 | BH103: =IF(N103="zníž. prenesená",J103,0) -> 0 | BI103: =IF(N103="nulová",J103,0) -> 0 | BJ103: 2
D104: Projektové práce | J104: 0 | N104: znížená | AY104: VRN | BE104: =IF(N104="základná",J104,0) -> 0 | BF104: =IF(N104="znížená",J104,0) -> 0 | BG104: =IF(N104="zákl. prenesená",J104,0) -> 0 | BH104: =IF(N104="zníž. prenesená",J104,0) -> 0 | BI104: =IF(N104="nulová",J104,0) -> 0 | BJ104: 2
D105: Sťažené podmienky | J105: 0 | N105: znížená | AY105: VRN | BE105: =IF(N105="základná",J105,0) -> 0 | BF105: =IF(N105="znížená",J105,0) -> 0 | BG105: =IF(N105="zákl. prenesená",J105,0) -> 0 | BH105: =IF(N105="zníž. prenesená",J105,0) -> 0 | BI105: =IF(N105="nulová",J105,0) -> 0 | BJ105: 2
D106: Vplyv prostredia | J106: 0 | N106: znížená | AY106: VRN | BE106: =IF(N106="základná",J106,0) -> 0 | BF106: =IF(N106="znížená",J106,0) -> 0 | BG106: =IF(N106="zákl. prenesená",J106,0) -> 0 | BH106: =IF(N106="zníž. prenesená",J106,0) -> 0 | BI106: =IF(N106="nulová",J106,0) -> 0 | BJ106: 2
D107: Iné VRN | J107: 0 | N107: znížená | AY107: VRN | BE107: =IF(N107="základná",J107,0) -> 0 | BF107: =IF(N107="znížená",J107,0) -> 0 | BG107: =IF(N107="zákl. prenesená",J107,0) -> 0 | BH107: =IF(N107="zníž. prenesená",J107,0) -> 0 | BI107: =IF(N107="nulová",J107,0) -> 0 | BJ107: 2
D108: Kompletačná činnosť | J108: =ROUND(J30*T108,2) -> 0 | N108: znížená | AY108: KOMPLETACNA | BE108: =IF(N108="základná",J108,0) -> 0 | BF108: =IF(N108="znížená",J108,0) -> 0 | BG108: =IF(N108="zákl. prenesená",J108,0) -> 0 | BH108: =IF(N108="zníž. prenesená",J108,0) -> 0 | BI108: =IF(N108="nulová",J108,0) -> 0 | BJ108: 2
C110: Celkové náklady za stavbu 1) + 2) | J110: =ROUND(J96+J102,2) -> 0
C116: ROZPOČET
C118: Stavba:
E119: =E7 -> Strategické územie Valalíky
C120: Objekt:
E121: =E9 -> PS 301.1 - Čaňa - Valaliky, TZZ, - Úprava
C123: Miesto: | F123: =F12 -> kú: Valaliky, kú: Barca, kú: Čaňa | I123: Dátum: | J123: =IF(J12="","",J12) -> 27. 7. 2026
C125: Objednávateľ: | F125: =E15 -> Valaliky Industrial Park, s.r.o., Bratislava | I125: Projektant: | J125: =E21 -> RRi design, spol. s r.o., Košice
C126: Zhotoviteľ: | F126: =IF(E18="","",E18) -> 0 | I126: Spracovateľ: | J126: =E24
C128: PČ | D128: Typ | E128: Kód | F128: Popis | G128: MJ | H128: Množstvo | I128: J.cena [EUR] | J128: Cena celkom [EUR] | K128: Cenová sústava | M128: 1 | N128: DPH | O128: J. Nh [h] | P128: Nh celkom [h] | Q128: J. hmotnosť [t] | R128: Hmotnosť celkom [t] | S128: J. suť [t] | T128: Suť Celkom [t]
C129: Náklady z rozpočtu | J129: =BK129 -> 0 | P129: =P130 -> 0 | R129: =R130 -> 0.015 | T129: =T130 -> 0 | AT129: D | AU129: -1 | BK129: =BK130 -> 0
D130: D | E130: M | F130: Práce a dodávky M | J130: =BK130 -> 0 | P130: =P131+P135 -> 0 | R130: =R131+R135 -> 0.015 | T130: =T131+T135 -> 0 | AR130: 3 | AT130: D | AU130: 0 | AY130: ROZPOCET | BK130: =BK131+BK135 -> 0
D131: D | E131: 21-M | F131: Elektromontáže | J131: =BK131 -> 0 | P131: =SUM(P132:P134) -> 0 | R131: =SUM(R132:R134) -> 0.015 | T131: =SUM(T132:T134) -> 0 | AR131: 3 | AT131: D | AU131: 1 | AY131: ROZPOCET | BK131: =SUM(BK132:BK134) -> 0
C132: 1 | D132: K | E132: 210800623.PC | F132: Vodič NN a VN voľne uložený CYA 1,5 | G132: m | H132: 30 | J132: =ROUND(I132*H132,2) -> 0 | M132: 1 | N132: znížená | P132: =O132*H132 -> 0 | Q132: 0 | R132: =Q132*H132 -> 0 | S132: 0 | T132: =S132*H132 -> 0 | AR132: 64 | AT132: K | AU132: 2 | AY132: ROZPOCET | BE132: =IF(N132="základná",J132,0) -> 0 | BF132: =IF(N132="znížená",J132,0) -> 0 | BG132: =IF(N132="zákl. prenesená",J132,0) -> 0 | BH132: =IF(N132="zníž. prenesená",J132,0) -> 0 | BI132: =IF(N132="nulová",J132,0) -> 0 | BJ132: 2 | BK132: =ROUND(I132*H132,2) -> 0 | BL132: 64 | BM132: -2006547966
C133: 2 | D133: M | E133: 3410422800.PC | F133: Vodič medený U 1x1,0 čierny | G133: m | H133: 30 | J133: =ROUND(I133*H133,2) -> 0 | M133: 1 | N133: znížená | P133: =O133*H133 -> 0 | Q133: 0.0005 | R133: =Q133*H133 -> 0.015 | S133: 0 | T133: =S133*H133 -> 0 | AR133: 256 | AT133: M | AU133: 2 | AY133: ROZPOCET | BE133: =IF(N133="základná",J133,0) -> 0 | BF133: =IF(N133="znížená",J133,0) -> 0 | BG133: =IF(N133="zákl. prenesená",J133,0) -> 0 | BH133: =IF(N133="zníž. prenesená",J133,0) -> 0 | BI133: =IF(N133="nulová",J133,0) -> 0 | BJ133: 2 | BK133: =ROUND(I133*H133,2) -> 0 | BL133: 64 | BM133: 249260896
C134: 3 | D134: K | E134: 320410003.PC | F134: Celková prehliadka el.zariadenia a vyhotovenie revíznej správy do 500 000,- mont. prác | G134: obj | H134: 1 | J134: =ROUND(I134*H134,2) -> 0 | M134: 1 | N134: znížená | P134: =O134*H134 -> 0 | Q134: 0 | R134: =Q134*H134 -> 0 | S134: 0 | T134: =S134*H134 -> 0 | AR134: 64 | AT134: K | AU134: 2 | AY134: ROZPOCET | BE134: =IF(N134="základná",J134,0) -> 0 | BF134: =IF(N134="znížená",J134,0) -> 0 | BG134: =IF(N134="zákl. prenesená",J134,0) -> 0 | BH134: =IF(N134="zníž. prenesená",J134,0) -> 0 | BI134: =IF(N134="nulová",J134,0) -> 0 | BJ134: 2 | BK134: =ROUND(I134*H134,2) -> 0 | BL134: 64 | BM134: 588802359
D135: D | E135: 22-M | F135: Montáže oznam. a zabezp. zariadení | J135: =BK135 -> 0 | P135: =SUM(P136:P149) -> 0 | R135: =SUM(R136:R149) -> 0 | T135: =SUM(T136:T149) -> 0 | AR135: 3 | AT135: D | AU135: 1 | AY135: ROZPOCET | BK135: =SUM(BK136:BK149) -> 0
C136: 4 | D136: K | E136: 220830003.S | F136: Montáž upozorňovadla na stĺp alebo stožiar návestidla AŽD, bez zem.prác,vysokého na stĺp | G136: ks | H136: 6 | J136: =ROUND(I136*H136,2) -> 0 | M136: 1 | N136: znížená | P136: =O136*H136 -> 0 | Q136: 0 | R136: =Q136*H136 -> 0 | S136: 0 | T136: =S136*H136 -> 0 | AR136: 64 | AT136: K | AU136: 2 | AY136: ROZPOCET | BE136: =IF(N136="základná",J136,0) -> 0 | BF136: =IF(N136="znížená",J136,0) -> 0 | BG136: =IF(N136="zákl. prenesená",J136,0) -> 0 | BH136: =IF(N136="zníž. prenesená",J136,0) -> 0 | BI136: =IF(N136="nulová",J136,0) -> 0 | BJ136: 2 | BK136: =ROUND(I136*H136,2) -> 0 | BL136: 64 | BM136: 2092645608
C137: 5 | D137: M | E137: 22083000021.PC | F137: Upozorňovadlo priecestné (návesť 48) s číslom "1" - viaflex | G137: ks | H137: 6 | J137: =ROUND(I137*H137,2) -> 0 | M137: 1 | N137: znížená | P137: =O137*H137 -> 0 | Q137: 0 | R137: =Q137*H137 -> 0 | S137: 0 | T137: =S137*H137 -> 0 | AR137: 256 | AT137: M | AU137: 2 | AY137: ROZPOCET | BE137: =IF(N137="základná",J137,0) -> 0 | BF137: =IF(N137="znížená",J137,0) -> 0 | BG137: =IF(N137="zákl. prenesená",J137,0) -> 0 | BH137: =IF(N137="zníž. prenesená",J137,0) -> 0 | BI137: =IF(N137="nulová",J137,0) -> 0 | BJ137: 2 | BK137: =ROUND(I137*H137,2) -> 0 | BL137: 64 | BM137: -1244878080
C138: 6 | D138: K | E138: 220870161.S | F138: Montáž tlačidla alebo svet.el.bunky do koľaj.dosky alebo pultu za chodu, zapojenie a vyskúšanie | G138: ks | H138: 1 | J138: =ROUND(I138*H138,2) -> 0 | M138: 1 | N138: znížená | P138: =O138*H138 -> 0 | Q138: 0 | R138: =Q138*H138 -> 0 | S138: 0 | T138: =S138*H138 -> 0 | AR138: 64 | AT138: K | AU138: 2 | AY138: ROZPOCET | BE138: =IF(N138="základná",J138,0) -> 0 | BF138: =IF(N138="znížená",J138,0) -> 0 | BG138: =IF(N138="zákl. prenesená",J138,0) -> 0 | BH138: =IF(N138="zníž. prenesená",J138,0) -> 0 | BI138: =IF(N138="nulová",J138,0) -> 0 | BJ138: 2 | BK138: =ROUND(I138*H138,2) -> 0 | BL138: 64 | BM138: -999420808
C139: 7 | D139: M | E139: 22087016109.PC | F139: Svetelná bunka jednožiarovková | G139: ks | H139: 1 | J139: =ROUND(I139*H139,2) -> 0 | M139: 1 | N139: znížená | P139: =O139*H139 -> 0 | Q139: 0 | R139: =Q139*H139 -> 0 | S139: 0 | T139: =S139*H139 -> 0 | AR139: 256 | AT139: M | AU139: 2 | AY139: ROZPOCET | BE139: =IF(N139="základná",J139,0) -> 0 | BF139: =IF(N139="znížená",J139,0) -> 0 | BG139: =IF(N139="zákl. prenesená",J139,0) -> 0 | BH139: =IF(N139="zníž. prenesená",J139,0) -> 0 | BI139: =IF(N139="nulová",J139,0) -> 0 | BJ139: 2 | BK139: =ROUND(I139*H139,2) -> 0 | BL139: 64 | BM139: 764062087
C140: 8 | D140: K | E140: 220870166.S | F140: Montáž štítka označovacieh do koľajovej dosky alebo pultu za chodu,zhotovenie nápisu | G140: ks | H140: 1 | J140: =ROUND(I140*H140,2) -> 0 | M140: 1 | N140: znížená | P140: =O140*H140 -> 0 | Q140: 0 | R140: =Q140*H140 -> 0 | S140: 0 | T140: =S140*H140 -> 0 | AR140: 64 | AT140: K | AU140: 2 | AY140: ROZPOCET | BE140: =IF(N140="základná",J140,0) -> 0 | BF140: =IF(N140="znížená",J140,0) -> 0 | BG140: =IF(N140="zákl. prenesená",J140,0) -> 0 | BH140: =IF(N140="zníž. prenesená",J140,0) -> 0 | BI140: =IF(N140="nulová",J140,0) -> 0 | BJ140: 2 | BK140: =ROUND(I140*H140,2) -> 0 | BL140: 64 | BM140: 1864791
C141: 9 | D141: M | E141: 22087016601.PC | F141: Štítok označovací do koľajovej dosky | G141: ks | H141: 1 | J141: =ROUND(I141*H141,2) -> 0 | M141: 1 | N141: znížená | P141: =O141*H141 -> 0 | Q141: 0 | R141: =Q141*H141 -> 0 | S141: 0 | T141: =S141*H141 -> 0 | AR141: 256 | AT141: M | AU141: 2 | AY141: ROZPOCET | BE141: =IF(N141="základná",J141,0) -> 0 | BF141: =IF(N141="znížená",J141,0) -> 0 | BG141: =IF(N141="zákl. prenesená",J141,0) -> 0 | BH141: =IF(N141="zníž. prenesená",J141,0) -> 0 | BI141: =IF(N141="nulová",J141,0) -> 0 | BJ141: 2 | BK141: =ROUND(I141*H141,2) -> 0 | BL141: 64 | BM141: 764340733
C142: 10 | D142: K | E142: 220880082.S | F142: Montáž prvkov reléového zabezpečovacieho zariadenia-diódy | G142: ks | H142: 3 | J142: =ROUND(I142*H142,2) -> 0 | M142: 1 | N142: znížená | P142: =O142*H142 -> 0 | Q142: 0 | R142: =Q142*H142 -> 0 | S142: 0 | T142: =S142*H142 -> 0 | AR142: 64 | AT142: K | AU142: 2 | AY142: ROZPOCET | BE142: =IF(N142="základná",J142,0) -> 0 | BF142: =IF(N142="znížená",J142,0) -> 0 | BG142: =IF(N142="zákl. prenesená",J142,0) -> 0 | BH142: =IF(N142="zníž. prenesená",J142,0) -> 0 | BI142: =IF(N142="nulová",J142,0) -> 0 | BJ142: 2 | BK142: =ROUND(I142*H142,2) -> 0 | BL142: 64 | BM142: -1086712764
C143: 11 | D143: M | E143: 22088008202.PC | F143: Dióda 1N4007 | G143: ks | H143: 3 | J143: =ROUND(I143*H143,2) -> 0 | M143: 1 | N143: znížená | P143: =O143*H143 -> 0 | Q143: 0 | R143: =Q143*H143 -> 0 | S143: 0 | T143: =S143*H143 -> 0 | AR143: 256 | AT143: M | AU143: 2 | AY143: ROZPOCET | BE143: =IF(N143="základná",J143,0) -> 0 | BF143: =IF(N143="znížená",J143,0) -> 0 | BG143: =IF(N143="zákl. prenesená",J143,0) -> 0 | BH143: =IF(N143="zníž. prenesená",J143,0) -> 0 | BI143: =IF(N143="nulová",J143,0) -> 0 | BJ143: 2 | BK143: =ROUND(I143*H143,2) -> 0 | BL143: 64 | BM143: 90778061
C144: 12 | D144: K | E144: 220880061.S | F144: Montáž relé malorozmerného,nasadenie relé do panela | G144: ks | H144: 3 | J144: =ROUND(I144*H144,2) -> 0 | M144: 1 | N144: znížená | P144: =O144*H144 -> 0 | Q144: 0 | R144: =Q144*H144 -> 0 | S144: 0 | T144: =S144*H144 -> 0 | AR144: 64 | AT144: K | AU144: 2 | AY144: ROZPOCET | BE144: =IF(N144="základná",J144,0) -> 0 | BF144: =IF(N144="znížená",J144,0) -> 0 | BG144: =IF(N144="zákl. prenesená",J144,0) -> 0 | BH144: =IF(N144="zníž. prenesená",J144,0) -> 0 | BI144: =IF(N144="nulová",J144,0) -> 0 | BJ144: 2 | BK144: =ROUND(I144*H144,2) -> 0 | BL144: 64 | BM144: 472274037
C145: 13 | D145: M | E145: 22088006104.PC | F145: Relé NMŠ 1-2000 | G145: ks | H145: 3 | J145: =ROUND(I145*H145,2) -> 0 | M145: 1 | N145: znížená | P145: =O145*H145 -> 0 | Q145: 0 | R145: =Q145*H145 -> 0 | S145: 0 | T145: =S145*H145 -> 0 | AR145: 256 | AT145: M | AU145: 2 | AY145: ROZPOCET | BE145: =IF(N145="základná",J145,0) -> 0 | BF145: =IF(N145="znížená",J145,0) -> 0 | BG145: =IF(N145="zákl. prenesená",J145,0) -> 0 | BH145: =IF(N145="zníž. prenesená",J145,0) -> 0 | BI145: =IF(N145="nulová",J145,0) -> 0 | BJ145: 2 | BK145: =ROUND(I145*H145,2) -> 0 | BL145: 64 | BM145: 1006184444
C146: 14 | D146: K | E146: 220880091.S | F146: Zhotovenie jedného zapojenia pri voľnej väzbe, nameranie vodiča,zatiahnutie a prepojenie | G146: ks | H146: 20 | J146: =ROUND(I146*H146,2) -> 0 | M146: 1 | N146: znížená | P146: =O146*H146 -> 0 | Q146: 0 | R146: =Q146*H146 -> 0 | S146: 0 | T146: =S146*H146 -> 0 | AR146: 64 | AT146: K | AU146: 2 | AY146: ROZPOCET | BE146: =IF(N146="základná",J146,0) -> 0 | BF146: =IF(N146="znížená",J146,0) -> 0 | BG146: =IF(N146="zákl. prenesená",J146,0) -> 0 | BH146: =IF(N146="zníž. prenesená",J146,0) -> 0 | BI146: =IF(N146="nulová",J146,0) -> 0 | BJ146: 2 | BK146: =ROUND(I146*H146,2) -> 0 | BL146: 64 | BM146: 1638794700
C147: 15 | D147: K | E147: 220880161.S | F147: Prevzatie miestnosti a oboznámenie so situáciou pred začatím výstavby-do 20 výhybiek | G147: ks | H147: 1 | J147: =ROUND(I147*H147,2) -> 0 | M147: 1 | N147: znížená | P147: =O147*H147 -> 0 | Q147: 0 | R147: =Q147*H147 -> 0 | S147: 0 | T147: =S147*H147 -> 0 | AR147: 64 | AT147: K | AU147: 2 | AY147: ROZPOCET | BE147: =IF(N147="základná",J147,0) -> 0 | BF147: =IF(N147="znížená",J147,0) -> 0 | BG147: =IF(N147="zákl. prenesená",J147,0) -> 0 | BH147: =IF(N147="zníž. prenesená",J147,0) -> 0 | BI147: =IF(N147="nulová",J147,0) -> 0 | BJ147: 2 | BK147: =ROUND(I147*H147,2) -> 0 | BL147: 64 | BM147: 2045000051
... C149: 17 | D149: K | E149: 220890041.S | F149: Preskúšanie vlakových ciest,postavenie ciest a komplexné preskúšanie na 1 vlakovú cestu | G149: ks | H149: 12 | J149: =ROUND(I149*H149,2) -> 0 | M149: 1 | N149: znížená | P149: =O149*H149 -> 0 | Q149: 0 | R149: =Q149*H149 -> 0 | S149: 0 | T149: =S149*H149 -> 0 | AR149: 64 | AT149: K | AU149: 2 | AY149: ROZPOCET | BE149: =IF(N149="základná",J149,0) -> 0 | BF149: =IF(N149="znížená",J149,0) -> 0 | BG149: =IF(N149="zákl. prenesená",J149,0) -> 0 | BH149: =IF(N149="zníž. prenesená",J149,0) -> 0 | BI149: =IF(N149="nulová",J149,0) -> 0 | BJ149: 2 | BK149: =ROUND(I149*H149,2) -> 0 | BL149: 64 | BM149: 172963382

Sheet SO 115 - MK napojenie
AT2: {cf31ee3d-caf4-40d7-8829-90b85582cca3}
AT3: 0
D4: KRYCÍ LIST ROZPOČTU | M4: v --- nižšie sa nachádzajú doplnkové a pomocné údaje k zostavám --- v | AT4: False
D6: Stavba:
E7: ='Rekapitulácia objektov stavby'!K6 -> Strategické územie Valalíky
D8: Objekt:
E9: SO 115 - MK pre napojenie obce Valaliky- Nové Koščany na cestu III/3813 v úseku "N-E"
D11: JKSO: | F11: 1 | I11: ČS: | J11: 1
D12: Miesto: | F12: kú: Valaliky, kú: Barca, kú: Čaňa | I12: Dátum: | J12: ='Rekapitulácia objektov stavby'!AN8 -> 27. 7. 2026
D14: Objednávateľ: | I14: IČO: | J14: 1
E15: Valaliky Industrial Park, s.r.o., Bratislava | I15: IČ DPH: | J15: 1
D17: Zhotoviteľ: | I17: IČO: | J17: ='Rekapitulácia objektov stavby'!AN13 -> 0
E18: ='Rekapitulácia objektov stavby'!E14 -> 0 | I18: IČ DPH: | J18: ='Rekapitulácia objektov stavby'!AN14 -> 0
D20: Projektant: | I20: IČO: | J20: 1
E21: RRi design, spol. s r.o., Košice | I21: IČ DPH: | J21: 1
D23: Spracovateľ: | I23: IČO: | J23: =IF('Rekapitulácia objektov stavby'!AN19="","",'Rekapitulácia objektov stavby'!AN19) -> 1
E24: =IF('Rekapitulácia objektov stavby'!E20="","",'Rekapitulácia objektov stavby'!E20) | I24: IČ DPH: | J24: =IF('Rekapitulácia objektov stavby'!AN20="","",'Rekapitulácia objektov stavby'!AN20) -> 1
D26: Poznámka:
E27: 1
D30: Náklady z rozpočtu | J30: =J96 -> 0
D31: Ostatné náklady | J31: =J108 -> 0
D32: Cena bez DPH | J32: =ROUND(J30 + J31, 2) -> 0
F34: Základ dane | I34: Sadzba dane | J34: Výška dane
D35: DPH | E35: základná | F35: =ROUND((SUM(BE108:BE115) + SUM(BE135:BE287)), 2) -> 0 | I35: 0.23 | J35: =ROUND(((SUM(BE108:BE115) + SUM(BE135:BE287))*I35), 2) -> 0
E36: znížená | F36: =ROUND((SUM(BF108:BF115) + SUM(BF135:BF287)), 2) -> 0 | I36: 0.23 | J36: =ROUND(((SUM(BF108:BF115) + SUM(BF135:BF287))*I36), 2) -> 0
E37: zákl. prenesená | F37: =ROUND((SUM(BG108:BG115) + SUM(BG135:BG287)), 2) -> 0 | I37: 0.23 | J37: =0 -> 0
E38: zníž. prenesená | F38: =ROUND((SUM(BH108:BH115) + SUM(BH135:BH287)), 2) -> 0 | I38: 0.23 | J38: =0 -> 0
E39: nulová | F39: =ROUND((SUM(BI108:BI115) + SUM(BI135:BI287)), 2) -> 0 | I39: 0 | J39: =0 -> 0
D41: Cena s DPH | G41: v | H41: EUR | J41: =SUM(J32:J39) -> 0
D50: Projektant | G50: Spracovateľ
D61: Dátum a podpis: | F61: Pečiatka | G61: Dátum a podpis: | J61: Pečiatka
D65: Objednávateľ | G65: Zhotoviteľ
D76: Dátum a podpis: | F76: Pečiatka | G76: Dátum a podpis: | J76: Pečiatka
C82: REKAPITULÁCIA ROZPOČTU
C84: Stavba:
E85: =E7 -> Strategické územie Valalíky
C86: Objekt:
E87: =E9 -> SO 115 - MK pre napojenie obce Valaliky- Nové Koščany na cestu III/3813 v úseku "N-E"
C89: Miesto: | F89: =F12 -> kú: Valaliky, kú: Barca, kú: Čaňa | I89: Dátum: | J89: =IF(J12="","",J12) -> 27. 7. 2026
C91: Objednávateľ: | F91: =E15 -> Valaliky Industrial Park, s.r.o., Bratislava | I91: Projektant: | J91: =E21 -> RRi design, spol. s r.o., Košice
C92: Zhotoviteľ: | F92: =IF(E18="","",E18) -> 0 | I92: Spracovateľ: | J92: =E24
C94: Kód dielu - Popis | J94: Cena celkom [EUR]
C96: 1) Náklady z rozpočtu | J96: =J135 -> 0 | AU96: -1
D97: HSV - Práce a dodávky HSV | J97: =J136 -> 0
D98: 1 - Zemné práce | J98: =J137 -> 0
D99: 2 - Zakladanie | J99: =J204 -> 0
D100: 4 - Vodorovné konštrukcie | J100: =J229 -> 0
D101: 5 - Komunikácie | J101: =J244 -> 0
D102: 9 - Ostatné konštrukcie a práce-búranie | J102: =J260 -> 0
D103: 99 - Presun hmôt HSV | J103: =J275 -> 0
D104: PSV - Práce a dodávky PSV | J104: =J277 -> 0
D105: 711 - Izolácie proti vode a vlhkosti | J105: =J278 -> 0
C108: 2) Ostatné náklady | J108: =ROUND(J109 + J110 + J111 + J112 + J113 + J114,2) -> 0 | N108: DPH
D109: GZS | J109: 0 | N109: znížená | AY109: VRN | BE109: =IF(N109="základná",J109,0) -> 0 | BF109: =IF(N109="znížená",J109,0) -> 0 | BG109: =IF(N109="zákl. prenesená",J109,0) -> 0 | BH109: =IF(N109="zníž. prenesená",J109,0) -> 0 | BI109: =IF(N109="nulová",J109,0) -> 0 | BJ109: 2
D110: Projektové práce | J110: 0 | N110: znížená | AY110: VRN | BE110: =IF(N110="základná",J110,0) -> 0 | BF110: =IF(N110="znížená",J110,0) -> 0 | BG110: =IF(N110="zákl. prenesená",J110,0) -> 0 | BH110: =IF(N110="zníž. prenesená",J110,0) -> 0 | BI110: =IF(N110="nulová",J110,0) -> 0 | BJ110: 2
D111: Sťažené podmienky | J111: 0 | N111: znížená | AY111: VRN | BE111: =IF(N111="základná",J111,0) -> 0 | BF111: =IF(N111="znížená",J111,0) -> 0 | BG111: =IF(N111="zákl. prenesená",J111,0) -> 0 | BH111: =IF(N111="zníž. prenesená",J111,0) -> 0 | BI111: =IF(N111="nulová",J111,0) -> 0 | BJ111: 2
D112: Vplyv prostredia | J112: 0 | N112: znížená | AY112: VRN | BE112: =IF(N112="základná",J112,0) -> 0 | BF112: =IF(N112="znížená",J112,0) -> 0 | BG112: =IF(N112="zákl. prenesená",J112,0) -> 0 | BH112: =IF(N112="zníž. prenesená",J112,0) -> 0 | BI112: =IF(N112="nulová",J112,0) -> 0 | BJ112: 2
D113: Iné VRN | J113: 0 | N113: znížená | AY113: VRN | BE113: =IF(N113="základná",J113,0) -> 0 | BF113: =IF(N113="znížená",J113,0) -> 0 | BG113: =IF(N113="zákl. prenesená",J113,0) -> 0 | BH113: =IF(N113="zníž. prenesená",J113,0) -> 0 | BI113: =IF(N113="nulová",J113,0) -> 0 | BJ113: 2
D114: Kompletačná činnosť | J114: =ROUND(J30*T114,2) -> 0 | N114: znížená | AY114: KOMPLETACNA | BE114: =IF(N114="základná",J114,0) -> 0 | BF114: =IF(N114="znížená",J114,0) -> 0 | BG114: =IF(N114="zákl. prenesená",J114,0) -> 0 | BH114: =IF(N114="zníž. prenesená",J114,0) -> 0 | BI114: =IF(N114="nulová",J114,0) -> 0 | BJ114: 2
C116: Celkové náklady za stavbu 1) + 2) | J116: =ROUND(J96+J108,2) -> 0
C122: ROZPOČET
C124: Stavba:
E125: =E7 -> Strategické územie Valalíky
C126: Objekt:
E127: =E9 -> SO 115 - MK pre napojenie obce Valaliky- Nové Koščany na cestu III/3813 v úseku "N-E"
C129: Miesto: | F129: =F12 -> kú: Valaliky, kú: Barca, kú: Čaňa | I129: Dátum: | J129: =IF(J12="","",J12) -> 27. 7. 2026
C131: Objednávateľ: | F131: =E15 -> Valaliky Industrial Park, s.r.o., Bratislava | I131: Projektant: | J131: =E21 -> RRi design, spol. s r.o., Košice
C132: Zhotoviteľ: | F132: =IF(E18="","",E18) -> 0 | I132: Spracovateľ: | J132: =E24
C134: PČ | D134: Typ | E134: Kód | F134: Popis | G134: MJ | H134: Množstvo | I134: J.cena [EUR] | J134: Cena celkom [EUR] | K134: Cenová sústava | M134: 1 | N134: DPH | O134: J. Nh [h] | P134: Nh celkom [h] | Q134: J. hmotnosť [t] | R134: Hmotnosť celkom [t] | S134: J. suť [t] | T134: Suť Celkom [t]
C135: Náklady z rozpočtu | J135: =BK135 -> 0 | P135: =P136+P277 -> 0 | R135: =R136+R277 -> 8969.6529 | T135: =T136+T277 -> 0.144 | AT135: D | AU135: -1 | BK135: =BK136+BK277 -> 0
D136: D | E136: HSV | F136: Práce a dodávky HSV | J136: =BK136 -> 0 | P136: =P137+P204+P229+P244+P260+P275 -> 0 | R136: =R137+R204+R229+R244+R260+R275 -> 8969.4999 | T136: =T137+T204+T229+T244+T260+T275 -> 0.144 | AR136: 1 | AT136: D | AU136: 0 | AY136: ROZPOCET | BK136: =BK137+BK204+BK229+BK244+BK260+BK275 -> 0
D137: D | E137: 1 | F137: Zemné práce | J137: =BK137 -> 0 | P137: =SUM(P138:P203) -> 0 | R137: =SUM(R138:R203) -> 2634.9751 | T137: =SUM(T138:T203) -> 0 | AR137: 1 | AT137: D | AU137: 1 | AY137: ROZPOCET | BK137: =SUM(BK138:BK203) -> 0
C138: 1 | D138: K | E138: 119001202 | F138: Úprava zemín vápnom za účelom zlepšenia mechanických vlastností hr. vrstvy 150-400 mm | G138: m3 | H138: 23.6 | J138: =ROUND(I138*H138,2) -> 0 | M138: 1 | N138: znížená | P138: =O138*H138 -> 0 | Q138: 0 | R138: =Q138*H138 -> 0 | S138: 0 | T138: =S138*H138 -> 0 | AR138: 4 | AT138: K | AU138: 2 | AY138: ROZPOCET | BE138: =IF(N138="základná",J138,0) -> 0 | BF138: =IF(N138="znížená",J138,0) -> 0 | BG138: =IF(N138="zákl. prenesená",J138,0) -> 0 | BH138: =IF(N138="zníž. prenesená",J138,0) -> 0 | BI138: =IF(N138="nulová",J138,0) -> 0 | BJ138: 2 | BK138: =ROUND(I138*H138,2) -> 0 | BL138: 4 | BM138: 1080832121
D139: VV | E139: 1 | F139: 2,1*0,4*28,0++0,08 "podklad pod inundačný priepust DN 800 | H139: 23.6 | AT139: VV | AU139: 2 | AV139: 2 | AW139: True | AX139: 1 | AY139: ROZPOCET
C140: 2 | D140: M | E140: 585310000100.S | F140: Vápno vzdušné biele VVB IK voľne ložený | G140: t | H140: 1.18 | J140: =ROUND(I140*H140,2) -> 0 | M140: 1 | N140: znížená | P140: =O140*H140 -> 0 | Q140: 1 | R140: =Q140*H140 -> 1.18 | S140: 0 | T140: =S140*H140 -> 0 | AR140: 8 | AT140: M | AU140: 2 | AY140: ROZPOCET | BE140: =IF(N140="základná",J140,0) -> 0 | BF140: =IF(N140="znížená",J140,0) -> 0 | BG140: =IF(N140="zákl. prenesená",J140,0) -> 0 | BH140: =IF(N140="zníž. prenesená",J140,0) -> 0 | BI140: =IF(N140="nulová",J140,0) -> 0 | BJ140: 2 | BK140: =ROUND(I140*H140,2) -> 0 | BL140: 4 | BM140: 1835087670
C141: 3 | D141: K | E141: 121101112.S | F141: Odstránenie ornice s premiestn. na hromady, so zložením na vzdialenosť do 100 m a do 1000 m3 | G141: m3 | H141: 1010.4 | J141: =ROUND(I141*H141,2) -> 0 | M141: 1 | N141: znížená | P141: =O141*H141 -> 0 | Q141: 0 | R141: =Q141*H141 -> 0 | S141: 0 | T141: =S141*H141 -> 0 | AR141: 4 | AT141: K | AU141: 2 | AY141: ROZPOCET | BE141: =IF(N141="základná",J141,0) -> 0 | BF141: =IF(N141="znížená",J141,0) -> 0 | BG141: =IF(N141="zákl. prenesená",J141,0) -> 0 | BH141: =IF(N141="zníž. prenesená",J141,0) -> 0 | BI141: =IF(N141="nulová",J141,0) -> 0 | BJ141: 2 | BK141: =ROUND(I141*H141,2) -> 0 | BL141: 4 | BM141: 687848256
D142: VV | E142: 1 | F142: 3368,0*0,3 "odstránenie ornice v hr. 300 mm | H142: 1010.4 | AT142: VV | AU142: 2 | AV142: 2 | AW142: True | AX142: 1 | AY142: ROZPOCET
C143: 4 | D143: K | E143: 122201102.S | F143: Odkopávka a prekopávka nezapažená v hornine 3, nad 100 do 1000 m3 | G143: m3 | H143: 2403.6 | J143: =ROUND(I143*H143,2) -> 0 | M143: 1 | N143: znížená | P143: =O143*H143 -> 0 | Q143: 0 | R143: =Q143*H143 -> 0 | S143: 0 | T143: =S143*H143 -> 0 | AR143: 4 | AT143: K | AU143: 2 | AY143: ROZPOCET | BE143: =IF(N143="základná",J143,0) -> 0 | BF143: =IF(N143="znížená",J143,0) -> 0 | BG143: =IF(N143="zákl. prenesená",J143,0) -> 0 | BH143: =IF(N143="zníž. prenesená",J143,0) -> 0 | BI143: =IF(N143="nulová",J143,0) -> 0 | BJ143: 2 | BK143: =ROUND(I143*H143,2) -> 0 | BL143: 4 | BM143: 1929411997
D144: VV | E144: 1 | F144: 1050,0 "výkop pre teleso MK | H144: 1050 | AT144: VV | AU144: 2 | AV144: 2 | AW144: True | AX144: 0 | AY144: ROZPOCET
D145: VV | E145: 1 | F145: 1336,40+17,20 "výkop pre aktívnu zónu | H145: 1353.6 | AT145: VV | AU145: 2 | AV145: 2 | AW145: True | AX145: 0 | AY145: ROZPOCET
D146: VV | E146: 1 | F146: Súčet | H146: 2403.6 | AT146: VV | AU146: 2 | AV146: 4 | AW146: True | AX146: 1 | AY146: ROZPOCET
C147: 5 | D147: K | E147: 131201102.S | F147: Výkop nezapaženej jamy v hornine 3, nad 100 do 1000 m3 | G147: m3 | H147: 174 | J147: =ROUND(I147*H147,2) -> 0 | M147: 1 | N147: znížená | P147: =O147*H147 -> 0 | Q147: 0 | R147: =Q147*H147 -> 0 | S147: 0 | T147: =S147*H147 -> 0 | AR147: 4 | AT147: K | AU147: 2 | AY147: ROZPOCET | BE147: =IF(N147="základná",J147,0) -> 0 | BF147: =IF(N147="znížená",J147,0) -> 0 | BG147: =IF(N147="zákl. prenesená",J147,0) -> 0 | BH147: =IF(N147="zníž. prenesená",J147,0) -> 0 | BI147: =IF(N147="nulová",J147,0) -> 0 | BJ147: 2 | BK147: =ROUND(I147*H147,2) -> 0 | BL147: 4 | BM147: 26822905
D148: VV | E148: 1 | F148: 5,0*28,0 "výkop pre rúrový priepust DN 800 | H148: 140 | AT148: VV | AU148: 2 | AV148: 2 | AW148: True | AX148: 0 | AY148: ROZPOCET
D149: VV | E149: 1 | F149: 1,66*18+2,0*2,0*1,04-0,04 "výkop pre priepust DN 600 | H149: 34 | AT149: VV | AU149: 2 | AV149: 2 | AW149: True | AX149: 0 | AY149: ROZPOCET
D150: VV | E150: 1 | F150: Súčet | H150: 174 | AT150: VV | AU150: 2 | AV150: 4 | AW150: True | AX150: 1 | AY150: ROZPOCET
C151: 6 | D151: K | E151: 132201202.S | F151: Výkop ryhy šírky 600-2000mm horn.3 od 100 do 1000 m3 | G151: m3 | H151: 155.4 | J151: =ROUND(I151*H151,2) -> 0 | M151: 1 | N151: znížená | P151: =O151*H151 -> 0 | Q151: 0 | R151: =Q151*H151 -> 0 | S151: 0 | T151: =S151*H151 -> 0 | AR151: 4 | AT151: K | AU151: 2 | AY151: ROZPOCET | BE151: =IF(N151="základná",J151,0) -> 0 | BF151: =IF(N151="znížená",J151,0) -> 0 | BG151: =IF(N151="zákl. prenesená",J151,0) -> 0 | BH151: =IF(N151="zníž. prenesená",J151,0) -> 0 | BI151: =IF(N151="nulová",J151,0) -> 0 | BJ151: 2 | BK151: =ROUND(I151*H151,2) -> 0 | BL151: 4 | BM151: -740411031
D152: VV | E152: 1 | F152: 0,80*1,50*(30,5+49,0+25,0+25,0) "výkop pre vsakovací trativod | H152: 155.4 | AT152: VV | AU152: 2 | AV152: 2 | AW152: True | AX152: 1 | AY152: ROZPOCET
C153: 7 | D153: K | E153: 162501142.S | F153: Vodorovné premiestnenie výkopku po spevnenej ceste z horniny tr.1-4, nad 1000 do 10000 m3 na vzdialenosť do 3000 m | G153: m3 | H153: 4047.7 | J153: =ROUND(I153*H153,2) -> 0 | M153: 1 | N153: znížená | P153: =O153*H153 -> 0 | Q153: 0 | R153: =Q153*H153 -> 0 | S153: 0 | T153: =S153*H153 -> 0 | AR153: 4 | AT153: K | AU153: 2 | AY153: ROZPOCET | BE153: =IF(N153="základná",J153,0) -> 0 | BF153: =IF(N153="znížená",J153,0) -> 0 | BG153: =IF(N153="zákl. prenesená",J153,0) -> 0 | BH153: =IF(N153="zníž. prenesená",J153,0) -> 0 | BI153: =IF(N153="nulová",J153,0) -> 0 | BJ153: 2 | BK153: =ROUND(I153*H153,2) -> 0 | BL153: 4 | BM153: 1162532420
D154: VV | E154: 1 | F154: 1010,40 "presun ornice na skládku | H154: 1010.4 | AT154: VV | AU154: 2 | AV154: 2 | AW154: True | AX154: 0 | AY154: ROZPOCET
D155: VV | E155: 1 | F155: 2403,5+174,0+155,4 "presun výkopku na skládku | H155: 2732.9 | AT155: VV | AU155: 2 | AV155: 2 | AW155: True | AX155: 0 | AY155: ROZPOCET
D156: VV | E156: 1 | F156: 1522,0*0,2 "presun ornice na zahumusovanie | H156: 304.4 | AT156: VV | AU156: 2 | AV156: 2 | AW156: True | AX156: 0 | AY156: ROZPOCET
D157: VV | E157: 1 | F157: Súčet | H157: 4047.7 | AT157: VV | AU157: 2 | AV157: 4 | AW157: True | AX157: 1 | AY157: ROZPOCET
C158: 8 | D158: K | E158: 162501143.S | F158: Vodorovné premiestnenie výkopku po spevnenej ceste z horniny tr.1-4, nad 1000 do 10000 m3, príplatok k cene za každých ďalšich a začatých 1000 m | G158: m3 | H158: 6877.8 | J158: =ROUND(I158*H158,2) -> 0 | M158: 1 | N158: znížená | P158: =O158*H158 -> 0 | Q158: 0 | R158: =Q158*H158 -> 0 | S158: 0 | T158: =S158*H158 -> 0 | AR158: 4 | AT158: K | AU158: 2 | AY158: ROZPOCET | BE158: =IF(N158="základná",J158,0) -> 0 | BF158: =IF(N158="znížená",J158,0) -> 0 | BG158: =IF(N158="zákl. prenesená",J158,0) -> 0 | BH158: =IF(N158="zníž. prenesená",J158,0) -> 0 | BI158: =IF(N158="nulová",J158,0) -> 0 | BJ158: 2 | BK158: =ROUND(I158*H158,2) -> 0 | BL158: 4 | BM158: -1010909431
D159: VV | E159: 1 | F159: (1010,40-304,4)*2 "presun prebyt. ornice na skládku do 5 km | H159: 1412 | AT159: VV | AU159: 2 | AV159: 2 | AW159: True | AX159: 0 | AY159: ROZPOCET
D160: VV | E160: 1 | F160: 2732,90*2 "presun prebyt. výkopku na skládku do 5 km | H160: 5465.8 | AT160: VV | AU160: 2 | AV160: 2 | AW160: True | AX160: 0 | AY160: ROZPOCET
D161: VV | E161: 1 | F161: Súčet | H161: 6877.8 | AT161: VV | AU161: 2 | AV161: 4 | AW161: True | AX161: 1 | AY161: ROZPOCET
C162: 9 | D162: K | E162: 167102102.S | F162: Nakladanie neuľahnutého výkopku z hornín tr.1-4 nad 1000 do 10000 m3 | G162: m3 | H162: 1337.8 | J162: =ROUND(I162*H162,2) -> 0 | M162: 1 | N162: znížená | P162: =O162*H162 -> 0 | Q162: 0 | R162: =Q162*H162 -> 0 | S162: 0 | T162: =S162*H162 -> 0 | AR162: 4 | AT162: K | AU162: 2 | AY162: ROZPOCET | BE162: =IF(N162="základná",J162,0) -> 0 | BF162: =IF(N162="znížená",J162,0) -> 0 | BG162: =IF(N162="zákl. prenesená",J162,0) -> 0 | BH162: =IF(N162="zníž. prenesená",J162,0) -> 0 | BI162: =IF(N162="nulová",J162,0) -> 0 | BJ162: 2 | BK162: =ROUND(I162*H162,2) -> 0 | BL162: 4 | BM162: -59873628
D163: VV | E163: 1 | F163: 1010,40 "naloženie ornice pre odvoz na skládku | H163: 1010.4 | AT163: VV | AU163: 2 | AV163: 2 | AW163: True | AX163: 0 | AY163: ROZPOCET
D164: VV | E164: 1 | F164: 1522,0*0,2 "naloženie ornice na zahumusovanie | H164: 304.4 | AT164: VV | AU164: 2 | AV164: 2 | AW164: True | AX164: 0 | AY164: ROZPOCET
D165: VV | E165: 1 | F165: 23,0 "naloženie zeminy pre úpravu podložia | H165: 23 | AT165: VV | AU165: 2 | AV165: 2 | AW165: True | AX165: 0 | AY165: ROZPOCET
...

Sheet SO 161.1 - Cyklochodník
AT2: {e03262f0-fb90-450d-9578-679f304b1af9}
AT3: 0
D4: KRYCÍ LIST ROZPOČTU | M4: v --- nižšie sa nachádzajú doplnkové a pomocné údaje k zostavám --- v | AT4: False
D6: Stavba:
E7: ='Rekapitulácia objektov stavby'!K6 -> Strategické územie Valalíky
D8: Objekt:
E9: SO 161.1 - Cyklochodník - pre napojenie obce Valaliky - Nové Koščany na cestu III/3813 v úseku "N-E"
D11: JKSO: | F11: 1 | I11: ČS: | J11: 1
D12: Miesto: | F12: kú: Valaliky, kú: Barca, kú: Čaňa | I12: Dátum: | J12: ='Rekapitulácia objektov stavby'!AN8 -> 27. 7. 2026
D14: Objednávateľ: | I14: IČO: | J14: 1
E15: Valaliky Industrial Park, s.r.o., Bratislava | I15: IČ DPH: | J15: 1
D17: Zhotoviteľ: | I17: IČO: | J17: ='Rekapitulácia objektov stavby'!AN13 -> 0
E18: ='Rekapitulácia objektov stavby'!E14 -> 0 | I18: IČ DPH: | J18: ='Rekapitulácia objektov stavby'!AN14 -> 0
D20: Projektant: | I20: IČO: | J20: 1
E21: RRi design, spol. s r.o., Košice | I21: IČ DPH: | J21: 1
D23: Spracovateľ: | I23: IČO: | J23: =IF('Rekapitulácia objektov stavby'!AN19="","",'Rekapitulácia objektov stavby'!AN19) -> 1
E24: =IF('Rekapitulácia objektov stavby'!E20="","",'Rekapitulácia objektov stavby'!E20) | I24: IČ DPH: | J24: =IF('Rekapitulácia objektov stavby'!AN20="","",'Rekapitulácia objektov stavby'!AN20) -> 1
D26: Poznámka:
E27: 1
D30: Náklady z rozpočtu | J30: =J96 -> 0
D31: Ostatné náklady | J31: =J104 -> 0
D32: Cena bez DPH | J32: =ROUND(J30 + J31, 2) -> 0
F34: Základ dane | I34: Sadzba dane | J34: Výška dane
D35: DPH | E35: základná | F35: =ROUND((SUM(BE104:BE111) + SUM(BE131:BE156)), 2) -> 0 | I35: 0.23 | J35: =ROUND(((SUM(BE104:BE111) + SUM(BE131:BE156))*I35), 2) -> 0
E36: znížená | F36: =ROUND((SUM(BF104:BF111) + SUM(BF131:BF156)), 2) -> 0 | I36: 0.23 | J36: =ROUND(((SUM(BF104:BF111) + SUM(BF131:BF156))*I36), 2) -> 0
E37: zákl. prenesená | F37: =ROUND((SUM(BG104:BG111) + SUM(BG131:BG156)), 2) -> 0 | I37: 0.23 | J37: =0 -> 0
E38: zníž. prenesená | F38: =ROUND((SUM(BH104:BH111) + SUM(BH131:BH156)), 2) -> 0 | I38: 0.23 | J38: =0 -> 0
E39: nulová | F39: =ROUND((SUM(BI104:BI111) + SUM(BI131:BI156)), 2) -> 0 | I39: 0 | J39: =0 -> 0
D41: Cena s DPH | G41: v | H41: EUR | J41: =SUM(J32:J39) -> 0
D50: Projektant | G50: Spracovateľ
D61: Dátum a podpis: | F61: Pečiatka | G61: Dátum a podpis: | J61: Pečiatka
D65: Objednávateľ | G65: Zhotoviteľ
D76: Dátum a podpis: | F76: Pečiatka | G76: Dátum a podpis: | J76: Pečiatka
C82: REKAPITULÁCIA ROZPOČTU
C84: Stavba:
E85: =E7 -> Strategické územie Valalíky
C86: Objekt:
E87: =E9 -> SO 161.1 - Cyklochodník - pre napojenie obce Valaliky - Nové Koščany na cestu III/3813 v úseku "N-E"
C89: Miesto: | F89: =F12 -> kú: Valaliky, kú: Barca, kú: Čaňa | I89: Dátum: | J89: =IF(J12="","",J12) -> 27. 7. 2026
C91: Objednávateľ: | F91: =E15 -> Valaliky Industrial Park, s.r.o., Bratislava | I91: Projektant: | J91: =E21 -> RRi design, spol. s r.o., Košice
C92: Zhotoviteľ: | F92: =IF(E18="","",E18) -> 0 | I92: Spracovateľ: | J92: =E24
C94: Kód dielu - Popis | J94: Cena celkom [EUR]
C96: 1) Náklady z rozpočtu | J96: =J131 -> 0 | AU96: -1
D97: HSV - Práce a dodávky HSV | J97: =J132 -> 0
D98: 1 - Zemné práce | J98: =J133 -> 0
D99: 5 - Komunikácie | J99: =J142 -> 0
D100: 9 - Ostatné konštrukcie a práce-búranie | J100: =J153 -> 0
D101: 99 - Presun hmôt HSV | J101: =J155 -> 0
C104: 2) Ostatné náklady | J104: =ROUND(J105 + J106 + J107 + J108 + J109 + J110,2) -> 0 | N104: DPH
D105: GZS | J105: 0 | N105: znížená | AY105: VRN | BE105: =IF(N105="základná",J105,0) -> 0 | BF105: =IF(N105="znížená",J105,0) -> 0 | BG105: =IF(N105="zákl. prenesená",J105,0) -> 0 | BH105: =IF(N105="zníž. prenesená",J105,0) -> 0 | BI105: =IF(N105="nulová",J105,0) -> 0 | BJ105: 2
D106: Projektové práce | J106: 0 | N106: znížená | AY106: VRN | BE106: =IF(N106="základná",J106,0) -> 0 | BF106: =IF(N106="znížená",J106,0) -> 0 | BG106: =IF(N106="zákl. prenesená",J106,0) -> 0 | BH106: =IF(N106="zníž. prenesená",J106,0) -> 0 | BI106: =IF(N106="nulová",J106,0) -> 0 | BJ106: 2
D107: Sťažené podmienky | J107: 0 | N107: znížená | AY107: VRN | BE107: =IF(N107="základná",J107,0) -> 0 | BF107: =IF(N107="znížená",J107,0) -> 0 | BG107: =IF(N107="zákl. prenesená",J107,0) -> 0 | BH107: =IF(N107="zníž. prenesená",J107,0) -> 0 | BI107: =IF(N107="nulová",J107,0) -> 0 | BJ107: 2
D108: Vplyv prostredia | J108: 0 | N108: znížená | AY108: VRN | BE108: =IF(N108="základná",J108,0) -> 0 | BF108: =IF(N108="znížená",J108,0) -> 0 | BG108: =IF(N108="zákl. prenesená",J108,0) -> 0 | BH108: =IF(N108="zníž. prenesená",J108,0) -> 0 | BI108: =IF(N108="nulová",J108,0) -> 0 | BJ108: 2
D109: Iné VRN | J109: 0 | N109: znížená | AY109: VRN | BE109: =IF(N109="základná",J109,0) -> 0 | BF109: =IF(N109="znížená",J109,0) -> 0 | BG109: =IF(N109="zákl. prenesená",J109,0) -> 0 | BH109: =IF(N109="zníž. prenesená",J109,0) -> 0 | BI109: =IF(N109="nulová",J109,0) -> 0 | BJ109: 2
D110: Kompletačná činnosť | J110: =ROUND(J30*T110,2) -> 0 | N110: znížená | AY110: KOMPLETACNA | BE110: =IF(N110="základná",J110,0) -> 0 | BF110: =IF(N110="znížená",J110,0) -> 0 | BG110: =IF(N110="zákl. prenesená",J110,0) -> 0 | BH110: =IF(N110="zníž. prenesená",J110,0) -> 0 | BI110: =IF(N110="nulová",J110,0) -> 0 | BJ110: 2
C112: Celkové náklady za stavbu 1) + 2) | J112: =ROUND(J96+J104,2) -> 0
C118: ROZPOČET
C120: Stavba:
E121: =E7 -> Strategické územie Valalíky
C122: Objekt:
E123: =E9 -> SO 161.1 - Cyklochodník - pre napojenie obce Valaliky - Nové Koščany na cestu III/3813 v úseku "N-E"
C125: Miesto: | F125: =F12 -> kú: Valaliky, kú: Barca, kú: Čaňa | I125: Dátum: | J125: =IF(J12="","",J12) -> 27. 7. 2026
C127: Objednávateľ: | F127: =E15 -> Valaliky Industrial Park, s.r.o., Bratislava | I127: Projektant: | J127: =E21 -> RRi design, spol. s r.o., Košice
C128: Zhotoviteľ: | F128: =IF(E18="","",E18) -> 0 | I128: Spracovateľ: | J128: =E24
C130: PČ | D130: Typ | E130: Kód | F130: Popis | G130: MJ | H130: Množstvo | I130: J.cena [EUR] | J130: Cena celkom [EUR] | K130: Cenová sústava | M130: 1 | N130: DPH | O130: J. Nh [h] | P130: Nh celkom [h] | Q130: J. hmotnosť [t] | R130: Hmotnosť celkom [t] | S130: J. suť [t] | T130: Suť Celkom [t]
C131: Náklady z rozpočtu | J131: =BK131 -> 0 | P131: =P132 -> 0 | R131: =R132 -> 84.792071 | T131: =T132 -> 0 | AT131: D | AU131: -1 | BK131: =BK132 -> 0
D132: D | E132: HSV | F132: Práce a dodávky HSV | J132: =BK132 -> 0 | P132: =P133+P142+P153+P155 -> 0 | R132: =R133+R142+R153+R155 -> 84.792071 | T132: =T133+T142+T153+T155 -> 0 | AR132: 1 | AT132: D | AU132: 0 | AY132: ROZPOCET | BK132: =BK133+BK142+BK153+BK155 -> 0
D133: D | E133: 1 | F133: Zemné práce | J133: =BK133 -> 0 | P133: =SUM(P134:P141) -> 0 | R133: =SUM(R134:R141) -> 7.901156 | T133: =SUM(T134:T141) -> 0 | AR133: 1 | AT133: D | AU133: 1 | AY133: ROZPOCET | BK133: =SUM(BK134:BK141) -> 0
C134: 1 | D134: K | E134: 174101001.S | F134: Zásyp sypaninou so zhutnením jám, šachiet, rýh, zárezov alebo okolo objektov do 100 m3 | G134: m3 | H134: 4.18 | J134: =ROUND(I134*H134,2) -> 0 | M134: 1 | N134: znížená | P134: =O134*H134 -> 0 | Q134: 0 | R134: =Q134*H134 -> 0 | S134: 0 | T134: =S134*H134 -> 0 | AR134: 4 | AT134: K | AU134: 2 | AY134: ROZPOCET | BE134: =IF(N134="základná",J134,0) -> 0 | BF134: =IF(N134="znížená",J134,0) -> 0 | BG134: =IF(N134="zákl. prenesená",J134,0) -> 0 | BH134: =IF(N134="zníž. prenesená",J134,0) -> 0 | BI134: =IF(N134="nulová",J134,0) -> 0 | BJ134: 2 | BK134: =ROUND(I134*H134,2) -> 0 | BL134: 4 | BM134: 1763932360
D135: VV | E135: 1 | F135: 4,18 "zásyp ŠD medzi cestou a cyklochodníkom | H135: 4.18 | AT135: VV | AU135: 2 | AV135: 2 | AW135: True | AX135: 1 | AY135: ROZPOCET
C136: 2 | D136: M | E136: 583310001600.S | F136: Kamenivo ťažené hrubé frakcia 16-32 mm | G136: t | H136: 7.9 | J136: =ROUND(I136*H136,2) -> 0 | M136: 1 | N136: znížená | P136: =O136*H136 -> 0 | Q136: 1 | R136: =Q136*H136 -> 7.9 | S136: 0 | T136: =S136*H136 -> 0 | AR136: 8 | AT136: M | AU136: 2 | AY136: ROZPOCET | BE136: =IF(N136="základná",J136,0) -> 0 | BF136: =IF(N136="znížená",J136,0) -> 0 | BG136: =IF(N136="zákl. prenesená",J136,0) -> 0 | BH136: =IF(N136="zníž. prenesená",J136,0) -> 0 | BI136: =IF(N136="nulová",J136,0) -> 0 | BJ136: 2 | BK136: =ROUND(I136*H136,2) -> 0 | BL136: 4 | BM136: 229521675
D137: VV | F137: 4,18*1,89 'Prepočítané koeficientom množstva | H137: 7.9 | AT137: VV | AU137: 2 | AV137: 2 | AW137: False | AX137: 1 | AY137: ROZPOCET
C138: 3 | D138: K | E138: 180403111.S | F138: Založenie trávnika parterového výsevom v rovine do 1:5 | G138: m2 | H138: 37.4 | J138: =ROUND(I138*H138,2) -> 0 | M138: 1 | N138: znížená | P138: =O138*H138 -> 0 | Q138: 0 | R138: =Q138*H138 -> 0 | S138: 0 | T138: =S138*H138 -> 0 | AR138: 4 | AT138: K | AU138: 2 | AY138: ROZPOCET | BE138: =IF(N138="základná",J138,0) -> 0 | BF138: =IF(N138="znížená",J138,0) -> 0 | BG138: =IF(N138="zákl. prenesená",J138,0) -> 0 | BH138: =IF(N138="zníž. prenesená",J138,0) -> 0 | BI138: =IF(N138="nulová",J138,0) -> 0 | BJ138: 2 | BK138: =ROUND(I138*H138,2) -> 0 | BL138: 4 | BM138: 1919612660
D139: VV | E139: 1 | F139: 27,30+10,10 "osev zeleného pásu | H139: 37.4 | AT139: VV | AU139: 2 | AV139: 2 | AW139: True | AX139: 1 | AY139: ROZPOCET
C140: 4 | D140: M | E140: 005720001400.S | F140: Osivá tráv - semená parkovej zmesi | G140: kg | H140: 1.156 | J140: =ROUND(I140*H140,2) -> 0 | M140: 1 | N140: znížená | P140: =O140*H140 -> 0 | Q140: 0.001 | R140: =Q140*H140 -> 0.001156 | S140: 0 | T140: =S140*H140 -> 0 | AR140: 8 | AT140: M | AU140: 2 | AY140: ROZPOCET | BE140: =IF(N140="základná",J140,0) -> 0 | BF140: =IF(N140="znížená",J140,0) -> 0 | BG140: =IF(N140="zákl. prenesená",J140,0) -> 0 | BH140: =IF(N140="zníž. prenesená",J140,0) -> 0 | BI140: =IF(N140="nulová",J140,0) -> 0 | BJ140: 2 | BK140: =ROUND(I140*H140,2) -> 0 | BL140: 4 | BM140: -1490697582
D141: VV | F141: 37,4*0,0309 'Prepočítané koeficientom množstva | H141: 1.156 | AT141: VV | AU141: 2 | AV141: 2 | AW141: False | AX141: 1 | AY141: ROZPOCET
D142: D | E142: 5 | F142: Komunikácie | J142: =BK142 -> 0 | P142: =SUM(P143:P152) -> 0 | R142: =SUM(R143:R152) -> 76.878024 | T142: =SUM(T143:T152) -> 0 | AR142: 1 | AT142: D | AU142: 1 | AY142: ROZPOCET | BK142: =SUM(BK143:BK152) -> 0
C143: 5 | D143: K | E143: 564952113.S | F143: Podklad z mechanicky spevneného kameniva MSK s rozprestretím a zhutnením, po zhutnení hr. 170 mm | G143: m2 | H143: 118.8 | J143: =ROUND(I143*H143,2) -> 0 | M143: 1 | N143: znížená | P143: =O143*H143 -> 0 | Q143: 0.40247 | R143: =Q143*H143 -> 47.813436 | S143: 0 | T143: =S143*H143 -> 0 | AR143: 4 | AT143: K | AU143: 2 | AY143: ROZPOCET | BE143: =IF(N143="základná",J143,0) -> 0 | BF143: =IF(N143="znížená",J143,0) -> 0 | BG143: =IF(N143="zákl. prenesená",J143,0) -> 0 | BH143: =IF(N143="zníž. prenesená",J143,0) -> 0 | BI143: =IF(N143="nulová",J143,0) -> 0 | BJ143: 2 | BK143: =ROUND(I143*H143,2) -> 0 | BL143: 4 | BM143: 222268412
D144: VV | E144: 1 | F144: 145,80-27,0 "cyklochodník | H144: 118.8 | AT144: VV | AU144: 2 | AV144: 2 | AW144: True | AX144: 1 | AY144: ROZPOCET
C145: 6 | D145: K | E145: 573131102.S | F145: Postrek asfaltový infiltračný s posypom kamenivom z cestnej emulzie v množstve 0,80 kg/m2 | G145: m2 | H145: 118.8 | J145: =ROUND(I145*H145,2) -> 0 | M145: 1 | N145: znížená | P145: =O145*H145 -> 0 | Q145: 0.00581 | R145: =Q145*H145 -> 0.690228 | S145: 0 | T145: =S145*H145 -> 0 | AR145: 4 | AT145: K | AU145: 2 | AY145: ROZPOCET | BE145: =IF(N145="základná",J145,0) -> 0 | BF145: =IF(N145="znížená",J145,0) -> 0 | BG145: =IF(N145="zákl. prenesená",J145,0) -> 0 | BH145: =IF(N145="zníž. prenesená",J145,0) -> 0 | BI145: =IF(N145="nulová",J145,0) -> 0 | BJ145: 2 | BK145: =ROUND(I145*H145,2) -> 0 | BL145: 4 | BM145: 1824805005
C146: 7 | D146: K | E146: 573231107.S1 | F146: Postrek asfaltový spojovací bez posypu kamenivom z cestnej emulzie v množstve 0,50 kg/m2, modifik | G146: m2 | H146: 118.8 | J146: =ROUND(I146*H146,2) -> 0 | M146: 1 | N146: znížená | P146: =O146*H146 -> 0 | Q146: 0.00051 | R146: =Q146*H146 -> 0.060588 | S146: 0 | T146: =S146*H146 -> 0 | AR146: 4 | AT146: K | AU146: 2 | AY146: ROZPOCET | BE146: =IF(N146="základná",J146,0) -> 0 | BF146: =IF(N146="znížená",J146,0) -> 0 | BG146: =IF(N146="zákl. prenesená",J146,0) -> 0 | BH146: =IF(N146="zníž. prenesená",J146,0) -> 0 | BI146: =IF(N146="nulová",J146,0) -> 0 | BJ146: 2 | BK146: =ROUND(I146*H146,2) -> 0 | BL146: 4 | BM146: -1472031181
C147: 8 | D147: K | E147: 577134231.S | F147: Asfaltový betón vrstva obrusná AC 11 O v pruhu š. do 3 m z nemodifik. asfaltu tr. II, po zhutnení hr. 40 mm | G147: m2 | H147: 118.8 | J147: =ROUND(I147*H147,2) -> 0 | M147: 1 | N147: znížená | P147: =O147*H147 -> 0 | Q147: 0.10373 | R147: =Q147*H147 -> 12.323124 | S147: 0 | T147: =S147*H147 -> 0 | AR147: 4 | AT147: K | AU147: 2 | AY147: ROZPOCET | BE147: =IF(N147="základná",J147,0) -> 0 | BF147: =IF(N147="znížená",J147,0) -> 0 | BG147: =IF(N147="zákl. prenesená",J147,0) -> 0 | BH147: =IF(N147="zníž. prenesená",J147,0) -> 0 | BI147: =IF(N147="nulová",J147,0) -> 0 | BJ147: 2 | BK147: =ROUND(I147*H147,2) -> 0 | BL147: 4 | BM147: -356251690
C148: 9 | D148: K | E148: 577144431.S | F148: Asfaltový betón vrstva ložná AC 22 L v pruhu š. do 3 m z nemodifik. asfaltu tr. II, po zhutnení hr. 50 mm | G148: m2 | H148: 118.8 | J148: =ROUND(I148*H148,2) -> 0 | M148: 1 | N148: znížená | P148: =O148*H148 -> 0 | Q148: 0.12966 | R148: =Q148*H148 -> 15.403608 | S148: 0 | T148: =S148*H148 -> 0 | AR148: 4 | AT148: K | AU148: 2 | AY148: ROZPOCET | BE148: =IF(N148="základná",J148,0) -> 0 | BF148: =IF(N148="znížená",J148,0) -> 0 | BG148: =IF(N148="zákl. prenesená",J148,0) -> 0 | BH148: =IF(N148="zníž. prenesená",J148,0) -> 0 | BI148: =IF(N148="nulová",J148,0) -> 0 | BJ148: 2 | BK148: =ROUND(I148*H148,2) -> 0 | BL148: 4 | BM148: -1327076632
C149: 10 | D149: K | E149: 596911331.S | F149: Kladenie dlažby pre nevidiacich hr. 60 mm do lôžka z kameniva ťaženého s vyplnením škár | G149: m2 | H149: 2.4 | J149: =ROUND(I149*H149,2) -> 0 | M149: 1 | N149: znížená | P149: =O149*H149 -> 0 | Q149: 0.112 | R149: =Q149*H149 -> 0.2688 | S149: 0 | T149: =S149*H149 -> 0 | AR149: 4 | AT149: K | AU149: 2 | AY149: ROZPOCET | BE149: =IF(N149="základná",J149,0) -> 0 | BF149: =IF(N149="znížená",J149,0) -> 0 | BG149: =IF(N149="zákl. prenesená",J149,0) -> 0 | BH149: =IF(N149="zníž. prenesená",J149,0) -> 0 | BI149: =IF(N149="nulová",J149,0) -> 0 | BJ149: 2 | BK149: =ROUND(I149*H149,2) -> 0 | BL149: 4 | BM149: -763053106
D150: VV | E150: 1 | F150: 2,40 "varovný pás, dlažba pre nevidiacich | H150: 2.4 | AT150: VV | AU150: 2 | AV150: 2 | AW150: True | AX150: 1 | AY150: ROZPOCET
C151: 11 | D151: M | E151: 592460006800 | F151: Dlažba betónová PREMAC Dlažba betónová pre nevidiacich, nopková, rozmer 200x200x60 mm, červená | G151: m2 | H151: 2.448 | J151: =ROUND(I151*H151,2) -> 0 | M151: 1 | N151: znížená | P151: =O151*H151 -> 0 | Q151: 0.13 | R151: =Q151*H151 -> 0.31824 | S151: 0 | T151: =S151*H151 -> 0 | AR151: 8 | AT151: M | AU151: 2 | AY151: ROZPOCET | BE151: =IF(N151="základná",J151,0) -> 0 | BF151: =IF(N151="znížená",J151,0) -> 0 | BG151: =IF(N151="zákl. prenesená",J151,0) -> 0 | BH151: =IF(N151="zníž. prenesená",J151,0) -> 0 | BI151: =IF(N151="nulová",J151,0) -> 0 | BJ151: 2 | BK151: =ROUND(I151*H151,2) -> 0 | BL151: 4 | BM151: -723480566
D152: VV | F152: 2,4*1,02 'Prepočítané koeficientom množstva | H152: 2.448 | AT152: VV | AU152: 2 | AV152: 2 | AW152: False | AX152: 1 | AY152: ROZPOCET
D153: D | E153: 9 | F153: Ostatné konštrukcie a práce-búranie | J153: =BK153 -> 0 | P153: =P154 -> 0 | R153: =R154 -> 0.012891 | T153: =T154 -> 0 | AR153: 1 | AT153: D | AU153: 1 | AY153: ROZPOCET | BK153: =BK154 -> 0
C154: 12 | D154: K | E154: 919721212.S | F154: Dilatačné škáry vkladané v cementobet. kryte, s vyplnením škár asfaltovou zálievkou, pozdĺžne | G154: m | H154: 3 | J154: =ROUND(I154*H154,2) -> 0 | M154: 1 | N154: znížená | P154: =O154*H154 -> 0 | Q154: 0.004297 | R154: =Q154*H154 -> 0.012891 | S154: 0 | T154: =S154*H154 -> 0 | AR154: 4 | AT154: K | AU154: 2 | AY154: ROZPOCET | BE154: =IF(N154="základná",J154,0) -> 0 | BF154: =IF(N154="znížená",J154,0) -> 0 | BG154: =IF(N154="zákl. prenesená",J154,0) -> 0 | BH154: =IF(N154="zníž. prenesená",J154,0) -> 0 | BI154: =IF(N154="nulová",J154,0) -> 0 | BJ154: 2 | BK154: =ROUND(I154*H154,2) -> 0 | BL154: 4 | BM154: 558211295
D155: D | E155: 99 | F155: Presun hmôt HSV | J155: =BK155 -> 0 | P155: =P156 -> 0 | R155: =R156 -> 0 | T155: =T156 -> 0 | AR155: 1 | AT155: D | AU155: 1 | AY155: ROZPOCET | BK155: =BK156 -> 0
C156: 13 | D156: K | E156: 998225111.S | F156: Presun hmôt pre pozemnú komunikáciu a letisko s krytom asfaltovým akejkoľvek dĺžky objektu | G156: t | H156: 84.792 | J156: =ROUND(I156*H156,2) -> 0 | M156: 1 | N156: znížená | P156: =O156*H156 -> 0 | Q156: 0 | R156: =Q156*H156 -> 0 | S156: 0 | T156: =S156*H156 -> 0 | AR156: 4 | AT156: K | AU156: 2 | AY156: ROZPOCET | BE156: =IF(N156="základná",J156,0) -> 0 | BF156: =IF(N156="znížená",J156,0) -> 0 | BG156: =IF(N156="zákl. prenesená",J156,0) -> 0 | BH156: =IF(N156="zníž. prenesená",J156,0) -> 0 | BI156: =IF(N156="nulová",J156,0) -> 0 | BJ156: 2 | BK156: =ROUND(I156*H156,2) -> 0 | BL156: 4 | BM156: -572662059

Sheet SO 161 - Úprava - úsek 4
AT2: {bb78afa2-67f9-46ef-9703-9ff595bec6df}
AT3: 0
D4: KRYCÍ LIST ROZPOČTU | M4: v --- nižšie sa nachádzajú doplnkové a pomocné údaje k zostavám --- v | AT4: False
D6: Stavba:
E7: ='Rekapitulácia objektov stavby'!K6 -> Strategické územie Valalíky
D8: Objekt:
E9: SO 161 - Cyklochodníky - Úprava- úsek 4
D11: JKSO: | F11: 1 | I11: ČS: | J11: 1
D12: Miesto: | F12: kú: Valaliky, kú: Barca, kú: Čaňa | I12: Dátum: | J12: ='Rekapitulácia objektov stavby'!AN8 -> 27. 7. 2026
D14: Objednávateľ: | I14: IČO: | J14: 1
E15: Valaliky Industrial Park, s.r.o., Bratislava | I15: IČ DPH: | J15: 1
D17: Zhotoviteľ: | I17: IČO: | J17: ='Rekapitulácia objektov stavby'!AN13 -> 0
E18: ='Rekapitulácia objektov stavby'!E14 -> 0 | I18: IČ DPH: | J18: ='Rekapitulácia objektov stavby'!AN14 -> 0
D20: Projektant: | I20: IČO: | J20: 1
E21: RRi design, spol. s r.o., Košice | I21: IČ DPH: | J21: 1
D23: Spracovateľ: | I23: IČO: | J23: =IF('Rekapitulácia objektov stavby'!AN19="","",'Rekapitulácia objektov stavby'!AN19) -> 1
E24: =IF('Rekapitulácia objektov stavby'!E20="","",'Rekapitulácia objektov stavby'!E20) | I24: IČ DPH: | J24: =IF('Rekapitulácia objektov stavby'!AN20="","",'Rekapitulácia objektov stavby'!AN20) -> 1
D26: Poznámka:
E27: 1
D30: Náklady z rozpočtu | J30: =J96 -> 0
D31: Ostatné náklady | J31: =J104 -> 0
D32: Cena bez DPH | J32: =ROUND(J30 + J31, 2) -> 0
F34: Základ dane | I34: Sadzba dane | J34: Výška dane
D35: DPH | E35: základná | F35: =ROUND((SUM(BE104:BE111) + SUM(BE131:BE212)), 2) -> 0 | I35: 0.23 | J35: =ROUND(((SUM(BE104:BE111) + SUM(BE131:BE212))*I35), 2) -> 0
E36: znížená | F36: =ROUND((SUM(BF104:BF111) + SUM(BF131:BF212)), 2) -> 0 | I36: 0.23 | J36: =ROUND(((SUM(BF104:BF111) + SUM(BF131:BF212))*I36), 2) -> 0
E37: zákl. prenesená | F37: =ROUND((SUM(BG104:BG111) + SUM(BG131:BG212)), 2) -> 0 | I37: 0.23 | J37: =0 -> 0
E38: zníž. prenesená | F38: =ROUND((SUM(BH104:BH111) + SUM(BH131:BH212)), 2) -> 0 | I38: 0.23 | J38: =0 -> 0
E39: nulová | F39: =ROUND((SUM(BI104:BI111) + SUM(BI131:BI212)), 2) -> 0 | I39: 0 | J39: =0 -> 0
D41: Cena s DPH | G41: v | H41: EUR | J41: =SUM(J32:J39) -> 0
D50: Projektant | G50: Spracovateľ
D61: Dátum a podpis: | F61: Pečiatka | G61: Dátum a podpis: | J61: Pečiatka
D65: Objednávateľ | G65: Zhotoviteľ
D76: Dátum a podpis: | F76: Pečiatka | G76: Dátum a podpis: | J76: Pečiatka
C82: REKAPITULÁCIA ROZPOČTU
C84: Stavba:
E85: =E7 -> Strategické územie Valalíky
C86: Objekt:
E87: =E9 -> SO 161 - Cyklochodníky - Úprava- úsek 4
C89: Miesto: | F89: =F12 -> kú: Valaliky, kú: Barca, kú: Čaňa | I89: Dátum: | J89: =IF(J12="","",J12) -> 27. 7. 2026
C91: Objednávateľ: | F91: =E15 -> Valaliky Industrial Park, s.r.o., Bratislava | I91: Projektant: | J91: =E21 -> RRi design, spol. s r.o., Košice
C92: Zhotoviteľ: | F92: =IF(E18="","",E18) -> 0 | I92: Spracovateľ: | J92: =E24
C94: Kód dielu - Popis | J94: Cena celkom [EUR]
C96: 1) Náklady z rozpočtu | J96: =J131 -> 0 | AU96: -1
D97: HSV - Práce a dodávky HSV | J97: =J132 -> 0
D98: 1 - Zemné práce | J98: =J133 -> 0
D99: 5 - Komunikácie | J99: =J191 -> 0
D100: 9 - Ostatné konštrukcie a práce-búranie | J100: =J204 -> 0
D101: 99 - Presun hmôt HSV | J101: =J211 -> 0
C104: 2) Ostatné náklady | J104: =ROUND(J105 + J106 + J107 + J108 + J109 + J110,2) -> 0 | N104: DPH
D105: GZS | J105: 0 | N105: znížená | AY105: VRN | BE105: =IF(N105="základná",J105,0) -> 0 | BF105: =IF(N105="znížená",J105,0) -> 0 | BG105: =IF(N105="zákl. prenesená",J105,0) -> 0 | BH105: =IF(N105="zníž. prenesená",J105,0) -> 0 | BI105: =IF(N105="nulová",J105,0) -> 0 | BJ105: 2
D106: Projektové práce | J106: 0 | N106: znížená | AY106: VRN | BE106: =IF(N106="základná",J106,0) -> 0 | BF106: =IF(N106="znížená",J106,0) -> 0 | BG106: =IF(N106="zákl. prenesená",J106,0) -> 0 | BH106: =IF(N106="zníž. prenesená",J106,0) -> 0 | BI106: =IF(N106="nulová",J106,0) -> 0 | BJ106: 2
D107: Sťažené podmienky | J107: 0 | N107: znížená | AY107: VRN | BE107: =IF(N107="základná",J107,0) -> 0 | BF107: =IF(N107="znížená",J107,0) -> 0 | BG107: =IF(N107="zákl. prenesená",J107,0) -> 0 | BH107: =IF(N107="zníž. prenesená",J107,0) -> 0 | BI107: =IF(N107="nulová",J107,0) -> 0 | BJ107: 2
D108: Vplyv prostredia | J108: 0 | N108: znížená | AY108: VRN | BE108: =IF(N108="základná",J108,0) -> 0 | BF108: =IF(N108="znížená",J108,0) -> 0 | BG108: =IF(N108="zákl. prenesená",J108,0) -> 0 | BH108: =IF(N108="zníž. prenesená",J108,0) -> 0 | BI108: =IF(N108="nulová",J108,0) -> 0 | BJ108: 2
D109: Iné VRN | J109: 0 | N109: znížená | AY109: VRN | BE109: =IF(N109="základná",J109,0) -> 0 | BF109: =IF(N109="znížená",J109,0) -> 0 | BG109: =IF(N109="zákl. prenesená",J109,0) -> 0 | BH109: =IF(N109="zníž. prenesená",J109,0) -> 0 | BI109: =IF(N109="nulová",J109,0) -> 0 | BJ109: 2
D110: Kompletačná činnosť | J110: =ROUND(J30*T110,2) -> 0 | N110: znížená | AY110: KOMPLETACNA | BE110: =IF(N110="základná",J110,0) -> 0 | BF110: =IF(N110="znížená",J110,0) -> 0 | BG110: =IF(N110="zákl. prenesená",J110,0) -> 0 | BH110: =IF(N110="zníž. prenesená",J110,0) -> 0 | BI110: =IF(N110="nulová",J110,0) -> 0 | BJ110: 2
C112: Celkové náklady za stavbu 1) + 2) | J112: =ROUND(J96+J104,2) -> 0
C118: ROZPOČET
C120: Stavba:
E121: =E7 -> Strategické územie Valalíky
C122: Objekt:
E123: =E9 -> SO 161 - Cyklochodníky - Úprava- úsek 4
C125: Miesto: | F125: =F12 -> kú: Valaliky, kú: Barca, kú: Čaňa | I125: Dátum: | J125: =IF(J12="","",J12) -> 27. 7. 2026
C127: Objednávateľ: | F127: =E15 -> Valaliky Industrial Park, s.r.o., Bratislava | I127: Projektant: | J127: =E21 -> RRi design, spol. s r.o., Košice
C128: Zhotoviteľ: | F128: =IF(E18="","",E18) -> 0 | I128: Spracovateľ: | J128: =E24
C130: PČ | D130: Typ | E130: Kód | F130: Popis | G130: MJ | H130: Množstvo | I130: J.cena [EUR] | J130: Cena celkom [EUR] | K130: Cenová sústava | M130: 1 | N130: DPH | O130: J. Nh [h] | P130: Nh celkom [h] | Q130: J. hmotnosť [t] | R130: Hmotnosť celkom [t] | S130: J. suť [t] | T130: Suť Celkom [t]
C131: Náklady z rozpočtu | J131: =BK131 -> 0 | P131: =P132 -> 0 | R131: =R132 -> 211.28796 | T131: =T132 -> 149.2985 | AT131: D | AU131: -1 | BK131: =BK132 -> 0
D132: D | E132: HSV | F132: Práce a dodávky HSV | J132: =BK132 -> 0 | P132: =P133+P191+P204+P211 -> 0 | R132: =R133+R191+R204+R211 -> 211.28796 | T132: =T133+T191+T204+T211 -> 149.2985 | AR132: 1 | AT132: D | AU132: 0 | AY132: ROZPOCET | BK132: =BK133+BK191+BK204+BK211 -> 0
D133: D | E133: 1 | F133: Zemné práce | J133: =BK133 -> 0 | P133: =SUM(P134:P190) -> 0 | R133: =SUM(R134:R190) -> 96.59274 | T133: =SUM(T134:T190) -> 149.2985 | AR133: 1 | AT133: D | AU133: 1 | AY133: ROZPOCET | BK133: =SUM(BK134:BK190) -> 0
C134: 1 | D134: K | E134: 113157221.S | F134: Odstránenie podkladu alebo krytu z kameniva hrubého drveného v ploche do 200 m2 strojne, hr. vrstvy do 100 mm, -0,13000t | G134: m2 | H134: 28.4 | J134: =ROUND(I134*H134,2) -> 0 | M134: 1 | N134: znížená | P134: =O134*H134 -> 0 | Q134: 0 | R134: =Q134*H134 -> 0 | S134: 0.13 | T134: =S134*H134 -> 3.692 | AR134: 4 | AT134: K | AU134: 2 | AY134: ROZPOCET | BE134: =IF(N134="základná",J134,0) -> 0 | BF134: =IF(N134="znížená",J134,0) -> 0 | BG134: =IF(N134="zákl. prenesená",J134,0) -> 0 | BH134: =IF(N134="zníž. prenesená",J134,0) -> 0 | BI134: =IF(N134="nulová",J134,0) -> 0 | BJ134: 2 | BK134: =ROUND(I134*H134,2) -> 0 | BL134: 4 | BM134: 1328767169
D135: VV | E135: 1 | F135: (30,8+26,0)*0,5 "odstránenie krajnice zo ŠD hr. 100 mm | H135: 28.4 | AT135: VV | AU135: 2 | AV135: 2 | AW135: True | AX135: 1 | AY135: ROZPOCET
C136: 2 | D136: K | E136: 113157222.S | F136: Odstránenie podkladu alebo krytu z kameniva hrubého drveného v ploche do 200 m2 strojne, hr. vrstvy nad 100 do 200 mm, -0,23500t | G136: m2 | H136: 170.3 | J136: =ROUND(I136*H136,2) -> 0 | M136: 1 | N136: znížená | P136: =O136*H136 -> 0 | Q136: 0 | R136: =Q136*H136 -> 0 | S136: 0.235 | T136: =S136*H136 -> 40.0205 | AR136: 4 | AT136: K | AU136: 2 | AY136: ROZPOCET | BE136: =IF(N136="základná",J136,0) -> 0 | BF136: =IF(N136="znížená",J136,0) -> 0 | BG136: =IF(N136="zákl. prenesená",J136,0) -> 0 | BH136: =IF(N136="zníž. prenesená",J136,0) -> 0 | BI136: =IF(N136="nulová",J136,0) -> 0 | BJ136: 2 | BK136: =ROUND(I136*H136,2) -> 0 | BL136: 4 | BM136: 1149228165
D137: VV | E137: 1 | F137: 170,300 "MSK hr. 170 mm | H137: 170.3 | AT137: VV | AU137: 2 | AV137: 2 | AW137: True | AX137: 1 | AY137: ROZPOCET
C138: 3 | D138: K | E138: 113157223.S | F138: Odstránenie podkladu alebo krytu z kameniva hrubého drveného v ploche do 200 m2 strojne, hr. vrstvy nad 200 do 300 mm, -0,40000t | G138: m2 | H138: 170.3 | J138: =ROUND(I138*H138,2) -> 0 | M138: 1 | N138: znížená | P138: =O138*H138 -> 0 | Q138: 0 | R138: =Q138*H138 -> 0 | S138: 0.4 | T138: =S138*H138 -> 68.12 | AR138: 4 | AT138: K | AU138: 2 | AY138: ROZPOCET | BE138: =IF(N138="základná",J138,0) -> 0 | BF138: =IF(N138="znížená",J138,0) -> 0 | BG138: =IF(N138="zákl. prenesená",J138,0) -> 0 | BH138: =IF(N138="zníž. prenesená",J138,0) -> 0 | BI138: =IF(N138="nulová",J138,0) -> 0 | BJ138: 2 | BK138: =ROUND(I138*H138,2) -> 0 | BL138: 4 | BM138: 291197580
D139: VV | E139: 1 | F139: 170,300 "ŠD 0/63 - aktívna zóna | H139: 170.3 | AT139: VV | AU139: 2 | AV139: 2 | AW139: True | AX139: 1 | AY139: ROZPOCET
C140: 4 | D140: K | E140: 113157241.S | F140: Odstránenie podkladu alebo krytu asfaltového v ploche do 200 m2 strojne, hr. vrstvy do 50 mm, -0,11000t | G140: m2 | H140: 340.6 | J140: =ROUND(I140*H140,2) -> 0 | M140: 1 | N140: znížená | P140: =O140*H140 -> 0 | Q140: 0 | R140: =Q140*H140 -> 0 | S140: 0.11 | T140: =S140*H140 -> 37.466 | AR140: 4 | AT140: K | AU140: 2 | AY140: ROZPOCET | BE140: =IF(N140="základná",J140,0) -> 0 | BF140: =IF(N140="znížená",J140,0) -> 0 | BG140: =IF(N140="zákl. prenesená",J140,0) -> 0 | BH140: =IF(N140="zníž. prenesená",J140,0) -> 0 | BI140: =IF(N140="nulová",J140,0) -> 0 | BJ140: 2 | BK140: =ROUND(I140*H140,2) -> 0 | BL140: 4 | BM140: -1635295531
D141: VV | E141: 1 | F141: 170,30 "odstránenie ACO 11 hr. 40 mm | H141: 170.3 | AT141: VV | AU141: 2 | AV141: 2 | AW141: True | AX141: 0 | AY141: ROZPOCET
D142: VV | E142: 1 | F142: 170,30 "odstránenie ACL 22 hr. 50 mm | H142: 170.3 | AT142: VV | AU142: 2 | AV142: 2 | AW142: True | AX142: 0 | AY142: ROZPOCET
D143: VV | E143: 1 | F143: Súčet | H143: 340.6 | AT143: VV | AU143: 2 | AV143: 4 | AW143: True | AX143: 1 | AY143: ROZPOCET
C144: 5 | D144: K | E144: 121101101.S | F144: Odstránenie ornice s vodor. premiestn. na hromady, so zložením na vzdialenosť do 100 m a do 30 m3 | G144: m3 | H144: 61.28 | J144: =ROUND(I144*H144,2) -> 0 | M144: 1 | N144: znížená | P144: =O144*H144 -> 0 | Q144: 0 | R144: =Q144*H144 -> 0 | S144: 0 | T144: =S144*H144 -> 0 | AR144: 4 | AT144: K | AU144: 2 | AY144: ROZPOCET | BE144: =IF(N144="základná",J144,0) -> 0 | BF144: =IF(N144="znížená",J144,0) -> 0 | BG144: =IF(N144="zákl. prenesená",J144,0) -> 0 | BH144: =IF(N144="zníž. prenesená",J144,0) -> 0 | BI144: =IF(N144="nulová",J144,0) -> 0 | BJ144: 2 | BK144: =ROUND(I144*H144,2) -> 0 | BL144: 4 | BM144: 2037043759
D145: VV | E145: 1 | F145: 119,0*0,1 | H145: 11.9 | AT145: VV | AU145: 2 | AV145: 2 | AW145: True | AX145: 0 | AY145: ROZPOCET
D146: VV | E146: 1 | F146: 0,75*(26,0+30,8)*0,1 +0,04 "stredový pás | H146: 4.3 | AT146: VV | AU146: 2 | AV146: 2 | AW146: True | AX146: 0 | AY146: ROZPOCET
D147: VV | E147: 1 | F147: 25,70+19,38 "zvýšenie nivelety | H147: 45.08 | AT147: VV | AU147: 2 | AV147: 2 | AW147: True | AX147: 0 | AY147: ROZPOCET
D148: VV | E148: 1 | F148: Súčet | H148: 61.28 | AT148: VV | AU148: 2 | AV148: 4 | AW148: True | AX148: 1 | AY148: ROZPOCET
C149: 6 | D149: K | E149: 122201102.S | F149: Odkopávka a prekopávka nezapažená v hornine 3, nad 100 do 1000 m3 | G149: m3 | H149: 396.9 | J149: =ROUND(I149*H149,2) -> 0 | M149: 1 | N149: znížená | P149: =O149*H149 -> 0 | Q149: 0 | R149: =Q149*H149 -> 0 | S149: 0 | T149: =S149*H149 -> 0 | AR149: 4 | AT149: K | AU149: 2 | AY149: ROZPOCET | BE149: =IF(N149="základná",J149,0) -> 0 | BF149: =IF(N149="znížená",J149,0) -> 0 | BG149: =IF(N149="zákl. prenesená",J149,0) -> 0 | BH149: =IF(N149="zníž. prenesená",J149,0) -> 0 | BI149: =IF(N149="nulová",J149,0) -> 0 | BJ149: 2 | BK149: =ROUND(I149*H149,2) -> 0 | BL149: 4 | BM149: -1496569599
D150: VV | E150: 1 | F150: 275,0 "odstránenie násypu | H150: 275 | AT150: VV | AU150: 2 | AV150: 2 | AW150: True | AX150: 0 | AY150: ROZPOCET
D151: VV | E151: 1 | F151: 69,50 +52,40 "zemina do násypu pre zvýšenie nivelety, odkop na skládke | H151: 121.9 | AT151: VV | AU151: 2 | AV151: 2 | AW151: True | AX151: 0 | AY151: ROZPOCET
D152: VV | E152: 1 | F152: Súčet | H152: 396.9 | AT152: VV | AU152: 2 | AV152: 4 | AW152: True | AX152: 1 | AY152: ROZPOCET
C153: 7 | D153: K | E153: 162501102.S | F153: Vodorovné premiestnenie výkopku po spevnenej ceste z horniny tr.1-4, do 100 m3 na vzdialenosť do 3000 m | G153: m3 | H153: 38.4 | J153: =ROUND(I153*H153,2) -> 0 | M153: 1 | N153: znížená | P153: =O153*H153 -> 0 | Q153: 0 | R153: =Q153*H153 -> 0 | S153: 0 | T153: =S153*H153 -> 0 | AR153: 4 | AT153: K | AU153: 2 | AY153: ROZPOCET | BE153: =IF(N153="základná",J153,0) -> 0 | BF153: =IF(N153="znížená",J153,0) -> 0 | BG153: =IF(N153="zákl. prenesená",J153,0) -> 0 | BH153: =IF(N153="zníž. prenesená",J153,0) -> 0 | BI153: =IF(N153="nulová",J153,0) -> 0 | BJ153: 2 | BK153: =ROUND(I153*H153,2) -> 0 | BL153: 4 | BM153: 448592941
D154: VV | E154: 1 | F154: 16,160 "odvoz ornice na dočasnú skládku | H154: 16.16 | AT154: VV | AU154: 2 | AV154: 2 | AW154: True | AX154: 0 | AY154: ROZPOCET
D155: VV | E155: 1 | F155: 173,60*0,1 "ornica na spätné zahumusovanie | H155: 17.36 | AT155: VV | AU155: 2 | AV155: 2 | AW155: True | AX155: 0 | AY155: ROZPOCET
D156: VV | E156: 1 | F156: (23,50+25,30)*0,1 "ornica na spätné zahumusovanie-zvýšenie nivelety | H156: 4.88 | AT156: VV | AU156: 2 | AV156: 2 | AW156: True | AX156: 0 | AY156: ROZPOCET
D157: VV | E157: 1 | F157: Súčet | H157: 38.4 | AT157: VV | AU157: 2 | AV157: 4 | AW157: True | AX157: 1 | AY157: ROZPOCET
C158: 8 | D158: K | E158: 162501122.S | F158: Vodorovné premiestnenie výkopku po spevnenej ceste z horniny tr.1-4, nad 100 do 1000 m3 na vzdialenosť do 3000 m | G158: m3 | H158: 671.9 | J158: =ROUND(I158*H158,2) -> 0 | M158: 1 | N158: znížená | P158: =O158*H158 -> 0 | Q158: 0 | R158: =Q158*H158 -> 0 | S158: 0 | T158: =S158*H158 -> 0 | AR158: 4 | AT158: K | AU158: 2 | AY158: ROZPOCET | BE158: =IF(N158="základná",J158,0) -> 0 | BF158: =IF(N158="znížená",J158,0) -> 0 | BG158: =IF(N158="zákl. prenesená",J158,0) -> 0 | BH158: =IF(N158="zníž. prenesená",J158,0) -> 0 | BI158: =IF(N158="nulová",J158,0) -> 0 | BJ158: 2 | BK158: =ROUND(I158*H158,2) -> 0 | BL158: 4 | BM158: -1559505948
D159: VV | E159: 1 | F159: 275,0*2 "odvoz zeminy násypu na dočasnú skládku a späť | H159: 550 | AT159: VV | AU159: 2 | AV159: 2 | AW159: True | AX159: 0 | AY159: ROZPOCET
D160: VV | E160: 1 | F160: 69,50+52,40 "odvoz zeminy násypu pre zvýšenie nivelety zo skládky (zemníka) | H160: 121.9 | AT160: VV | AU160: 2 | AV160: 2 | AW160: True | AX160: 0 | AY160: ROZPOCET
D161: VV | E161: 1 | F161: Súčet | H161: 671.9 | AT161: VV | AU161: 2 | AV161: 4 | AW161: True | AX161: 1 | AY161: ROZPOCET
C162: 9 | D162: K | E162: 167101101.S | F162: Nakladanie neuľahnutého výkopku z hornín tr.1-4 do 100 m3 | G162: m3 | H162: 64.1 | J162: =ROUND(I162*H162,2) -> 0 | M162: 1 | N162: znížená | P162: =O162*H162 -> 0 | Q162: 0 | R162: =Q162*H162 -> 0 | S162: 0 | T162: =S162*H162 -> 0 | AR162: 4 | AT162: K | AU162: 2 | AY162: ROZPOCET | BE162: =IF(N162="základná",J162,0) -> 0 | BF162: =IF(N162="znížená",J162,0) -> 0 | BG162: =IF(N162="zákl. prenesená",J162,0) -> 0 | BH162: =IF(N162="zníž. prenesená",J162,0) -> 0 | BI162: =IF(N162="nulová",J162,0) -> 0 | BJ162: 2 | BK162: =ROUND(I162*H162,2) -> 0 | BL162: 4 | BM162: 1006097101
D163: VV | E163: 1 | F163: 16,160 +25,7 "odstránená ornica na dočasnú skládku | H163: 41.86 | AT163: VV | AU163: 2 | AV163: 2 | AW163: True | AX163: 0 | AY163: ROZPOCET
D164: VV | E164: 1 | F164: 173,60*0,1 +2,35+2,53 "ornica na spätné zahumusovanie+ navýšenie nvelety | H164: 22.24 | AT164: VV | AU164: 2 | AV164: 2 | AW164: True | AX164: 0 | AY164: ROZPOCET
D165: VV | E165: 1 | F165: Súčet | H165: 64.1 | AT165: VV | AU165: 2 | AV165: 4 | AW165: True | AX165: 1 | AY165: ROZPOCET
...

Sheet SO 161 - Úprava - úsek 5
AT2: {7bc53312-bdd6-444a-a2fd-30d0be3c9e10}
AT3: 0
D4: KRYCÍ LIST ROZPOČTU | M4: v --- nižšie sa nachádzajú doplnkové a pomocné údaje k zostavám --- v | AT4: False
D6: Stavba:
E7: ='Rekapitulácia objektov stavby'!K6 -> Strategické územie Valalíky
D8: Objekt:
E9: SO 161 - Cyklochodníky - Úprava úsek 5
D11: JKSO: | F11: 1 | I11: ČS: | J11: 1
D12: Miesto: | F12: kú: Valaliky, kú: Barca, kú: Čaňa | I12: Dátum: | J12: ='Rekapitulácia objektov stavby'!AN8 -> 27. 7. 2026
D14: Objednávateľ: | I14: IČO: | J14: 1
E15: Valaliky Industrial Park, s.r.o., Bratislava | I15: IČ DPH: | J15: 1
D17: Zhotoviteľ: | I17: IČO: | J17: ='Rekapitulácia objektov stavby'!AN13 -> 0
E18: ='Rekapitulácia objektov stavby'!E14 -> 0 | I18: IČ DPH: | J18: ='Rekapitulácia objektov stavby'!AN14 -> 0
D20: Projektant: | I20: IČO: | J20: 1
E21: RRi design, spol. s r.o., Košice | I21: IČ DPH: | J21: 1
D23: Spracovateľ: | I23: IČO: | J23: =IF('Rekapitulácia objektov stavby'!AN19="","",'Rekapitulácia objektov stavby'!AN19) -> 1
E24: =IF('Rekapitulácia objektov stavby'!E20="","",'Rekapitulácia objektov stavby'!E20) | I24: IČ DPH: | J24: =IF('Rekapitulácia objektov stavby'!AN20="","",'Rekapitulácia objektov stavby'!AN20) -> 1
D26: Poznámka:
E27: 1
D30: Náklady z rozpočtu | J30: =J96 -> 0
D31: Ostatné náklady | J31: =J101 -> 0
D32: Cena bez DPH | J32: =ROUND(J30 + J31, 2) -> 0
F34: Základ dane | I34: Sadzba dane | J34: Výška dane
D35: DPH | E35: základná | F35: =ROUND((SUM(BE101:BE108) + SUM(BE128:BE174)), 2) -> 0 | I35: 0.23 | J35: =ROUND(((SUM(BE101:BE108) + SUM(BE128:BE174))*I35), 2) -> 0
E36: znížená | F36: =ROUND((SUM(BF101:BF108) + SUM(BF128:BF174)), 2) -> 0 | I36: 0.23 | J36: =ROUND(((SUM(BF101:BF108) + SUM(BF128:BF174))*I36), 2) -> 0
E37: zákl. prenesená | F37: =ROUND((SUM(BG101:BG108) + SUM(BG128:BG174)), 2) -> 0 | I37: 0.23 | J37: =0 -> 0
E38: zníž. prenesená | F38: =ROUND((SUM(BH101:BH108) + SUM(BH128:BH174)), 2) -> 0 | I38: 0.23 | J38: =0 -> 0
E39: nulová | F39: =ROUND((SUM(BI101:BI108) + SUM(BI128:BI174)), 2) -> 0 | I39: 0 | J39: =0 -> 0
D41: Cena s DPH | G41: v | H41: EUR | J41: =SUM(J32:J39) -> 0
D50: Projektant | G50: Spracovateľ
D61: Dátum a podpis: | F61: Pečiatka | G61: Dátum a podpis: | J61: Pečiatka
D65: Objednávateľ | G65: Zhotoviteľ
D76: Dátum a podpis: | F76: Pečiatka | G76: Dátum a podpis: | J76: Pečiatka
C82: REKAPITULÁCIA ROZPOČTU
C84: Stavba:
E85: =E7 -> Strategické územie Valalíky
C86: Objekt:
E87: =E9 -> SO 161 - Cyklochodníky - Úprava úsek 5
C89: Miesto: | F89: =F12 -> kú: Valaliky, kú: Barca, kú: Čaňa | I89: Dátum: | J89: =IF(J12="","",J12) -> 27. 7. 2026
C91: Objednávateľ: | F91: =E15 -> Valaliky Industrial Park, s.r.o., Bratislava | I91: Projektant: | J91: =E21 -> RRi design, spol. s r.o., Košice
C92: Zhotoviteľ: | F92: =IF(E18="","",E18) -> 0 | I92: Spracovateľ: | J92: =E24
C94: Kód dielu - Popis | J94: Cena celkom [EUR]
C96: 1) Náklady z rozpočtu | J96: =J128 -> 0 | AU96: -1
D97: HSV - Práce a dodávky HSV | J97: =J129 -> 0
D98: 1 - Zemné práce | J98: =J130 -> 0
C101: 2) Ostatné náklady | J101: =ROUND(J102 + J103 + J104 + J105 + J106 + J107,2) -> 0 | N101: DPH
D102: GZS | J102: 0 | N102: znížená | AY102: VRN | BE102: =IF(N102="základná",J102,0) -> 0 | BF102: =IF(N102="znížená",J102,0) -> 0 | BG102: =IF(N102="zákl. prenesená",J102,0) -> 0 | BH102: =IF(N102="zníž. prenesená",J102,0) -> 0 | BI102: =IF(N102="nulová",J102,0) -> 0 | BJ102: 2
D103: Projektové práce | J103: 0 | N103: znížená | AY103: VRN | BE103: =IF(N103="základná",J103,0) -> 0 | BF103: =IF(N103="znížená",J103,0) -> 0 | BG103: =IF(N103="zákl. prenesená",J103,0) -> 0 | BH103: =IF(N103="zníž. prenesená",J103,0) -> 0 | BI103: =IF(N103="nulová",J103,0) -> 0 | BJ103: 2
D104: Sťažené podmienky | J104: 0 | N104: znížená | AY104: VRN | BE104: =IF(N104="základná",J104,0) -> 0 | BF104: =IF(N104="znížená",J104,0) -> 0 | BG104: =IF(N104="zákl. prenesená",J104,0) -> 0 | BH104: =IF(N104="zníž. prenesená",J104,0) -> 0 | BI104: =IF(N104="nulová",J104,0) -> 0 | BJ104: 2
D105: Vplyv prostredia | J105: 0 | N105: znížená | AY105: VRN | BE105: =IF(N105="základná",J105,0) -> 0 | BF105: =IF(N105="znížená",J105,0) -> 0 | BG105: =IF(N105="zákl. prenesená",J105,0) -> 0 | BH105: =IF(N105="zníž. prenesená",J105,0) -> 0 | BI105: =IF(N105="nulová",J105,0) -> 0 | BJ105: 2
D106: Iné VRN | J106: 0 | N106: znížená | AY106: VRN | BE106: =IF(N106="základná",J106,0) -> 0 | BF106: =IF(N106="znížená",J106,0) -> 0 | BG106: =IF(N106="zákl. prenesená",J106,0) -> 0 | BH106: =IF(N106="zníž. prenesená",J106,0) -> 0 | BI106: =IF(N106="nulová",J106,0) -> 0 | BJ106: 2
D107: Kompletačná činnosť | J107: =ROUND(J30*T107,2) -> 0 | N107: znížená | AY107: KOMPLETACNA | BE107: =IF(N107="základná",J107,0) -> 0 | BF107: =IF(N107="znížená",J107,0) -> 0 | BG107: =IF(N107="zákl. prenesená",J107,0) -> 0 | BH107: =IF(N107="zníž. prenesená",J107,0) -> 0 | BI107: =IF(N107="nulová",J107,0) -> 0 | BJ107: 2
C109: Celkové náklady za stavbu 1) + 2) | J109: =ROUND(J96+J101,2) -> 0
C115: ROZPOČET
C117: Stavba:
E118: =E7 -> Strategické územie Valalíky
C119: Objekt:
E120: =E9 -> SO 161 - Cyklochodníky - Úprava úsek 5
C122: Miesto: | F122: =F12 -> kú: Valaliky, kú: Barca, kú: Čaňa | I122: Dátum: | J122: =IF(J12="","",J12) -> 27. 7. 2026
C124: Objednávateľ: | F124: =E15 -> Valaliky Industrial Park, s.r.o., Bratislava | I124: Projektant: | J124: =E21 -> RRi design, spol. s r.o., Košice
C125: Zhotoviteľ: | F125: =IF(E18="","",E18) -> 0 | I125: Spracovateľ: | J125: =E24
C127: PČ | D127: Typ | E127: Kód | F127: Popis | G127: MJ | H127: Množstvo | I127: J.cena [EUR] | J127: Cena celkom [EUR] | K127: Cenová sústava | M127: 1 | N127: DPH | O127: J. Nh [h] | P127: Nh celkom [h] | Q127: J. hmotnosť [t] | R127: Hmotnosť celkom [t] | S127: J. suť [t] | T127: Suť Celkom [t]
C128: Náklady z rozpočtu | J128: =BK128 -> 0 | P128: =P129 -> 0 | R128: =R129 -> 0.024421 | T128: =T129 -> 0 | AT128: D | AU128: -1 | BK128: =BK129 -> 0
D129: D | E129: HSV | F129: Práce a dodávky HSV | J129: =BK129 -> 0 | P129: =P130 -> 0 | R129: =R130 -> 0.024421 | T129: =T130 -> 0 | AR129: 1 | AT129: D | AU129: 0 | AY129: ROZPOCET | BK129: =BK130 -> 0
D130: D | E130: 1 | F130: Zemné práce | J130: =BK130 -> 0 | P130: =SUM(P131:P174) -> 0 | R130: =SUM(R131:R174) -> 0.024421 | T130: =SUM(T131:T174) -> 0 | AR130: 1 | AT130: D | AU130: 1 | AY130: ROZPOCET | BK130: =SUM(BK131:BK174) -> 0
C131: 1 | D131: K | E131: 121101101.S | F131: Odstránenie ornice s vodor. premiestn. na hromady, so zložením na vzdialenosť do 100 m a do 30 m3 | G131: m3 | H131: 43 | J131: =ROUND(I131*H131,2) -> 0 | M131: 1 | N131: znížená | P131: =O131*H131 -> 0 | Q131: 0 | R131: =Q131*H131 -> 0 | S131: 0 | T131: =S131*H131 -> 0 | AR131: 4 | AT131: K | AU131: 2 | AY131: ROZPOCET | BE131: =IF(N131="základná",J131,0) -> 0 | BF131: =IF(N131="znížená",J131,0) -> 0 | BG131: =IF(N131="zákl. prenesená",J131,0) -> 0 | BH131: =IF(N131="zníž. prenesená",J131,0) -> 0 | BI131: =IF(N131="nulová",J131,0) -> 0 | BJ131: 2 | BK131: =ROUND(I131*H131,2) -> 0 | BL131: 4 | BM131: -1147050154
D132: VV | E132: 1 | F132: 93,0*0,1 "odstránenie pôvodnej plochy ornice | H132: 9.3 | AT132: VV | AU132: 2 | AV132: 2 | AW132: True | AX132: 0 | AY132: ROZPOCET
D133: VV | E133: 1 | F133: 19,20+14,50 "zvýšenie nivelety | H133: 33.7 | AT133: VV | AU133: 2 | AV133: 2 | AW133: True | AX133: 0 | AY133: ROZPOCET
D134: VV | E134: 1 | F134: Súčet | H134: 43 | AT134: VV | AU134: 2 | AV134: 4 | AW134: True | AX134: 1 | AY134: ROZPOCET
C135: 2 | D135: K | E135: 122201102.S | F135: Odkopávka a prekopávka nezapažená v hornine 3, nad 100 do 1000 m3 | G135: m3 | H135: 395.7 | J135: =ROUND(I135*H135,2) -> 0 | M135: 1 | N135: znížená | P135: =O135*H135 -> 0 | Q135: 0 | R135: =Q135*H135 -> 0 | S135: 0 | T135: =S135*H135 -> 0 | AR135: 4 | AT135: K | AU135: 2 | AY135: ROZPOCET | BE135: =IF(N135="základná",J135,0) -> 0 | BF135: =IF(N135="znížená",J135,0) -> 0 | BG135: =IF(N135="zákl. prenesená",J135,0) -> 0 | BH135: =IF(N135="zníž. prenesená",J135,0) -> 0 | BI135: =IF(N135="nulová",J135,0) -> 0 | BJ135: 2 | BK135: =ROUND(I135*H135,2) -> 0 | BL135: 4 | BM135: 2134910482
D136: VV | E136: 1 | F136: 310,0 "odstránenie násypu | H136: 310 | AT136: VV | AU136: 2 | AV136: 2 | AW136: True | AX136: 0 | AY136: ROZPOCET
D137: VV | E137: 1 | F137: 48,80 +36,90 "násyp-zvýšenie nivelety, odkopávka zo skládky | H137: 85.7 | AT137: VV | AU137: 2 | AV137: 2 | AW137: True | AX137: 0 | AY137: ROZPOCET
D138: VV | E138: 1 | F138: Súčet | H138: 395.7 | AT138: VV | AU138: 2 | AV138: 4 | AW138: True | AX138: 1 | AY138: ROZPOCET
C139: 3 | D139: K | E139: 162501102.S | F139: Vodorovné premiestnenie výkopku po spevnenej ceste z horniny tr.1-4, do 100 m3 na vzdialenosť do 3000 m | G139: m3 | H139: 57.04 | J139: =ROUND(I139*H139,2) -> 0 | M139: 1 | N139: znížená | P139: =O139*H139 -> 0 | Q139: 0 | R139: =Q139*H139 -> 0 | S139: 0 | T139: =S139*H139 -> 0 | AR139: 4 | AT139: K | AU139: 2 | AY139: ROZPOCET | BE139: =IF(N139="základná",J139,0) -> 0 | BF139: =IF(N139="znížená",J139,0) -> 0 | BG139: =IF(N139="zákl. prenesená",J139,0) -> 0 | BH139: =IF(N139="zníž. prenesená",J139,0) -> 0 | BI139: =IF(N139="nulová",J139,0) -> 0 | BJ139: 2 | BK139: =ROUND(I139*H139,2) -> 0 | BL139: 4 | BM139: -1841361323
D140: VV | E140: 1 | F140: 9,30 "odvoz ornice na dočasnú skládku | H140: 9.3 | AT140: VV | AU140: 2 | AV140: 2 | AW140: True | AX140: 0 | AY140: ROZPOCET
D141: VV | E141: 1 | F141: 19,20+14,50 "odvoz ornice na dočasnú skládku-zvýšenie nivelety | H141: 33.7 | AT141: VV | AU141: 2 | AV141: 2 | AW141: True | AX141: 0 | AY141: ROZPOCET
D142: VV | E142: 1 | F142: 104,0*0,1 "ornica na spätné zahumusovanie | H142: 10.4 | AT142: VV | AU142: 2 | AV142: 2 | AW142: True | AX142: 0 | AY142: ROZPOCET
D143: VV | E143: 1 | F143: (17,40+19,0)*0,1 "ornica na spätné zahumusovanie-zvýšenie nivelety | H143: 3.64 | AT143: VV | AU143: 2 | AV143: 2 | AW143: True | AX143: 0 | AY143: ROZPOCET
D144: VV | E144: 1 | F144: Súčet | H144: 57.04 | AT144: VV | AU144: 2 | AV144: 4 | AW144: True | AX144: 1 | AY144: ROZPOCET
C145: 4 | D145: K | E145: 162501122.S | F145: Vodorovné premiestnenie výkopku po spevnenej ceste z horniny tr.1-4, nad 100 do 1000 m3 na vzdialenosť do 3000 m | G145: m3 | H145: 705.7 | J145: =ROUND(I145*H145,2) -> 0 | M145: 1 | N145: znížená | P145: =O145*H145 -> 0 | Q145: 0 | R145: =Q145*H145 -> 0 | S145: 0 | T145: =S145*H145 -> 0 | AR145: 4 | AT145: K | AU145: 2 | AY145: ROZPOCET | BE145: =IF(N145="základná",J145,0) -> 0 | BF145: =IF(N145="znížená",J145,0) -> 0 | BG145: =IF(N145="zákl. prenesená",J145,0) -> 0 | BH145: =IF(N145="zníž. prenesená",J145,0) -> 0 | BI145: =IF(N145="nulová",J145,0) -> 0 | BJ145: 2 | BK145: =ROUND(I145*H145,2) -> 0 | BL145: 4 | BM145: -895524316
D146: VV | E146: 1 | F146: 310,0*2 "odvoz zeminy násypu na dočasnú skládku a späť | H146: 620 | AT146: VV | AU146: 2 | AV146: 2 | AW146: True | AX146: 0 | AY146: ROZPOCET
D147: VV | E147: 1 | F147: 48,80+36,90 "odvoz zeminy násypu zo skládky-zvýšenie násypu | H147: 85.7 | AT147: VV | AU147: 2 | AV147: 2 | AW147: True | AX147: 0 | AY147: ROZPOCET
D148: VV | E148: 1 | F148: Súčet | H148: 705.7 | AT148: VV | AU148: 2 | AV148: 4 | AW148: True | AX148: 1 | AY148: ROZPOCET
C149: 5 | D149: K | E149: 167101101.S | F149: Nakladanie neuľahnutého výkopku z hornín tr.1-4 do 100 m3 | G149: m3 | H149: 57.04 | J149: =ROUND(I149*H149,2) -> 0 | M149: 1 | N149: znížená | P149: =O149*H149 -> 0 | Q149: 0 | R149: =Q149*H149 -> 0 | S149: 0 | T149: =S149*H149 -> 0 | AR149: 4 | AT149: K | AU149: 2 | AY149: ROZPOCET | BE149: =IF(N149="základná",J149,0) -> 0 | BF149: =IF(N149="znížená",J149,0) -> 0 | BG149: =IF(N149="zákl. prenesená",J149,0) -> 0 | BH149: =IF(N149="zníž. prenesená",J149,0) -> 0 | BI149: =IF(N149="nulová",J149,0) -> 0 | BJ149: 2 | BK149: =ROUND(I149*H149,2) -> 0 | BL149: 4 | BM149: 1006529120
D150: VV | E150: 1 | F150: 9,30 "odstránená ornica na dočasnú skládku | H150: 9.3 | AT150: VV | AU150: 2 | AV150: 2 | AW150: True | AX150: 0 | AY150: ROZPOCET
D151: VV | E151: 1 | F151: 19,20+14,50 "odstránená ornica na dočasnú skládku-zvýšenie nivelety | H151: 33.7 | AT151: VV | AU151: 2 | AV151: 2 | AW151: True | AX151: 0 | AY151: ROZPOCET
D152: VV | E152: 1 | F152: 10,40 "ornica na spätné zahumusovanie | H152: 10.4 | AT152: VV | AU152: 2 | AV152: 2 | AW152: True | AX152: 0 | AY152: ROZPOCET
D153: VV | E153: 1 | F153: (17,40+19,0)*0,1 "ornica na spätné zahumusovanie-zvýšenie nivelety | H153: 3.64 | AT153: VV | AU153: 2 | AV153: 2 | AW153: True | AX153: 0 | AY153: ROZPOCET
D154: VV | E154: 1 | F154: Súčet | H154: 57.04 | AT154: VV | AU154: 2 | AV154: 4 | AW154: True | AX154: 1 | AY154: ROZPOCET
C155: 6 | D155: K | E155: 167101102.S | F155: Nakladanie neuľahnutého výkopku z hornín tr.1-4 nad 100 do 1000 m3 | G155: m3 | H155: 395.7 | J155: =ROUND(I155*H155,2) -> 0 | M155: 1 | N155: znížená | P155: =O155*H155 -> 0 | Q155: 0 | R155: =Q155*H155 -> 0 | S155: 0 | T155: =S155*H155 -> 0 | AR155: 4 | AT155: K | AU155: 2 | AY155: ROZPOCET | BE155: =IF(N155="základná",J155,0) -> 0 | BF155: =IF(N155="znížená",J155,0) -> 0 | BG155: =IF(N155="zákl. prenesená",J155,0) -> 0 | BH155: =IF(N155="zníž. prenesená",J155,0) -> 0 | BI155: =IF(N155="nulová",J155,0) -> 0 | BJ155: 2 | BK155: =ROUND(I155*H155,2) -> 0 | BL155: 4 | BM155: 878300985
D156: VV | E156: 1 | F156: 310,0+48,80+36,90 "zemina do násypu +zvýšenie nivelety | H156: 395.7 | AT156: VV | AU156: 2 | AV156: 2 | AW156: True | AX156: 1 | AY156: ROZPOCET
C157: 7 | D157: K | E157: 171101101.S | F157: Uloženie sypaniny do násypu súdržnej horniny s mierou zhutnenia podľa Proctor-Standard na 95 % | G157: m3 | H157: 395.7 | J157: =ROUND(I157*H157,2) -> 0 | M157: 1 | N157: znížená | P157: =O157*H157 -> 0 | Q157: 0 | R157: =Q157*H157 -> 0 | S157: 0 | T157: =S157*H157 -> 0 | AR157: 4 | AT157: K | AU157: 2 | AY157: ROZPOCET | BE157: =IF(N157="základná",J157,0) -> 0 | BF157: =IF(N157="znížená",J157,0) -> 0 | BG157: =IF(N157="zákl. prenesená",J157,0) -> 0 | BH157: =IF(N157="zníž. prenesená",J157,0) -> 0 | BI157: =IF(N157="nulová",J157,0) -> 0 | BJ157: 2 | BK157: =ROUND(I157*H157,2) -> 0 | BL157: 4 | BM157: 1939607960
D158: VV | E158: 1 | F158: 310,0 "násyp | H158: 310 | AT158: VV | AU158: 2 | AV158: 2 | AW158: True | AX158: 0 | AY158: ROZPOCET
D159: VV | E159: 1 | F159: 48,80+36,90 "zvýšenie násypu | H159: 85.7 | AT159: VV | AU159: 2 | AV159: 2 | AW159: True | AX159: 0 | AY159: ROZPOCET
D160: VV | E160: 1 | F160: Súčet | H160: 395.7 | AT160: VV | AU160: 2 | AV160: 4 | AW160: True | AX160: 1 | AY160: ROZPOCET
C161: 8 | D161: K | E161: 171201201.S | F161: Uloženie sypaniny na skládky do 100 m3 | G161: m3 | H161: 14.46 | J161: =ROUND(I161*H161,2) -> 0 | M161: 1 | N161: znížená | P161: =O161*H161 -> 0 | Q161: 0 | R161: =Q161*H161 -> 0 | S161: 0 | T161: =S161*H161 -> 0 | AR161: 4 | AT161: K | AU161: 2 | AY161: ROZPOCET | BE161: =IF(N161="základná",J161,0) -> 0 | BF161: =IF(N161="znížená",J161,0) -> 0 | BG161: =IF(N161="zákl. prenesená",J161,0) -> 0 | BH161: =IF(N161="zníž. prenesená",J161,0) -> 0 | BI161: =IF(N161="nulová",J161,0) -> 0 | BJ161: 2 | BK161: =ROUND(I161*H161,2) -> 0 | BL161: 4 | BM161: 1879527050
D162: VV | E162: 1 | F162: 28,50-14,04 "dočasná skládka ornice | H162: 14.46 | AT162: VV | AU162: 2 | AV162: 2 | AW162: True | AX162: 1 | AY162: ROZPOCET
C163: 9 | D163: K | E163: 171201202.S | F163: Uloženie sypaniny na skládky nad 100 do 1000 m3 | G163: m3 | H163: 310 | J163: =ROUND(I163*H163,2) -> 0 | M163: 1 | N163: znížená | P163: =O163*H163 -> 0 | Q163: 0 | R163: =Q163*H163 -> 0 | S163: 0 | T163: =S163*H163 -> 0 | AR163: 4 | AT163: K | AU163: 2 | AY163: ROZPOCET | BE163: =IF(N163="základná",J163,0) -> 0 | BF163: =IF(N163="znížená",J163,0) -> 0 | BG163: =IF(N163="zákl. prenesená",J163,0) -> 0 | BH163: =IF(N163="zníž. prenesená",J163,0) -> 0 | BI163: =IF(N163="nulová",J163,0) -> 0 | BJ163: 2 | BK163: =ROUND(I163*H163,2) -> 0 | BL163: 4 | BM163: -47114012
D164: VV | E164: 1 | F164: 310,0 "dočasná skládka zeminy z násypu | H164: 310 | AT164: VV | AU164: 2 | AV164: 2 | AW164: True | AX164: 1 | AY164: ROZPOCET
C165: 10 | D165: K | E165: 181201102.S | F165: Úprava pláne v násypoch v hornine 1-4 so zhutnením | G165: m2 | H165: 33.7 | J165: =ROUND(I165*H165,2) -> 0 | M165: 1 | N165: znížená | P165: =O165*H165 -> 0 | Q165: 0 | R165: =Q165*H165 -> 0 | S165: 0 | T165: =S165*H165 -> 0 | AR165: 4 | AT165: K | AU165: 2 | AY165: ROZPOCET | BE165: =IF(N165="základná",J165,0) -> 0 | BF165: =IF(N165="znížená",J165,0) -> 0 | BG165: =IF(N165="zákl. prenesená",J165,0) -> 0 | BH165: =IF(N165="zníž. prenesená",J165,0) -> 0 | BI165: =IF(N165="nulová",J165,0) -> 0 | BJ165: 2 | BK165: =ROUND(I165*H165,2) -> 0 | BL165: 4 | BM165: -112519602
...

Sheet SO 165.1 - Chodník
AT2: {921ec1ab-5f59-4b52-aac9-4e5729832627}
AT3: 0
D4: KRYCÍ LIST ROZPOČTU | M4: v --- nižšie sa nachádzajú doplnkové a pomocné údaje k zostavám --- v | AT4: False
D6: Stavba:
E7: ='Rekapitulácia objektov stavby'!K6 -> Strategické územie Valalíky
D8: Objekt:
E9: SO 165.1 - Chodník - pre napojenie obce Valaliky - Nové Koščany na cestu III/3813 v úseku "N-E"
D11: JKSO: | F11: 1 | I11: ČS: | J11: 1
D12: Miesto: | F12: kú: Valaliky, kú: Barca, kú: Čaňa | I12: Dátum: | J12: ='Rekapitulácia objektov stavby'!AN8 -> 27. 7. 2026
D14: Objednávateľ: | I14: IČO: | J14: 1
E15: Valaliky Industrial Park, s.r.o., Bratislava | I15: IČ DPH: | J15: 1
D17: Zhotoviteľ: | I17: IČO: | J17: ='Rekapitulácia objektov stavby'!AN13 -> 0
E18: ='Rekapitulácia objektov stavby'!E14 -> 0 | I18: IČ DPH: | J18: ='Rekapitulácia objektov stavby'!AN14 -> 0
D20: Projektant: | I20: IČO: | J20: 1
E21: RRi design, spol. s r.o., Košice | I21: IČ DPH: | J21: 1
D23: Spracovateľ: | I23: IČO: | J23: =IF('Rekapitulácia objektov stavby'!AN19="","",'Rekapitulácia objektov stavby'!AN19) -> 1
E24: =IF('Rekapitulácia objektov stavby'!E20="","",'Rekapitulácia objektov stavby'!E20) | I24: IČ DPH: | J24: =IF('Rekapitulácia objektov stavby'!AN20="","",'Rekapitulácia objektov stavby'!AN20) -> 1
D26: Poznámka:
E27: 1
D30: Náklady z rozpočtu | J30: =J96 -> 0
D31: Ostatné náklady | J31: =J102 -> 0
D32: Cena bez DPH | J32: =ROUND(J30 + J31, 2) -> 0
F34: Základ dane | I34: Sadzba dane | J34: Výška dane
D35: DPH | E35: základná | F35: =ROUND((SUM(BE102:BE109) + SUM(BE129:BE145)), 2) -> 0 | I35: 0.23 | J35: =ROUND(((SUM(BE102:BE109) + SUM(BE129:BE145))*I35), 2) -> 0
E36: znížená | F36: =ROUND((SUM(BF102:BF109) + SUM(BF129:BF145)), 2) -> 0 | I36: 0.23 | J36: =ROUND(((SUM(BF102:BF109) + SUM(BF129:BF145))*I36), 2) -> 0
E37: zákl. prenesená | F37: =ROUND((SUM(BG102:BG109) + SUM(BG129:BG145)), 2) -> 0 | I37: 0.23 | J37: =0 -> 0
E38: zníž. prenesená | F38: =ROUND((SUM(BH102:BH109) + SUM(BH129:BH145)), 2) -> 0 | I38: 0.23 | J38: =0 -> 0
E39: nulová | F39: =ROUND((SUM(BI102:BI109) + SUM(BI129:BI145)), 2) -> 0 | I39: 0 | J39: =0 -> 0
D41: Cena s DPH | G41: v | H41: EUR | J41: =SUM(J32:J39) -> 0
D50: Projektant | G50: Spracovateľ
D61: Dátum a podpis: | F61: Pečiatka | G61: Dátum a podpis: | J61: Pečiatka
D65: Objednávateľ | G65: Zhotoviteľ
D76: Dátum a podpis: | F76: Pečiatka | G76: Dátum a podpis: | J76: Pečiatka
C82: REKAPITULÁCIA ROZPOČTU
C84: Stavba:
E85: =E7 -> Strategické územie Valalíky
C86: Objekt:
E87: =E9 -> SO 165.1 - Chodník - pre napojenie obce Valaliky - Nové Koščany na cestu III/3813 v úseku "N-E"
C89: Miesto: | F89: =F12 -> kú: Valaliky, kú: Barca, kú: Čaňa | I89: Dátum: | J89: =IF(J12="","",J12) -> 27. 7. 2026
C91: Objednávateľ: | F91: =E15 -> Valaliky Industrial Park, s.r.o., Bratislava | I91: Projektant: | J91: =E21 -> RRi design, spol. s r.o., Košice
C92: Zhotoviteľ: | F92: =IF(E18="","",E18) -> 0 | I92: Spracovateľ: | J92: =E24
C94: Kód dielu - Popis | J94: Cena celkom [EUR]
C96: 1) Náklady z rozpočtu | J96: =J129 -> 0 | AU96: -1
D97: HSV - Práce a dodávky HSV | J97: =J130 -> 0
D98: 5 - Komunikácie | J98: =J131 -> 0
D99: 99 - Presun hmôt HSV | J99: =J144 -> 0
C102: 2) Ostatné náklady | J102: =ROUND(J103 + J104 + J105 + J106 + J107 + J108,2) -> 0 | N102: DPH
D103: GZS | J103: 0 | N103: znížená | AY103: VRN | BE103: =IF(N103="základná",J103,0) -> 0 | BF103: =IF(N103="znížená",J103,0) -> 0 | BG103: =IF(N103="zákl. prenesená",J103,0) -> 0 | BH103: =IF(N103="zníž. prenesená",J103,0) -> 0 | BI103: =IF(N103="nulová",J103,0) -> 0 | BJ103: 2
D104: Projektové práce | J104: 0 | N104: znížená | AY104: VRN | BE104: =IF(N104="základná",J104,0) -> 0 | BF104: =IF(N104="znížená",J104,0) -> 0 | BG104: =IF(N104="zákl. prenesená",J104,0) -> 0 | BH104: =IF(N104="zníž. prenesená",J104,0) -> 0 | BI104: =IF(N104="nulová",J104,0) -> 0 | BJ104: 2
D105: Sťažené podmienky | J105: 0 | N105: znížená | AY105: VRN | BE105: =IF(N105="základná",J105,0) -> 0 | BF105: =IF(N105="znížená",J105,0) -> 0 | BG105: =IF(N105="zákl. prenesená",J105,0) -> 0 | BH105: =IF(N105="zníž. prenesená",J105,0) -> 0 | BI105: =IF(N105="nulová",J105,0) -> 0 | BJ105: 2
D106: Vplyv prostredia | J106: 0 | N106: znížená | AY106: VRN | BE106: =IF(N106="základná",J106,0) -> 0 | BF106: =IF(N106="znížená",J106,0) -> 0 | BG106: =IF(N106="zákl. prenesená",J106,0) -> 0 | BH106: =IF(N106="zníž. prenesená",J106,0) -> 0 | BI106: =IF(N106="nulová",J106,0) -> 0 | BJ106: 2
D107: Iné VRN | J107: 0 | N107: znížená | AY107: VRN | BE107: =IF(N107="základná",J107,0) -> 0 | BF107: =IF(N107="znížená",J107,0) -> 0 | BG107: =IF(N107="zákl. prenesená",J107,0) -> 0 | BH107: =IF(N107="zníž. prenesená",J107,0) -> 0 | BI107: =IF(N107="nulová",J107,0) -> 0 | BJ107: 2
D108: Kompletačná činnosť | J108: =ROUND(J30*T108,2) -> 0 | N108: znížená | AY108: KOMPLETACNA | BE108: =IF(N108="základná",J108,0) -> 0 | BF108: =IF(N108="znížená",J108,0) -> 0 | BG108: =IF(N108="zákl. prenesená",J108,0) -> 0 | BH108: =IF(N108="zníž. prenesená",J108,0) -> 0 | BI108: =IF(N108="nulová",J108,0) -> 0 | BJ108: 2
C110: Celkové náklady za stavbu 1) + 2) | J110: =ROUND(J96+J102,2) -> 0
C116: ROZPOČET
C118: Stavba:
E119: =E7 -> Strategické územie Valalíky
C120: Objekt:
E121: =E9 -> SO 165.1 - Chodník - pre napojenie obce Valaliky - Nové Koščany na cestu III/3813 v úseku "N-E"
C123: Miesto: | F123: =F12 -> kú: Valaliky, kú: Barca, kú: Čaňa | I123: Dátum: | J123: =IF(J12="","",J12) -> 27. 7. 2026
C125: Objednávateľ: | F125: =E15 -> Valaliky Industrial Park, s.r.o., Bratislava | I125: Projektant: | J125: =E21 -> RRi design, spol. s r.o., Košice
C126: Zhotoviteľ: | F126: =IF(E18="","",E18) -> 0 | I126: Spracovateľ: | J126: =E24
C128: PČ | D128: Typ | E128: Kód | F128: Popis | G128: MJ | H128: Množstvo | I128: J.cena [EUR] | J128: Cena celkom [EUR] | K128: Cenová sústava | M128: 1 | N128: DPH | O128: J. Nh [h] | P128: Nh celkom [h] | Q128: J. hmotnosť [t] | R128: Hmotnosť celkom [t] | S128: J. suť [t] | T128: Suť Celkom [t]
C129: Náklady z rozpočtu | J129: =BK129 -> 0 | P129: =P130 -> 0 | R129: =R130 -> 37.75003 | T129: =T130 -> 0 | AT129: D | AU129: -1 | BK129: =BK130 -> 0
D130: D | E130: HSV | F130: Práce a dodávky HSV | J130: =BK130 -> 0 | P130: =P131+P144 -> 0 | R130: =R131+R144 -> 37.75003 | T130: =T131+T144 -> 0 | AR130: 1 | AT130: D | AU130: 0 | AY130: ROZPOCET | BK130: =BK131+BK144 -> 0
D131: D | E131: 5 | F131: Komunikácie | J131: =BK131 -> 0 | P131: =SUM(P132:P143) -> 0 | R131: =SUM(R132:R143) -> 37.75003 | T131: =SUM(T132:T143) -> 0 | AR131: 1 | AT131: D | AU131: 1 | AY131: ROZPOCET | BK131: =SUM(BK132:BK143) -> 0
C132: 1 | D132: K | E132: 564861113.S | F132: Podklad zo štrkodrviny s rozprestretím a zhutnením, po zhutnení hr. 220 mm | G132: m2 | H132: 55.5 | J132: =ROUND(I132*H132,2) -> 0 | M132: 1 | N132: znížená | P132: =O132*H132 -> 0 | Q132: 0.506 | R132: =Q132*H132 -> 28.083 | S132: 0 | T132: =S132*H132 -> 0 | AR132: 4 | AT132: K | AU132: 2 | AY132: ROZPOCET | BE132: =IF(N132="základná",J132,0) -> 0 | BF132: =IF(N132="znížená",J132,0) -> 0 | BG132: =IF(N132="zákl. prenesená",J132,0) -> 0 | BH132: =IF(N132="zníž. prenesená",J132,0) -> 0 | BI132: =IF(N132="nulová",J132,0) -> 0 | BJ132: 2 | BK132: =ROUND(I132*H132,2) -> 0 | BL132: 4 | BM132: 2146791811
D133: VV | E133: 1 | F133: 69,0-13,50 "podkladná vrstva chodníka ŠD fr.0/32 | H133: 55.5 | AT133: VV | AU133: 2 | AV133: 2 | AW133: True | AX133: 1 | AY133: ROZPOCET
C134: 2 | D134: K | E134: 573131102.S | F134: Postrek asfaltový infiltračný s posypom kamenivom z cestnej emulzie v množstve 0,80 kg/m2 | G134: m2 | H134: 55.5 | J134: =ROUND(I134*H134,2) -> 0 | M134: 1 | N134: znížená | P134: =O134*H134 -> 0 | Q134: 0.00581 | R134: =Q134*H134 -> 0.322455 | S134: 0 | T134: =S134*H134 -> 0 | AR134: 4 | AT134: K | AU134: 2 | AY134: ROZPOCET | BE134: =IF(N134="základná",J134,0) -> 0 | BF134: =IF(N134="znížená",J134,0) -> 0 | BG134: =IF(N134="zákl. prenesená",J134,0) -> 0 | BH134: =IF(N134="zníž. prenesená",J134,0) -> 0 | BI134: =IF(N134="nulová",J134,0) -> 0 | BJ134: 2 | BK134: =ROUND(I134*H134,2) -> 0 | BL134: 4 | BM134: 1319467961
C135: 3 | D135: K | E135: 577134231.S | F135: Asfaltový betón vrstva obrusná AC 11 O v pruhu š. do 3 m z nemodifik. asfaltu tr. II, po zhutnení hr. 40 mm | G135: m2 | H135: 55.5 | J135: =ROUND(I135*H135,2) -> 0 | M135: 1 | N135: znížená | P135: =O135*H135 -> 0 | Q135: 0.10373 | R135: =Q135*H135 -> 5.757015 | S135: 0 | T135: =S135*H135 -> 0 | AR135: 4 | AT135: K | AU135: 2 | AY135: ROZPOCET | BE135: =IF(N135="základná",J135,0) -> 0 | BF135: =IF(N135="znížená",J135,0) -> 0 | BG135: =IF(N135="zákl. prenesená",J135,0) -> 0 | BH135: =IF(N135="zníž. prenesená",J135,0) -> 0 | BI135: =IF(N135="nulová",J135,0) -> 0 | BJ135: 2 | BK135: =ROUND(I135*H135,2) -> 0 | BL135: 4 | BM135: -1949182595
C136: 4 | D136: K | E136: 596911331.S | F136: Kladenie dlažby pre nevidiacich hr. 60 mm do lôžka z kameniva ťaženého s vyplnením škár | G136: m2 | H136: 14.7 | J136: =ROUND(I136*H136,2) -> 0 | M136: 1 | N136: znížená | P136: =O136*H136 -> 0 | Q136: 0.112 | R136: =Q136*H136 -> 1.6464 | S136: 0 | T136: =S136*H136 -> 0 | AR136: 4 | AT136: K | AU136: 2 | AY136: ROZPOCET | BE136: =IF(N136="základná",J136,0) -> 0 | BF136: =IF(N136="znížená",J136,0) -> 0 | BG136: =IF(N136="zákl. prenesená",J136,0) -> 0 | BH136: =IF(N136="zníž. prenesená",J136,0) -> 0 | BI136: =IF(N136="nulová",J136,0) -> 0 | BJ136: 2 | BK136: =ROUND(I136*H136,2) -> 0 | BL136: 4 | BM136: -1842372940
D137: VV | E137: 1 | F137: 8,5 "varovný pás, dlažba pre nevidiacich | H137: 8.5 | AT137: VV | AU137: 2 | AV137: 2 | AW137: True | AX137: 0 | AY137: ROZPOCET
D138: VV | E138: 1 | F138: 6,2 "vodiaci pás, dlažba pre nevidiacich | H138: 6.2 | AT138: VV | AU138: 2 | AV138: 2 | AW138: True | AX138: 0 | AY138: ROZPOCET
D139: VV | E139: 1 | F139: Súčet | H139: 14.7 | AT139: VV | AU139: 2 | AV139: 4 | AW139: True | AX139: 1 | AY139: ROZPOCET
C140: 5 | D140: M | E140: 592460006800 | F140: Dlažba betónová PREMAC Dlažba betónová pre nevidiacich, nopková, rozmer 200x200x60 mm, červená | G140: m2 | H140: 8.67 | J140: =ROUND(I140*H140,2) -> 0 | M140: 1 | N140: znížená | P140: =O140*H140 -> 0 | Q140: 0.13 | R140: =Q140*H140 -> 1.1271 | S140: 0 | T140: =S140*H140 -> 0 | AR140: 8 | AT140: M | AU140: 2 | AY140: ROZPOCET | BE140: =IF(N140="základná",J140,0) -> 0 | BF140: =IF(N140="znížená",J140,0) -> 0 | BG140: =IF(N140="zákl. prenesená",J140,0) -> 0 | BH140: =IF(N140="zníž. prenesená",J140,0) -> 0 | BI140: =IF(N140="nulová",J140,0) -> 0 | BJ140: 2 | BK140: =ROUND(I140*H140,2) -> 0 | BL140: 4 | BM140: 554620678
D141: VV | F141: 8,5*1,02 'Prepočítané koeficientom množstva | H141: 8.67 | AT141: VV | AU141: 2 | AV141: 2 | AW141: False | AX141: 1 | AY141: ROZPOCET
C142: 6 | D142: M | E142: 592460006900 | F142: Dlažba betónová PREMAC Dlažba betónová pre nevidiacich drážková, rozmer 200x200x60 mm, červená | G142: m2 | H142: 6.262 | J142: =ROUND(I142*H142,2) -> 0 | M142: 1 | N142: znížená | P142: =O142*H142 -> 0 | Q142: 0.13 | R142: =Q142*H142 -> 0.81406 | S142: 0 | T142: =S142*H142 -> 0 | AR142: 8 | AT142: M | AU142: 2 | AY142: ROZPOCET | BE142: =IF(N142="základná",J142,0) -> 0 | BF142: =IF(N142="znížená",J142,0) -> 0 | BG142: =IF(N142="zákl. prenesená",J142,0) -> 0 | BH142: =IF(N142="zníž. prenesená",J142,0) -> 0 | BI142: =IF(N142="nulová",J142,0) -> 0 | BJ142: 2 | BK142: =ROUND(I142*H142,2) -> 0 | BL142: 4 | BM142: -692823020
D143: VV | F143: 6,2*1,01 'Prepočítané koeficientom množstva | H143: 6.262 | AT143: VV | AU143: 2 | AV143: 2 | AW143: False | AX143: 1 | AY143: ROZPOCET
D144: D | E144: 99 | F144: Presun hmôt HSV | J144: =BK144 -> 0 | P144: =P145 -> 0 | R144: =R145 -> 0 | T144: =T145 -> 0 | AR144: 1 | AT144: D | AU144: 1 | AY144: ROZPOCET | BK144: =BK145 -> 0
C145: 7 | D145: K | E145: 998225111.S | F145: Presun hmôt pre pozemnú komunikáciu a letisko s krytom asfaltovým akejkoľvek dĺžky objektu | G145: t | H145: 37.75 | J145: =ROUND(I145*H145,2) -> 0 | M145: 1 | N145: znížená | P145: =O145*H145 -> 0 | Q145: 0 | R145: =Q145*H145 -> 0 | S145: 0 | T145: =S145*H145 -> 0 | AR145: 4 | AT145: K | AU145: 2 | AY145: ROZPOCET | BE145: =IF(N145="základná",J145,0) -> 0 | BF145: =IF(N145="znížená",J145,0) -> 0 | BG145: =IF(N145="zákl. prenesená",J145,0) -> 0 | BH145: =IF(N145="zníž. prenesená",J145,0) -> 0 | BI145: =IF(N145="nulová",J145,0) -> 0 | BJ145: 2 | BK145: =ROUND(I145*H145,2) -> 0 | BL145: 4 | BM145: -126891800

Sheet SO 165 - Úprava
AT2: {6b024d99-e4ce-4ac5-abd1-3c269edc1640}
AT3: 0
D4: KRYCÍ LIST ROZPOČTU | M4: v --- nižšie sa nachádzajú doplnkové a pomocné údaje k zostavám --- v | AT4: False
D6: Stavba:
E7: ='Rekapitulácia objektov stavby'!K6 -> Strategické územie Valalíky
D8: Objekt:
E9: SO 165 - Chodníky - Úprava
D11: JKSO: | F11: 1 | I11: ČS: | J11: 1
D12: Miesto: | F12: kú: Valaliky, kú: Barca, kú: Čaňa | I12: Dátum: | J12: ='Rekapitulácia objektov stavby'!AN8 -> 27. 7. 2026
D14: Objednávateľ: | I14: IČO: | J14: 1
E15: Valaliky Industrial Park, s.r.o., Bratislava | I15: IČ DPH: | J15: 1
D17: Zhotoviteľ: | I17: IČO: | J17: ='Rekapitulácia objektov stavby'!AN13 -> 0
E18: ='Rekapitulácia objektov stavby'!E14 -> 0 | I18: IČ DPH: | J18: ='Rekapitulácia objektov stavby'!AN14 -> 0
D20: Projektant: | I20: IČO: | J20: 1
E21: RRi design, spol. s r.o., Košice | I21: IČ DPH: | J21: 1
D23: Spracovateľ: | I23: IČO: | J23: =IF('Rekapitulácia objektov stavby'!AN19="","",'Rekapitulácia objektov stavby'!AN19) -> 1
E24: =IF('Rekapitulácia objektov stavby'!E20="","",'Rekapitulácia objektov stavby'!E20) | I24: IČ DPH: | J24: =IF('Rekapitulácia objektov stavby'!AN20="","",'Rekapitulácia objektov stavby'!AN20) -> 1
D26: Poznámka:
E27: 1
D30: Náklady z rozpočtu | J30: =J96 -> 0
D31: Ostatné náklady | J31: =J104 -> 0
D32: Cena bez DPH | J32: =ROUND(J30 + J31, 2) -> 0
F34: Základ dane | I34: Sadzba dane | J34: Výška dane
D35: DPH | E35: základná | F35: =ROUND((SUM(BE104:BE111) + SUM(BE131:BE156)), 2) -> 0 | I35: 0.23 | J35: =ROUND(((SUM(BE104:BE111) + SUM(BE131:BE156))*I35), 2) -> 0
E36: znížená | F36: =ROUND((SUM(BF104:BF111) + SUM(BF131:BF156)), 2) -> 0 | I36: 0.23 | J36: =ROUND(((SUM(BF104:BF111) + SUM(BF131:BF156))*I36), 2) -> 0
E37: zákl. prenesená | F37: =ROUND((SUM(BG104:BG111) + SUM(BG131:BG156)), 2) -> 0 | I37: 0.23 | J37: =0 -> 0
E38: zníž. prenesená | F38: =ROUND((SUM(BH104:BH111) + SUM(BH131:BH156)), 2) -> 0 | I38: 0.23 | J38: =0 -> 0
E39: nulová | F39: =ROUND((SUM(BI104:BI111) + SUM(BI131:BI156)), 2) -> 0 | I39: 0 | J39: =0 -> 0
D41: Cena s DPH | G41: v | H41: EUR | J41: =SUM(J32:J39) -> 0
D50: Projektant | G50: Spracovateľ
D61: Dátum a podpis: | F61: Pečiatka | G61: Dátum a podpis: | J61: Pečiatka
D65: Objednávateľ | G65: Zhotoviteľ
D76: Dátum a podpis: | F76: Pečiatka | G76: Dátum a podpis: | J76: Pečiatka
C82: REKAPITULÁCIA ROZPOČTU
C84: Stavba:
E85: =E7 -> Strategické územie Valalíky
C86: Objekt:
E87: =E9 -> SO 165 - Chodníky - Úprava
C89: Miesto: | F89: =F12 -> kú: Valaliky, kú: Barca, kú: Čaňa | I89: Dátum: | J89: =IF(J12="","",J12) -> 27. 7. 2026
C91: Objednávateľ: | F91: =E15 -> Valaliky Industrial Park, s.r.o., Bratislava | I91: Projektant: | J91: =E21 -> RRi design, spol. s r.o., Košice
C92: Zhotoviteľ: | F92: =IF(E18="","",E18) -> 0 | I92: Spracovateľ: | J92: =E24
C94: Kód dielu - Popis | J94: Cena celkom [EUR]
C96: 1) Náklady z rozpočtu | J96: =J131 -> 0 | AU96: -1
D97: HSV - Práce a dodávky HSV | J97: =J132 -> 0
D98: 1 - Zemné práce | J98: =J133 -> 0
D99: 5 - Komunikácie | J99: =J144 -> 0
D100: 9 - Ostatné konštrukcie a práce-búranie | J100: =J148 -> 0
D101: 99 - Presun hmôt HSV | J101: =J155 -> 0
C104: 2) Ostatné náklady | J104: =ROUND(J105 + J106 + J107 + J108 + J109 + J110,2) -> 0 | N104: DPH
D105: GZS | J105: 0 | N105: znížená | AY105: VRN | BE105: =IF(N105="základná",J105,0) -> 0 | BF105: =IF(N105="znížená",J105,0) -> 0 | BG105: =IF(N105="zákl. prenesená",J105,0) -> 0 | BH105: =IF(N105="zníž. prenesená",J105,0) -> 0 | BI105: =IF(N105="nulová",J105,0) -> 0 | BJ105: 2
D106: Projektové práce | J106: 0 | N106: znížená | AY106: VRN | BE106: =IF(N106="základná",J106,0) -> 0 | BF106: =IF(N106="znížená",J106,0) -> 0 | BG106: =IF(N106="zákl. prenesená",J106,0) -> 0 | BH106: =IF(N106="zníž. prenesená",J106,0) -> 0 | BI106: =IF(N106="nulová",J106,0) -> 0 | BJ106: 2
D107: Sťažené podmienky | J107: 0 | N107: znížená | AY107: VRN | BE107: =IF(N107="základná",J107,0) -> 0 | BF107: =IF(N107="znížená",J107,0) -> 0 | BG107: =IF(N107="zákl. prenesená",J107,0) -> 0 | BH107: =IF(N107="zníž. prenesená",J107,0) -> 0 | BI107: =IF(N107="nulová",J107,0) -> 0 | BJ107: 2
D108: Vplyv prostredia | J108: 0 | N108: znížená | AY108: VRN | BE108: =IF(N108="základná",J108,0) -> 0 | BF108: =IF(N108="znížená",J108,0) -> 0 | BG108: =IF(N108="zákl. prenesená",J108,0) -> 0 | BH108: =IF(N108="zníž. prenesená",J108,0) -> 0 | BI108: =IF(N108="nulová",J108,0) -> 0 | BJ108: 2
D109: Iné VRN | J109: 0 | N109: znížená | AY109: VRN | BE109: =IF(N109="základná",J109,0) -> 0 | BF109: =IF(N109="znížená",J109,0) -> 0 | BG109: =IF(N109="zákl. prenesená",J109,0) -> 0 | BH109: =IF(N109="zníž. prenesená",J109,0) -> 0 | BI109: =IF(N109="nulová",J109,0) -> 0 | BJ109: 2
D110: Kompletačná činnosť | J110: =ROUND(J30*T110,2) -> 0 | N110: znížená | AY110: KOMPLETACNA | BE110: =IF(N110="základná",J110,0) -> 0 | BF110: =IF(N110="znížená",J110,0) -> 0 | BG110: =IF(N110="zákl. prenesená",J110,0) -> 0 | BH110: =IF(N110="zníž. prenesená",J110,0) -> 0 | BI110: =IF(N110="nulová",J110,0) -> 0 | BJ110: 2
C112: Celkové náklady za stavbu 1) + 2) | J112: =ROUND(J96+J104,2) -> 0
C118: ROZPOČET
C120: Stavba:
E121: =E7 -> Strategické územie Valalíky
C122: Objekt:
E123: =E9 -> SO 165 - Chodníky - Úprava
C125: Miesto: | F125: =F12 -> kú: Valaliky, kú: Barca, kú: Čaňa | I125: Dátum: | J125: =IF(J12="","",J12) -> 27. 7. 2026
C127: Objednávateľ: | F127: =E15 -> Valaliky Industrial Park, s.r.o., Bratislava | I127: Projektant: | J127: =E21 -> RRi design, spol. s r.o., Košice
C128: Zhotoviteľ: | F128: =IF(E18="","",E18) -> 0 | I128: Spracovateľ: | J128: =E24
C130: PČ | D130: Typ | E130: Kód | F130: Popis | G130: MJ | H130: Množstvo | I130: J.cena [EUR] | J130: Cena celkom [EUR] | K130: Cenová sústava | M130: 1 | N130: DPH | O130: J. Nh [h] | P130: Nh celkom [h] | Q130: J. hmotnosť [t] | R130: Hmotnosť celkom [t] | S130: J. suť [t] | T130: Suť Celkom [t]
C131: Náklady z rozpočtu | J131: =BK131 -> 0 | P131: =P132 -> 0 | R131: =R132 -> 57.640808 | T131: =T132 -> 77.532 | AT131: D | AU131: -1 | BK131: =BK132 -> 0
D132: D | E132: HSV | F132: Práce a dodávky HSV | J132: =BK132 -> 0 | P132: =P133+P144+P148+P155 -> 0 | R132: =R133+R144+R148+R155 -> 57.640808 | T132: =T133+T144+T148+T155 -> 77.532 | AR132: 1 | AT132: D | AU132: 0 | AY132: ROZPOCET | BK132: =BK133+BK144+BK148+BK155 -> 0
D133: D | E133: 1 | F133: Zemné práce | J133: =BK133 -> 0 | P133: =SUM(P134:P143) -> 0 | R133: =SUM(R134:R143) -> 48.308 | T133: =SUM(T134:T143) -> 77.532 | AR133: 1 | AT133: D | AU133: 1 | AY133: ROZPOCET | BK133: =SUM(BK134:BK143) -> 0
C134: 1 | D134: K | E134: 113157223.S | F134: Odstránenie podkladu alebo krytu z kameniva hrubého drveného v ploche do 200 m2 strojne, hr. vrstvy nad 200 do 300 mm, -0,40000t | G134: m2 | H134: 170.4 | J134: =ROUND(I134*H134,2) -> 0 | M134: 1 | N134: znížená | P134: =O134*H134 -> 0 | Q134: 0 | R134: =Q134*H134 -> 0 | S134: 0.4 | T134: =S134*H134 -> 68.16 | AR134: 4 | AT134: K | AU134: 2 | AY134: ROZPOCET | BE134: =IF(N134="základná",J134,0) -> 0 | BF134: =IF(N134="znížená",J134,0) -> 0 | BG134: =IF(N134="zákl. prenesená",J134,0) -> 0 | BH134: =IF(N134="zníž. prenesená",J134,0) -> 0 | BI134: =IF(N134="nulová",J134,0) -> 0 | BJ134: 2 | BK134: =ROUND(I134*H134,2) -> 0 | BL134: 4 | BM134: -1116623547
D135: VV | E135: 1 | F135: 85,20 "ŠD 0/63 - aktívna zóna | H135: 85.2 | AT135: VV | AU135: 2 | AV135: 2 | AW135: True | AX135: 0 | AY135: ROZPOCET
D136: VV | E136: 1 | F136: 85,20 "ŠD 31,5 hr. 220 mm, podkladná vrstva | H136: 85.2 | AT136: VV | AU136: 2 | AV136: 2 | AW136: True | AX136: 0 | AY136: ROZPOCET
D137: VV | E137: 1 | F137: Súčet | H137: 170.4 | AT137: VV | AU137: 2 | AV137: 4 | AW137: True | AX137: 1 | AY137: ROZPOCET
C138: 2 | D138: K | E138: 113157241.S | F138: Odstránenie podkladu alebo krytu asfaltového v ploche do 200 m2 strojne, hr. vrstvy do 50 mm, -0,11000t | G138: m2 | H138: 85.2 | J138: =ROUND(I138*H138,2) -> 0 | M138: 1 | N138: znížená | P138: =O138*H138 -> 0 | Q138: 0 | R138: =Q138*H138 -> 0 | S138: 0.11 | T138: =S138*H138 -> 9.372 | AR138: 4 | AT138: K | AU138: 2 | AY138: ROZPOCET | BE138: =IF(N138="základná",J138,0) -> 0 | BF138: =IF(N138="znížená",J138,0) -> 0 | BG138: =IF(N138="zákl. prenesená",J138,0) -> 0 | BH138: =IF(N138="zníž. prenesená",J138,0) -> 0 | BI138: =IF(N138="nulová",J138,0) -> 0 | BJ138: 2 | BK138: =ROUND(I138*H138,2) -> 0 | BL138: 4 | BM138: 1153877584
D139: VV | E139: 1 | F139: 85,20 "odstránenie ACO 11 hr. 40 mm - kryt chodníka | H139: 85.2 | AT139: VV | AU139: 2 | AV139: 2 | AW139: True | AX139: 1 | AY139: ROZPOCET
C140: 3 | D140: K | E140: 171101111.S | F140: Uloženie sypaniny do násypu nesúdržnej horníny v aktívnej zóne | G140: m3 | H140: 25.56 | J140: =ROUND(I140*H140,2) -> 0 | M140: 1 | N140: znížená | P140: =O140*H140 -> 0 | Q140: 0 | R140: =Q140*H140 -> 0 | S140: 0 | T140: =S140*H140 -> 0 | AR140: 4 | AT140: K | AU140: 2 | AY140: ROZPOCET | BE140: =IF(N140="základná",J140,0) -> 0 | BF140: =IF(N140="znížená",J140,0) -> 0 | BG140: =IF(N140="zákl. prenesená",J140,0) -> 0 | BH140: =IF(N140="zníž. prenesená",J140,0) -> 0 | BI140: =IF(N140="nulová",J140,0) -> 0 | BJ140: 2 | BK140: =ROUND(I140*H140,2) -> 0 | BL140: 4 | BM140: -793436717
D141: VV | E141: 1 | F141: 85,20*0,3 "aktívna zóna ŠD 0/63 mm | H141: 25.56 | AT141: VV | AU141: 2 | AV141: 2 | AW141: True | AX141: 1 | AY141: ROZPOCET
C142: 4 | D142: M | E142: 583410004400.S | F142: Štrkodrva frakcia 0-63 mm | G142: t | H142: 48.308 | J142: =ROUND(I142*H142,2) -> 0 | M142: 1 | N142: znížená | P142: =O142*H142 -> 0 | Q142: 1 | R142: =Q142*H142 -> 48.308 | S142: 0 | T142: =S142*H142 -> 0 | AR142: 8 | AT142: M | AU142: 2 | AY142: ROZPOCET | BE142: =IF(N142="základná",J142,0) -> 0 | BF142: =IF(N142="znížená",J142,0) -> 0 | BG142: =IF(N142="zákl. prenesená",J142,0) -> 0 | BH142: =IF(N142="zníž. prenesená",J142,0) -> 0 | BI142: =IF(N142="nulová",J142,0) -> 0 | BJ142: 2 | BK142: =ROUND(I142*H142,2) -> 0 | BL142: 4 | BM142: 698702117
D143: VV | E143: 1 | F143: 25,560*1,89 | H143: 48.308 | AT143: VV | AU143: 2 | AV143: 2 | AW143: True | AX143: 1 | AY143: ROZPOCET
D144: D | E144: 5 | F144: Komunikácie | J144: =BK144 -> 0 | P144: =SUM(P145:P147) -> 0 | R144: =SUM(R145:R147) -> 9.332808 | T144: =SUM(T145:T147) -> 0 | AR144: 1 | AT144: D | AU144: 1 | AY144: ROZPOCET | BK144: =SUM(BK145:BK147) -> 0
C145: 5 | D145: K | E145: 573131102.S | F145: Postrek asfaltový infiltračný s posypom kamenivom z cestnej emulzie v množstve 0,80 kg/m2 | G145: m2 | H145: 85.2 | J145: =ROUND(I145*H145,2) -> 0 | M145: 1 | N145: znížená | P145: =O145*H145 -> 0 | Q145: 0.00581 | R145: =Q145*H145 -> 0.495012 | S145: 0 | T145: =S145*H145 -> 0 | AR145: 4 | AT145: K | AU145: 2 | AY145: ROZPOCET | BE145: =IF(N145="základná",J145,0) -> 0 | BF145: =IF(N145="znížená",J145,0) -> 0 | BG145: =IF(N145="zákl. prenesená",J145,0) -> 0 | BH145: =IF(N145="zníž. prenesená",J145,0) -> 0 | BI145: =IF(N145="nulová",J145,0) -> 0 | BJ145: 2 | BK145: =ROUND(I145*H145,2) -> 0 | BL145: 4 | BM145: -590948199
C146: 6 | D146: K | E146: 577134231.S | F146: Asfaltový betón vrstva obrusná AC 11 O v pruhu š. do 3 m z nemodifik. asfaltu tr. II, po zhutnení hr. 40 mm | G146: m2 | H146: 85.2 | J146: =ROUND(I146*H146,2) -> 0 | M146: 1 | N146: znížená | P146: =O146*H146 -> 0 | Q146: 0.10373 | R146: =Q146*H146 -> 8.837796 | S146: 0 | T146: =S146*H146 -> 0 | AR146: 4 | AT146: K | AU146: 2 | AY146: ROZPOCET | BE146: =IF(N146="základná",J146,0) -> 0 | BF146: =IF(N146="znížená",J146,0) -> 0 | BG146: =IF(N146="zákl. prenesená",J146,0) -> 0 | BH146: =IF(N146="zníž. prenesená",J146,0) -> 0 | BI146: =IF(N146="nulová",J146,0) -> 0 | BJ146: 2 | BK146: =ROUND(I146*H146,2) -> 0 | BL146: 4 | BM146: 1953757041
D147: VV | E147: 1 | F147: 85,20 "nová plocha | H147: 85.2 | AT147: VV | AU147: 2 | AV147: 2 | AW147: True | AX147: 1 | AY147: ROZPOCET
D148: D | E148: 9 | F148: Ostatné konštrukcie a práce-búranie | J148: =BK148 -> 0 | P148: =SUM(P149:P154) -> 0 | R148: =SUM(R149:R154) -> 0 | T148: =SUM(T149:T154) -> 0 | AR148: 1 | AT148: D | AU148: 1 | AY148: ROZPOCET | BK148: =SUM(BK149:BK154) -> 0
C149: 7 | D149: K | E149: 979082213.S | F149: Vodorovná doprava sutiny so zložením a hrubým urovnaním na vzdialenosť do 1 km | G149: t | H149: 77.532 | J149: =ROUND(I149*H149,2) -> 0 | M149: 1 | N149: znížená | P149: =O149*H149 -> 0 | Q149: 0 | R149: =Q149*H149 -> 0 | S149: 0 | T149: =S149*H149 -> 0 | AR149: 4 | AT149: K | AU149: 2 | AY149: ROZPOCET | BE149: =IF(N149="základná",J149,0) -> 0 | BF149: =IF(N149="znížená",J149,0) -> 0 | BG149: =IF(N149="zákl. prenesená",J149,0) -> 0 | BH149: =IF(N149="zníž. prenesená",J149,0) -> 0 | BI149: =IF(N149="nulová",J149,0) -> 0 | BJ149: 2 | BK149: =ROUND(I149*H149,2) -> 0 | BL149: 4 | BM149: -1890104897
C150: 8 | D150: K | E150: 979082219.S | F150: Príplatok k cene za každý ďalší aj začatý 1 km nad 1 km pre vodorovnú dopravu sutiny | G150: t | H150: 1085.448 | J150: =ROUND(I150*H150,2) -> 0 | M150: 1 | N150: znížená | P150: =O150*H150 -> 0 | Q150: 0 | R150: =Q150*H150 -> 0 | S150: 0 | T150: =S150*H150 -> 0 | AR150: 4 | AT150: K | AU150: 2 | AY150: ROZPOCET | BE150: =IF(N150="základná",J150,0) -> 0 | BF150: =IF(N150="znížená",J150,0) -> 0 | BG150: =IF(N150="zákl. prenesená",J150,0) -> 0 | BH150: =IF(N150="zníž. prenesená",J150,0) -> 0 | BI150: =IF(N150="nulová",J150,0) -> 0 | BJ150: 2 | BK150: =ROUND(I150*H150,2) -> 0 | BL150: 4 | BM150: -181891913
D151: VV | E151: 1 | F151: 77,532*14 "skládka do 15 km | H151: 1085.448 | AT151: VV | AU151: 2 | AV151: 2 | AW151: True | AX151: 1 | AY151: ROZPOCET
C152: 9 | D152: K | E152: 979087212.S | F152: Nakladanie na dopravné prostriedky pre vodorovnú dopravu sutiny | G152: t | H152: 77.532 | J152: =ROUND(I152*H152,2) -> 0 | M152: 1 | N152: znížená | P152: =O152*H152 -> 0 | Q152: 0 | R152: =Q152*H152 -> 0 | S152: 0 | T152: =S152*H152 -> 0 | AR152: 4 | AT152: K | AU152: 2 | AY152: ROZPOCET | BE152: =IF(N152="základná",J152,0) -> 0 | BF152: =IF(N152="znížená",J152,0) -> 0 | BG152: =IF(N152="zákl. prenesená",J152,0) -> 0 | BH152: =IF(N152="zníž. prenesená",J152,0) -> 0 | BI152: =IF(N152="nulová",J152,0) -> 0 | BJ152: 2 | BK152: =ROUND(I152*H152,2) -> 0 | BL152: 4 | BM152: 1323235713
C153: 10 | D153: K | E153: 979089212.S | F153: Poplatok za skládku - bitúmenové zmesi, uholný decht, dechtové výrobky (17 03), ostatné | G153: t | H153: 9.372 | J153: =ROUND(I153*H153,2) -> 0 | M153: 1 | N153: znížená | P153: =O153*H153 -> 0 | Q153: 0 | R153: =Q153*H153 -> 0 | S153: 0 | T153: =S153*H153 -> 0 | AR153: 4 | AT153: K | AU153: 2 | AY153: ROZPOCET | BE153: =IF(N153="základná",J153,0) -> 0 | BF153: =IF(N153="znížená",J153,0) -> 0 | BG153: =IF(N153="zákl. prenesená",J153,0) -> 0 | BH153: =IF(N153="zníž. prenesená",J153,0) -> 0 | BI153: =IF(N153="nulová",J153,0) -> 0 | BJ153: 2 | BK153: =ROUND(I153*H153,2) -> 0 | BL153: 4 | BM153: -186875804
D154: VV | E154: 1 | F154: 85,20*0,11 "vybúrané asfalty | H154: 9.372 | AT154: VV | AU154: 2 | AV154: 2 | AW154: True | AX154: 1 | AY154: ROZPOCET
D155: D | E155: 99 | F155: Presun hmôt HSV | J155: =BK155 -> 0 | P155: =P156 -> 0 | R155: =R156 -> 0 | T155: =T156 -> 0 | AR155: 1 | AT155: D | AU155: 1 | AY155: ROZPOCET | BK155: =BK156 -> 0
C156: 11 | D156: K | E156: 998225111.S | F156: Presun hmôt pre pozemnú komunikáciu a letisko s krytom asfaltovým akejkoľvek dĺžky objektu | G156: t | H156: 57.641 | J156: =ROUND(I156*H156,2) -> 0 | M156: 1 | N156: znížená | P156: =O156*H156 -> 0 | Q156: 0 | R156: =Q156*H156 -> 0 | S156: 0 | T156: =S156*H156 -> 0 | AR156: 4 | AT156: K | AU156: 2 | AY156: ROZPOCET | BE156: =IF(N156="základná",J156,0) -> 0 | BF156: =IF(N156="znížená",J156,0) -> 0 | BG156: =IF(N156="zákl. prenesená",J156,0) -> 0 | BH156: =IF(N156="zníž. prenesená",J156,0) -> 0 | BI156: =IF(N156="nulová",J156,0) -> 0 | BJ156: 2 | BK156: =ROUND(I156*H156,2) -> 0 | BL156: 4 | BM156: 1938048534

Sheet SO 215 - Priepust
AT2: {44941707-5611-4fa3-a549-6461b311fa80}
AT3: 0
D4: KRYCÍ LIST ROZPOČTU | M4: v --- nižšie sa nachádzajú doplnkové a pomocné údaje k zostavám --- v | AT4: False
D6: Stavba:
E7: ='Rekapitulácia objektov stavby'!K6 -> Strategické územie Valalíky
D8: Objekt:
E9: SO 215 - Priepust cez Valalický kanál na MK Valaliky- Nové Koščany
D11: JKSO: | F11: 1 | I11: ČS: | J11: 1
D12: Miesto: | F12: kú: Valaliky, kú: Barca, kú: Čaňa | I12: Dátum: | J12: ='Rekapitulácia objektov stavby'!AN8 -> 27. 7. 2026
D14: Objednávateľ: | I14: IČO: | J14: 1
E15: Valaliky Industrial Park, s.r.o., Bratislava | I15: IČ DPH: | J15: 1
D17: Zhotoviteľ: | I17: IČO: | J17: ='Rekapitulácia objektov stavby'!AN13 -> 0
E18: ='Rekapitulácia objektov stavby'!E14 -> 0 | I18: IČ DPH: | J18: ='Rekapitulácia objektov stavby'!AN14 -> 0
D20: Projektant: | I20: IČO: | J20: 1
E21: RRi design, spol. s r.o., Košice | I21: IČ DPH: | J21: 1
D23: Spracovateľ: | I23: IČO: | J23: =IF('Rekapitulácia objektov stavby'!AN19="","",'Rekapitulácia objektov stavby'!AN19) -> 1
E24: =IF('Rekapitulácia objektov stavby'!E20="","",'Rekapitulácia objektov stavby'!E20) | I24: IČ DPH: | J24: =IF('Rekapitulácia objektov stavby'!AN20="","",'Rekapitulácia objektov stavby'!AN20) -> 1
D26: Poznámka:
E27: 1
D30: Náklady z rozpočtu | J30: =J96 -> 0
D31: Ostatné náklady | J31: =J108 -> 0
D32: Cena bez DPH | J32: =ROUND(J30 + J31, 2) -> 0
F34: Základ dane | I34: Sadzba dane | J34: Výška dane
D35: DPH | E35: základná | F35: =ROUND((SUM(BE108:BE115) + SUM(BE135:BE261)), 2) -> 0 | I35: 0.23 | J35: =ROUND(((SUM(BE108:BE115) + SUM(BE135:BE261))*I35), 2) -> 0
E36: znížená | F36: =ROUND((SUM(BF108:BF115) + SUM(BF135:BF261)), 2) -> 0 | I36: 0.23 | J36: =ROUND(((SUM(BF108:BF115) + SUM(BF135:BF261))*I36), 2) -> 0
E37: zákl. prenesená | F37: =ROUND((SUM(BG108:BG115) + SUM(BG135:BG261)), 2) -> 0 | I37: 0.23 | J37: =0 -> 0
E38: zníž. prenesená | F38: =ROUND((SUM(BH108:BH115) + SUM(BH135:BH261)), 2) -> 0 | I38: 0.23 | J38: =0 -> 0
E39: nulová | F39: =ROUND((SUM(BI108:BI115) + SUM(BI135:BI261)), 2) -> 0 | I39: 0 | J39: =0 -> 0
D41: Cena s DPH | G41: v | H41: EUR | J41: =SUM(J32:J39) -> 0
D50: Projektant | G50: Spracovateľ
D61: Dátum a podpis: | F61: Pečiatka | G61: Dátum a podpis: | J61: Pečiatka
D65: Objednávateľ | G65: Zhotoviteľ
D76: Dátum a podpis: | F76: Pečiatka | G76: Dátum a podpis: | J76: Pečiatka
C82: REKAPITULÁCIA ROZPOČTU
C84: Stavba:
E85: =E7 -> Strategické územie Valalíky
C86: Objekt:
E87: =E9 -> SO 215 - Priepust cez Valalický kanál na MK Valaliky- Nové Koščany
C89: Miesto: | F89: =F12 -> kú: Valaliky, kú: Barca, kú: Čaňa | I89: Dátum: | J89: =IF(J12="","",J12) -> 27. 7. 2026
C91: Objednávateľ: | F91: =E15 -> Valaliky Industrial Park, s.r.o., Bratislava | I91: Projektant: | J91: =E21 -> RRi design, spol. s r.o., Košice
C92: Zhotoviteľ: | F92: =IF(E18="","",E18) -> 0 | I92: Spracovateľ: | J92: =E24
C94: Kód dielu - Popis | J94: Cena celkom [EUR]
C96: 1) Náklady z rozpočtu | J96: =J135 -> 0 | AU96: -1
D97: HSV - Práce a dodávky HSV | J97: =J136 -> 0
D98: 1 - Zemné práce | J98: =J137 -> 0
D99: 2 - Zakladanie | J99: =J166 -> 0
D100: 3 - Zvislé a kompletné konštrukcie | J100: =J183 -> 0
D101: 4 - Vodorovné konštrukcie | J101: =J206 -> 0
D102: 9 - Ostatné konštrukcie a práce-búranie | J102: =J225 -> 0
D103: 99 - Presun hmôt HSV | J103: =J233 -> 0
D104: PSV - Práce a dodávky PSV | J104: =J235 -> 0
D105: 711 - Izolácie proti vode a vlhkosti | J105: =J236 -> 0
C108: 2) Ostatné náklady | J108: =ROUND(J109 + J110 + J111 + J112 + J113 + J114,2) -> 0 | N108: DPH
D109: GZS | J109: 0 | N109: znížená | AY109: VRN | BE109: =IF(N109="základná",J109,0) -> 0 | BF109: =IF(N109="znížená",J109,0) -> 0 | BG109: =IF(N109="zákl. prenesená",J109,0) -> 0 | BH109: =IF(N109="zníž. prenesená",J109,0) -> 0 | BI109: =IF(N109="nulová",J109,0) -> 0 | BJ109: 2
D110: Projektové práce | J110: 0 | N110: znížená | AY110: VRN | BE110: =IF(N110="základná",J110,0) -> 0 | BF110: =IF(N110="znížená",J110,0) -> 0 | BG110: =IF(N110="zákl. prenesená",J110,0) -> 0 | BH110: =IF(N110="zníž. prenesená",J110,0) -> 0 | BI110: =IF(N110="nulová",J110,0) -> 0 | BJ110: 2
D111: Sťažené podmienky | J111: 0 | N111: znížená | AY111: VRN | BE111: =IF(N111="základná",J111,0) -> 0 | BF111: =IF(N111="znížená",J111,0) -> 0 | BG111: =IF(N111="zákl. prenesená",J111,0) -> 0 | BH111: =IF(N111="zníž. prenesená",J111,0) -> 0 | BI111: =IF(N111="nulová",J111,0) -> 0 | BJ111: 2
D112: Vplyv prostredia | J112: 0 | N112: znížená | AY112: VRN | BE112: =IF(N112="základná",J112,0) -> 0 | BF112: =IF(N112="znížená",J112,0) -> 0 | BG112: =IF(N112="zákl. prenesená",J112,0) -> 0 | BH112: =IF(N112="zníž. prenesená",J112,0) -> 0 | BI112: =IF(N112="nulová",J112,0) -> 0 | BJ112: 2
D113: Iné VRN | J113: 0 | N113: znížená | AY113: VRN | BE113: =IF(N113="základná",J113,0) -> 0 | BF113: =IF(N113="znížená",J113,0) -> 0 | BG113: =IF(N113="zákl. prenesená",J113,0) -> 0 | BH113: =IF(N113="zníž. prenesená",J113,0) -> 0 | BI113: =IF(N113="nulová",J113,0) -> 0 | BJ113: 2
D114: Kompletačná činnosť | J114: =ROUND(J30*T114,2) -> 0 | N114: znížená | AY114: KOMPLETACNA | BE114: =IF(N114="základná",J114,0) -> 0 | BF114: =IF(N114="znížená",J114,0) -> 0 | BG114: =IF(N114="zákl. prenesená",J114,0) -> 0 | BH114: =IF(N114="zníž. prenesená",J114,0) -> 0 | BI114: =IF(N114="nulová",J114,0) -> 0 | BJ114: 2
C116: Celkové náklady za stavbu 1) + 2) | J116: =ROUND(J96+J108,2) -> 0
C122: ROZPOČET
C124: Stavba:
E125: =E7 -> Strategické územie Valalíky
C126: Objekt:
E127: =E9 -> SO 215 - Priepust cez Valalický kanál na MK Valaliky- Nové Koščany
C129: Miesto: | F129: =F12 -> kú: Valaliky, kú: Barca, kú: Čaňa | I129: Dátum: | J129: =IF(J12="","",J12) -> 27. 7. 2026
C131: Objednávateľ: | F131: =E15 -> Valaliky Industrial Park, s.r.o., Bratislava | I131: Projektant: | J131: =E21 -> RRi design, spol. s r.o., Košice
C132: Zhotoviteľ: | F132: =IF(E18="","",E18) -> 0 | I132: Spracovateľ: | J132: =E24
C134: PČ | D134: Typ | E134: Kód | F134: Popis | G134: MJ | H134: Množstvo | I134: J.cena [EUR] | J134: Cena celkom [EUR] | K134: Cenová sústava | M134: 1 | N134: DPH | O134: J. Nh [h] | P134: Nh celkom [h] | Q134: J. hmotnosť [t] | R134: Hmotnosť celkom [t] | S134: J. suť [t] | T134: Suť Celkom [t]
C135: Náklady z rozpočtu | J135: =BK135 -> 0 | P135: =P136+P235 -> 0 | R135: =R136+R235 -> 714.30105 | T135: =T136+T235 -> 0 | AT135: D | AU135: -1 | BK135: =BK136+BK235 -> 0
D136: D | E136: HSV | F136: Práce a dodávky HSV | J136: =BK136 -> 0 | P136: =P137+P166+P183+P206+P225+P233 -> 0 | R136: =R137+R166+R183+R206+R225+R233 -> 713.34529 | T136: =T137+T166+T183+T206+T225+T233 -> 0 | AR136: 1 | AT136: D | AU136: 0 | AY136: ROZPOCET | BK136: =BK137+BK166+BK183+BK206+BK225+BK233 -> 0
D137: D | E137: 1 | F137: Zemné práce | J137: =BK137 -> 0 | P137: =SUM(P138:P165) -> 0 | R137: =SUM(R138:R165) -> 61.607 | T137: =SUM(T138:T165) -> 0 | AR137: 1 | AT137: D | AU137: 1 | AY137: ROZPOCET | BK137: =SUM(BK138:BK165) -> 0
C138: 1 | D138: K | E138: 115001106 | F138: Odvedenie vody potrubím pri priemere potrubia DN nad 600 | G138: m | H138: 50 | J138: =ROUND(I138*H138,2) -> 0 | M138: 1 | N138: znížená | P138: =O138*H138 -> 0 | Q138: 0.0199 | R138: =Q138*H138 -> 0.995 | S138: 0 | T138: =S138*H138 -> 0 | AR138: 4 | AT138: K | AU138: 2 | AY138: ROZPOCET | BE138: =IF(N138="základná",J138,0) -> 0 | BF138: =IF(N138="znížená",J138,0) -> 0 | BG138: =IF(N138="zákl. prenesená",J138,0) -> 0 | BH138: =IF(N138="zníž. prenesená",J138,0) -> 0 | BI138: =IF(N138="nulová",J138,0) -> 0 | BJ138: 2 | BK138: =ROUND(I138*H138,2) -> 0 | BL138: 4 | BM138: 1742915470
D139: VV | E139: 1 | F139: 50 "DN 1000 | H139: 50 | AT139: VV | AU139: 2 | AV139: 2 | AW139: True | AX139: 0 | AY139: ROZPOCET
C140: 2 | D140: K | E140: 115101201 | F140: Čerpanie vody na dopravnú výšku do 10 m s priemerným prítokom litrov za minútu nad 100 do 500 l | G140: hod | H140: 960 | J140: =ROUND(I140*H140,2) -> 0 | M140: 1 | N140: znížená | P140: =O140*H140 -> 0 | Q140: 0 | R140: =Q140*H140 -> 0 | S140: 0 | T140: =S140*H140 -> 0 | AR140: 4 | AT140: K | AU140: 2 | AY140: ROZPOCET | BE140: =IF(N140="základná",J140,0) -> 0 | BF140: =IF(N140="znížená",J140,0) -> 0 | BG140: =IF(N140="zákl. prenesená",J140,0) -> 0 | BH140: =IF(N140="zníž. prenesená",J140,0) -> 0 | BI140: =IF(N140="nulová",J140,0) -> 0 | BJ140: 2 | BK140: =ROUND(I140*H140,2) -> 0 | BL140: 4 | BM140: -796963295
D141: VV | E141: 1 | F141: 2*24*20 "2 studne/24 hod/20 dní | H141: 960 | AT141: VV | AU141: 2 | AV141: 2 | AW141: True | AX141: 0 | AY141: ROZPOCET
C142: 3 | D142: K | E142: 115101300 | F142: Pohotovosť záložnej čerpacej súpravy pre výšku do 10 m, s prítokom litrov za minútu do 100 l | G142: deň | H142: 20 | J142: =ROUND(I142*H142,2) -> 0 | M142: 1 | N142: znížená | P142: =O142*H142 -> 0 | Q142: 0 | R142: =Q142*H142 -> 0 | S142: 0 | T142: =S142*H142 -> 0 | AR142: 4 | AT142: K | AU142: 2 | AY142: ROZPOCET | BE142: =IF(N142="základná",J142,0) -> 0 | BF142: =IF(N142="znížená",J142,0) -> 0 | BG142: =IF(N142="zákl. prenesená",J142,0) -> 0 | BH142: =IF(N142="zníž. prenesená",J142,0) -> 0 | BI142: =IF(N142="nulová",J142,0) -> 0 | BJ142: 2 | BK142: =ROUND(I142*H142,2) -> 0 | BL142: 4 | BM142: -1821990140
C143: 4 | D143: K | E143: 129103201 | F143: Čistenie koryta vodotoku šírky dna 5m hĺbka do 5m hornina1-2 | G143: m3 | H143: 40 | J143: =ROUND(I143*H143,2) -> 0 | M143: 1 | N143: znížená | P143: =O143*H143 -> 0 | Q143: 0 | R143: =Q143*H143 -> 0 | S143: 0 | T143: =S143*H143 -> 0 | AR143: 4 | AT143: K | AU143: 2 | AY143: ROZPOCET | BE143: =IF(N143="základná",J143,0) -> 0 | BF143: =IF(N143="znížená",J143,0) -> 0 | BG143: =IF(N143="zákl. prenesená",J143,0) -> 0 | BH143: =IF(N143="zníž. prenesená",J143,0) -> 0 | BI143: =IF(N143="nulová",J143,0) -> 0 | BJ143: 2 | BK143: =ROUND(I143*H143,2) -> 0 | BL143: 4 | BM143: -580934420
D144: VV | E144: 1 | F144: 40*1,0 "odhad : 1m3 nánosu /m v dl. 40 m | H144: 40 | AT144: VV | AU144: 2 | AV144: 2 | AW144: True | AX144: 0 | AY144: ROZPOCET
C145: 5 | D145: K | E145: 131201102.S | F145: Výkop nezapaženej jamy v hornine 3, nad 100 do 1000 m3 | G145: m3 | H145: 444.888 | J145: =ROUND(I145*H145,2) -> 0 | M145: 1 | N145: znížená | P145: =O145*H145 -> 0 | Q145: 0 | R145: =Q145*H145 -> 0 | S145: 0 | T145: =S145*H145 -> 0 | AR145: 4 | AT145: K | AU145: 2 | AY145: ROZPOCET | BE145: =IF(N145="základná",J145,0) -> 0 | BF145: =IF(N145="znížená",J145,0) -> 0 | BG145: =IF(N145="zákl. prenesená",J145,0) -> 0 | BH145: =IF(N145="zníž. prenesená",J145,0) -> 0 | BI145: =IF(N145="nulová",J145,0) -> 0 | BJ145: 2 | BK145: =ROUND(I145*H145,2) -> 0 | BL145: 4 | BM145: 2058862240
D146: VV | E146: 1 | F146: 18,74*17,2+20,7*(21,5-17,2)+2,25*3,5+2,45*3,5+0,6*1,5+3*5,4 | H146: 444.888 | AT146: VV | AU146: 2 | AV146: 2 | AW146: True | AX146: 1 | AY146: ROZPOCET
C147: 6 | D147: K | E147: 162501122 | F147: Vodorovné premiestnenie výkopku po spevnenej ceste z horniny tr.1-4 v množstve nad 100 do 1000 m3 na vzdialenosť do 3000 m | G147: m3 | H147: 620.188 | J147: =ROUND(I147*H147,2) -> 0 | M147: 1 | N147: znížená | P147: =O147*H147 -> 0 | Q147: 0 | R147: =Q147*H147 -> 0 | S147: 0 | T147: =S147*H147 -> 0 | AR147: 4 | AT147: K | AU147: 2 | AY147: ROZPOCET | BE147: =IF(N147="základná",J147,0) -> 0 | BF147: =IF(N147="znížená",J147,0) -> 0 | BG147: =IF(N147="zákl. prenesená",J147,0) -> 0 | BH147: =IF(N147="zníž. prenesená",J147,0) -> 0 | BI147: =IF(N147="nulová",J147,0) -> 0 | BJ147: 2 | BK147: =ROUND(I147*H147,2) -> 0 | BL147: 4 | BM147: -501983917
D148: VV | E148: 1 | F148: 444,888 "zemina z výkopu na medziskládku | H148: 444.888 | AT148: VV | AU148: 2 | AV148: 2 | AW148: True | AX148: 0 | AY148: ROZPOCET
D149: VV | E149: 1 | F149: 63,50+111,80 "zemina do násypu z medziskládky | H149: 175.3 | AT149: VV | AU149: 2 | AV149: 2 | AW149: True | AX149: 0 | AY149: ROZPOCET
D150: VV | E150: 1 | F150: Súčet | H150: 620.188 | AT150: VV | AU150: 2 | AV150: 4 | AW150: True | AX150: 1 | AY150: ROZPOCET
C151: 7 | D151: K | E151: 162501123 | F151: Vodorovné premiestnenie výkopku po spevnenej ceste z horniny tr.1-4 v množstve nad 100 do 1000 m3, príplatok k cene za každých ďalšich a začatých 1000 m | G151: m3 | H151: 539.176 | J151: =ROUND(I151*H151,2) -> 0 | M151: 1 | N151: znížená | P151: =O151*H151 -> 0 | Q151: 0 | R151: =Q151*H151 -> 0 | S151: 0 | T151: =S151*H151 -> 0 | AR151: 4 | AT151: K | AU151: 2 | AY151: ROZPOCET | BE151: =IF(N151="základná",J151,0) -> 0 | BF151: =IF(N151="znížená",J151,0) -> 0 | BG151: =IF(N151="zákl. prenesená",J151,0) -> 0 | BH151: =IF(N151="zníž. prenesená",J151,0) -> 0 | BI151: =IF(N151="nulová",J151,0) -> 0 | BJ151: 2 | BK151: =ROUND(I151*H151,2) -> 0 | BL151: 4 | BM151: 680111448
D152: VV | E152: 1 | F152: (444,888-175,3)*2 "prebytočná zemina na trvalú skládku do 5 km | H152: 539.176 | AT152: VV | AU152: 2 | AV152: 2 | AW152: True | AX152: 1 | AY152: ROZPOCET
C153: 8 | D153: K | E153: 167101102 | F153: Nakladanie neuľahnutého výkopku z hornín tr.1-4 nad 100 do 1000 m3 | G153: m3 | H153: 175.3 | J153: =ROUND(I153*H153,2) -> 0 | M153: 1 | N153: znížená | P153: =O153*H153 -> 0 | Q153: 0 | R153: =Q153*H153 -> 0 | S153: 0 | T153: =S153*H153 -> 0 | AR153: 4 | AT153: K | AU153: 2 | AY153: ROZPOCET | BE153: =IF(N153="základná",J153,0) -> 0 | BF153: =IF(N153="znížená",J153,0) -> 0 | BG153: =IF(N153="zákl. prenesená",J153,0) -> 0 | BH153: =IF(N153="zníž. prenesená",J153,0) -> 0 | BI153: =IF(N153="nulová",J153,0) -> 0 | BJ153: 2 | BK153: =ROUND(I153*H153,2) -> 0 | BL153: 4 | BM153: -1609063012
D154: VV | E154: 1 | F154: 63,50+111,80 "zemina do násypu z medziskládky | H154: 175.3 | AT154: VV | AU154: 2 | AV154: 2 | AW154: True | AX154: 1 | AY154: ROZPOCET
C155: 9 | D155: K | E155: 171101101 | F155: Uloženie sypaniny do násypu súdržnej horniny s mierou zhutnenia podľa Proctor-Standard na 95 % | G155: m3 | H155: 175.3 | J155: =ROUND(I155*H155,2) -> 0 | M155: 1 | N155: znížená | P155: =O155*H155 -> 0 | Q155: 0 | R155: =Q155*H155 -> 0 | S155: 0 | T155: =S155*H155 -> 0 | AR155: 4 | AT155: K | AU155: 2 | AY155: ROZPOCET | BE155: =IF(N155="základná",J155,0) -> 0 | BF155: =IF(N155="znížená",J155,0) -> 0 | BG155: =IF(N155="zákl. prenesená",J155,0) -> 0 | BH155: =IF(N155="zníž. prenesená",J155,0) -> 0 | BI155: =IF(N155="nulová",J155,0) -> 0 | BJ155: 2 | BK155: =ROUND(I155*H155,2) -> 0 | BL155: 4 | BM155: -1927039398
C156: 10 | D156: K | E156: 171201202 | F156: Uloženie sypaniny na skládky nad 100 do 1000 m3 | G156: m3 | H156: 269.588 | J156: =ROUND(I156*H156,2) -> 0 | M156: 1 | N156: znížená | P156: =O156*H156 -> 0 | Q156: 0 | R156: =Q156*H156 -> 0 | S156: 0 | T156: =S156*H156 -> 0 | AR156: 4 | AT156: K | AU156: 2 | AY156: ROZPOCET | BE156: =IF(N156="základná",J156,0) -> 0 | BF156: =IF(N156="znížená",J156,0) -> 0 | BG156: =IF(N156="zákl. prenesená",J156,0) -> 0 | BH156: =IF(N156="zníž. prenesená",J156,0) -> 0 | BI156: =IF(N156="nulová",J156,0) -> 0 | BJ156: 2 | BK156: =ROUND(I156*H156,2) -> 0 | BL156: 4 | BM156: 1738335735
D157: VV | E157: 1 | F157: 444,888-175,3 "prebytočná zemina na trvalú skládku do 5 km | H157: 269.588 | AT157: VV | AU157: 2 | AV157: 2 | AW157: True | AX157: 0 | AY157: ROZPOCET
C158: 11 | D158: K | E158: 175101201 | F158: Obsyp objektu bez prehodenia sypaniny, nesúdržnýmj materiálom | G158: m3 | H158: 12 | J158: =ROUND(I158*H158,2) -> 0 | M158: 1 | N158: znížená | P158: =O158*H158 -> 0 | Q158: 0 | R158: =Q158*H158 -> 0 | S158: 0 | T158: =S158*H158 -> 0 | AR158: 4 | AT158: K | AU158: 2 | AY158: ROZPOCET | BE158: =IF(N158="základná",J158,0) -> 0 | BF158: =IF(N158="znížená",J158,0) -> 0 | BG158: =IF(N158="zákl. prenesená",J158,0) -> 0 | BH158: =IF(N158="zníž. prenesená",J158,0) -> 0 | BI158: =IF(N158="nulová",J158,0) -> 0 | BJ158: 2 | BK158: =ROUND(I158*H158,2) -> 0 | BL158: 4 | BM158: 789822584
D159: VV | E159: 1 | F159: 1,0*0,30*20,0*2 "ochranný zásyp hr.300 mm | H159: 12 | AT159: VV | AU159: 2 | AV159: 2 | AW159: True | AX159: 1 | AY159: ROZPOCET
C160: 12 | D160: M | E160: 583410004300.S | F160: Štrkodrva frakcia 0-32 mm | G160: t | H160: 22.68 | J160: =ROUND(I160*H160,2) -> 0 | M160: 1 | N160: znížená | P160: =O160*H160 -> 0 | Q160: 1 | R160: =Q160*H160 -> 22.68 | S160: 0 | T160: =S160*H160 -> 0 | AR160: 8 | AT160: M | AU160: 2 | AY160: ROZPOCET | BE160: =IF(N160="základná",J160,0) -> 0 | BF160: =IF(N160="znížená",J160,0) -> 0 | BG160: =IF(N160="zákl. prenesená",J160,0) -> 0 | BH160: =IF(N160="zníž. prenesená",J160,0) -> 0 | BI160: =IF(N160="nulová",J160,0) -> 0 | BJ160: 2 | BK160: =ROUND(I160*H160,2) -> 0 | BL160: 4 | BM160: -499725124
D161: VV | F161: 12*1,89 'Prepočítané koeficientom množstva | H161: 22.68 | AT161: VV | AU161: 2 | AV161: 2 | AW161: False | AX161: 1 | AY161: ROZPOCET
C162: 13 | D162: K | E162: 175101202 | F162: Zriadenie tesniacej výplne so zhutnením do 100% PSalebo I(d) 0, 9 | G162: m3 | H162: 20.07 | J162: =ROUND(I162*H162,2) -> 0 | M162: 1 | N162: znížená | P162: =O162*H162 -> 0 | Q162: 0 | R162: =Q162*H162 -> 0 | S162: 0 | T162: =S162*H162 -> 0 | AR162: 4 | AT162: K | AU162: 2 | AY162: ROZPOCET | BE162: =IF(N162="základná",J162,0) -> 0 | BF162: =IF(N162="znížená",J162,0) -> 0 | BG162: =IF(N162="zákl. prenesená",J162,0) -> 0 | BH162: =IF(N162="zníž. prenesená",J162,0) -> 0 | BI162: =IF(N162="nulová",J162,0) -> 0 | BJ162: 2 | BK162: =ROUND(I162*H162,2) -> 0 | BL162: 4 | BM162: -461804905
D163: VV | E163: 1 | F163: 20,07 "2x tesniaca vrstva zo ŠP hr. 100 mm | H163: 20.07 | AT163: VV | AU163: 2 | AV163: 2 | AW163: True | AX163: 0 | AY163: ROZPOCET
C164: 14 | D164: M | E164: 583310003200.S | F164: Štrkopiesok frakcia 0-32 mm | G164: t | H164: 37.932 | J164: =ROUND(I164*H164,2) -> 0 | M164: 1 | N164: znížená | P164: =O164*H164 -> 0 | Q164: 1 | R164: =Q164*H164 -> 37.932 | S164: 0 | T164: =S164*H164 -> 0 | AR164: 8 | AT164: M | AU164: 2 | AY164: ROZPOCET | BE164: =IF(N164="základná",J164,0) -> 0 | BF164: =IF(N164="znížená",J164,0) -> 0 | BG164: =IF(N164="zákl. prenesená",J164,0) -> 0 | BH164: =IF(N164="zníž. prenesená",J164,0) -> 0 | BI164: =IF(N164="nulová",J164,0) -> 0 | BJ164: 2 | BK164: =ROUND(I164*H164,2) -> 0 | BL164: 4 | BM164: 1794108746
D165: VV | F165: 20,07*1,89 'Prepočítané koeficientom množstva | H165: 37.932 | AT165: VV | AU165: 2 | AV165: 2 | AW165: False | AX165: 1 | AY165: ROZPOCET
...

Sheet SO 409 - Železničný spodok
AT2: {2f0803a1-9988-449c-8e22-77374517cc6f}
AT3: 0
D4: KRYCÍ LIST ROZPOČTU | M4: v --- nižšie sa nachádzajú doplnkové a pomocné údaje k zostavám --- v | AT4: False
D6: Stavba:
E7: ='Rekapitulácia objektov stavby'!K6 -> Strategické územie Valalíky
D8: Objekt:
E9: SO 409 - Barca- Čaňa, Železničný spodok
D11: JKSO: | F11: 1 | I11: ČS: | J11: 1
D12: Miesto: | F12: kú: Valaliky, kú: Barca, kú: Čaňa | I12: Dátum: | J12: ='Rekapitulácia objektov stavby'!AN8 -> 27. 7. 2026
D14: Objednávateľ: | I14: IČO: | J14: 1
E15: Valaliky Industrial Park, s.r.o., Bratislava | I15: IČ DPH: | J15: 1
D17: Zhotoviteľ: | I17: IČO: | J17: ='Rekapitulácia objektov stavby'!AN13 -> 0
E18: ='Rekapitulácia objektov stavby'!E14 -> 0 | I18: IČ DPH: | J18: ='Rekapitulácia objektov stavby'!AN14 -> 0
D20: Projektant: | I20: IČO: | J20: 1
E21: RRi design, spol. s r.o., Košice | I21: IČ DPH: | J21: 1
D23: Spracovateľ: | I23: IČO: | J23: =IF('Rekapitulácia objektov stavby'!AN19="","",'Rekapitulácia objektov stavby'!AN19) -> 1
E24: =IF('Rekapitulácia objektov stavby'!E20="","",'Rekapitulácia objektov stavby'!E20) | I24: IČ DPH: | J24: =IF('Rekapitulácia objektov stavby'!AN20="","",'Rekapitulácia objektov stavby'!AN20) -> 1
D26: Poznámka:
E27: 1
D30: Náklady z rozpočtu | J30: =J96 -> 0
D31: Ostatné náklady | J31: =J106 -> 0
D32: Cena bez DPH | J32: =ROUND(J30 + J31, 2) -> 0
F34: Základ dane | I34: Sadzba dane | J34: Výška dane
D35: DPH | E35: základná | F35: =ROUND((SUM(BE106:BE113) + SUM(BE133:BE235)), 2) -> 0 | I35: 0.23 | J35: =ROUND(((SUM(BE106:BE113) + SUM(BE133:BE235))*I35), 2) -> 0
E36: znížená | F36: =ROUND((SUM(BF106:BF113) + SUM(BF133:BF235)), 2) -> 0 | I36: 0.23 | J36: =ROUND(((SUM(BF106:BF113) + SUM(BF133:BF235))*I36), 2) -> 0
E37: zákl. prenesená | F37: =ROUND((SUM(BG106:BG113) + SUM(BG133:BG235)), 2) -> 0 | I37: 0.23 | J37: =0 -> 0
E38: zníž. prenesená | F38: =ROUND((SUM(BH106:BH113) + SUM(BH133:BH235)), 2) -> 0 | I38: 0.23 | J38: =0 -> 0
E39: nulová | F39: =ROUND((SUM(BI106:BI113) + SUM(BI133:BI235)), 2) -> 0 | I39: 0 | J39: =0 -> 0
D41: Cena s DPH | G41: v | H41: EUR | J41: =SUM(J32:J39) -> 0
D50: Projektant | G50: Spracovateľ
D61: Dátum a podpis: | F61: Pečiatka | G61: Dátum a podpis: | J61: Pečiatka
D65: Objednávateľ | G65: Zhotoviteľ
D76: Dátum a podpis: | F76: Pečiatka | G76: Dátum a podpis: | J76: Pečiatka
C82: REKAPITULÁCIA ROZPOČTU
C84: Stavba:
E85: =E7 -> Strategické územie Valalíky
C86: Objekt:
E87: =E9 -> SO 409 - Barca- Čaňa, Železničný spodok
C89: Miesto: | F89: =F12 -> kú: Valaliky, kú: Barca, kú: Čaňa | I89: Dátum: | J89: =IF(J12="","",J12) -> 27. 7. 2026
C91: Objednávateľ: | F91: =E15 -> Valaliky Industrial Park, s.r.o., Bratislava | I91: Projektant: | J91: =E21 -> RRi design, spol. s r.o., Košice
C92: Zhotoviteľ: | F92: =IF(E18="","",E18) -> 0 | I92: Spracovateľ: | J92: =E24
C94: Kód dielu - Popis | J94: Cena celkom [EUR]
C96: 1) Náklady z rozpočtu | J96: =J133 -> 0 | AU96: -1
D97: HSV - Práce a dodávky HSV | J97: =J134 -> 0
D98: 1 - Zemné práce | J98: =J135 -> 0
D99: 2 - Zakladanie | J99: =J177 -> 0
D100: 4 - Vodorovné konštrukcie | J100: =J190 -> 0
D101: 5 - Komunikácie | J101: =J205 -> 0
D102: 8 - Rúrové vedenie | J102: =J208 -> 0
D103: 99 - Presun hmôt HSV | J103: =J234 -> 0
C106: 2) Ostatné náklady | J106: =ROUND(J107 + J108 + J109 + J110 + J111 + J112,2) -> 0 | N106: DPH
D107: GZS | J107: 0 | N107: znížená | AY107: VRN | BE107: =IF(N107="základná",J107,0) -> 0 | BF107: =IF(N107="znížená",J107,0) -> 0 | BG107: =IF(N107="zákl. prenesená",J107,0) -> 0 | BH107: =IF(N107="zníž. prenesená",J107,0) -> 0 | BI107: =IF(N107="nulová",J107,0) -> 0 | BJ107: 2
D108: Projektové práce | J108: 0 | N108: znížená | AY108: VRN | BE108: =IF(N108="základná",J108,0) -> 0 | BF108: =IF(N108="znížená",J108,0) -> 0 | BG108: =IF(N108="zákl. prenesená",J108,0) -> 0 | BH108: =IF(N108="zníž. prenesená",J108,0) -> 0 | BI108: =IF(N108="nulová",J108,0) -> 0 | BJ108: 2
D109: Sťažené podmienky | J109: 0 | N109: znížená | AY109: VRN | BE109: =IF(N109="základná",J109,0) -> 0 | BF109: =IF(N109="znížená",J109,0) -> 0 | BG109: =IF(N109="zákl. prenesená",J109,0) -> 0 | BH109: =IF(N109="zníž. prenesená",J109,0) -> 0 | BI109: =IF(N109="nulová",J109,0) -> 0 | BJ109: 2
D110: Vplyv prostredia | J110: 0 | N110: znížená | AY110: VRN | BE110: =IF(N110="základná",J110,0) -> 0 | BF110: =IF(N110="znížená",J110,0) -> 0 | BG110: =IF(N110="zákl. prenesená",J110,0) -> 0 | BH110: =IF(N110="zníž. prenesená",J110,0) -> 0 | BI110: =IF(N110="nulová",J110,0) -> 0 | BJ110: 2
D111: Iné VRN | J111: 0 | N111: znížená | AY111: VRN | BE111: =IF(N111="základná",J111,0) -> 0 | BF111: =IF(N111="znížená",J111,0) -> 0 | BG111: =IF(N111="zákl. prenesená",J111,0) -> 0 | BH111: =IF(N111="zníž. prenesená",J111,0) -> 0 | BI111: =IF(N111="nulová",J111,0) -> 0 | BJ111: 2
D112: Kompletačná činnosť | J112: =ROUND(J30*T112,2) -> 0 | N112: znížená | AY112: KOMPLETACNA | BE112: =IF(N112="základná",J112,0) -> 0 | BF112: =IF(N112="znížená",J112,0) -> 0 | BG112: =IF(N112="zákl. prenesená",J112,0) -> 0 | BH112: =IF(N112="zníž. prenesená",J112,0) -> 0 | BI112: =IF(N112="nulová",J112,0) -> 0 | BJ112: 2
C114: Celkové náklady za stavbu 1) + 2) | J114: =ROUND(J96+J106,2) -> 0
C120: ROZPOČET
C122: Stavba:
E123: =E7 -> Strategické územie Valalíky
C124: Objekt:
E125: =E9 -> SO 409 - Barca- Čaňa, Železničný spodok
C127: Miesto: | F127: =F12 -> kú: Valaliky, kú: Barca, kú: Čaňa | I127: Dátum: | J127: =IF(J12="","",J12) -> 27. 7. 2026
C129: Objednávateľ: | F129: =E15 -> Valaliky Industrial Park, s.r.o., Bratislava | I129: Projektant: | J129: =E21 -> RRi design, spol. s r.o., Košice
C130: Zhotoviteľ: | F130: =IF(E18="","",E18) -> 0 | I130: Spracovateľ: | J130: =E24
C132: PČ | D132: Typ | E132: Kód | F132: Popis | G132: MJ | H132: Množstvo | I132: J.cena [EUR] | J132: Cena celkom [EUR] | K132: Cenová sústava | M132: 1 | N132: DPH | O132: J. Nh [h] | P132: Nh celkom [h] | Q132: J. hmotnosť [t] | R132: Hmotnosť celkom [t] | S132: J. suť [t] | T132: Suť Celkom [t]
C133: Náklady z rozpočtu | J133: =BK133 -> 0 | P133: =P134 -> 0 | R133: =R134 -> 387.39419 | T133: =T134 -> 0 | AT133: D | AU133: -1 | BK133: =BK134 -> 0
D134: D | E134: HSV | F134: Práce a dodávky HSV | J134: =BK134 -> 0 | P134: =P135+P177+P190+P205+P208+P234 -> 0 | R134: =R135+R177+R190+R205+R208+R234 -> 387.39419 | T134: =T135+T177+T190+T205+T208+T234 -> 0 | AR134: 1 | AT134: D | AU134: 0 | AY134: ROZPOCET | BK134: =BK135+BK177+BK190+BK205+BK208+BK234 -> 0
D135: D | E135: 1 | F135: Zemné práce | J135: =BK135 -> 0 | P135: =SUM(P136:P176) -> 0 | R135: =SUM(R136:R176) -> 14.758368 | T135: =SUM(T136:T176) -> 0 | AR135: 1 | AT135: D | AU135: 1 | AY135: ROZPOCET | BK135: =SUM(BK136:BK176) -> 0
C136: 1 | D136: K | E136: 121101102.S | F136: Odstránenie ornice s vodor. premiestn. na hromady, so zložením na vzdialenosť do 100 m a do 50 m3 | G136: m3 | H136: 23.4 | J136: =ROUND(I136*H136,2) -> 0 | M136: 1 | N136: znížená | P136: =O136*H136 -> 0 | Q136: 0 | R136: =Q136*H136 -> 0 | S136: 0 | T136: =S136*H136 -> 0 | AR136: 4 | AT136: K | AU136: 2 | AY136: ROZPOCET | BE136: =IF(N136="základná",J136,0) -> 0 | BF136: =IF(N136="znížená",J136,0) -> 0 | BG136: =IF(N136="zákl. prenesená",J136,0) -> 0 | BH136: =IF(N136="zníž. prenesená",J136,0) -> 0 | BI136: =IF(N136="nulová",J136,0) -> 0 | BJ136: 2 | BK136: =ROUND(I136*H136,2) -> 0 | BL136: 4 | BM136: 1577465860
D137: VV | E137: 1 | F137: 155,50*0,15+0,075 "odstránenie ornice v hr. 150 mm | H137: 23.4 | AT137: VV | AU137: 2 | AV137: 2 | AW137: True | AX137: 1 | AY137: ROZPOCET
C138: 2 | D138: K | E138: 122201102.S | F138: Odkopávka a prekopávka nezapažená v hornine 3, nad 100 do 1000 m3 | G138: m3 | H138: 259.6 | J138: =ROUND(I138*H138,2) -> 0 | M138: 1 | N138: znížená | P138: =O138*H138 -> 0 | Q138: 0 | R138: =Q138*H138 -> 0 | S138: 0 | T138: =S138*H138 -> 0 | AR138: 4 | AT138: K | AU138: 2 | AY138: ROZPOCET | BE138: =IF(N138="základná",J138,0) -> 0 | BF138: =IF(N138="znížená",J138,0) -> 0 | BG138: =IF(N138="zákl. prenesená",J138,0) -> 0 | BH138: =IF(N138="zníž. prenesená",J138,0) -> 0 | BI138: =IF(N138="nulová",J138,0) -> 0 | BJ138: 2 | BK138: =ROUND(I138*H138,2) -> 0 | BL138: 4 | BM138: 579502922
C139: 3 | D139: K | E139: 132201101.S | F139: Výkop ryhy do šírky 600 mm v horn.3 do 100 m3 | G139: m3 | H139: 14.4 | J139: =ROUND(I139*H139,2) -> 0 | M139: 1 | N139: znížená | P139: =O139*H139 -> 0 | Q139: 0 | R139: =Q139*H139 -> 0 | S139: 0 | T139: =S139*H139 -> 0 | AR139: 4 | AT139: K | AU139: 2 | AY139: ROZPOCET | BE139: =IF(N139="základná",J139,0) -> 0 | BF139: =IF(N139="znížená",J139,0) -> 0 | BG139: =IF(N139="zákl. prenesená",J139,0) -> 0 | BH139: =IF(N139="zníž. prenesená",J139,0) -> 0 | BI139: =IF(N139="nulová",J139,0) -> 0 | BJ139: 2 | BK139: =ROUND(I139*H139,2) -> 0 | BL139: 4 | BM139: 618420665
D140: VV | E140: 1 | F140: 0,6*0,4*40,0 "rýha pre trativod | H140: 9.6 | AT140: VV | AU140: 2 | AV140: 2 | AW140: True | AX140: 0 | AY140: ROZPOCET
D141: VV | E141: 1 | F141: 1,1*0,8*5,4+0,048 "rýha pre zvodné potrubie | H141: 4.8 | AT141: VV | AU141: 2 | AV141: 2 | AW141: True | AX141: 0 | AY141: ROZPOCET
D142: VV | E142: 1 | F142: Súčet | H142: 14.4 | AT142: VV | AU142: 2 | AV142: 4 | AW142: True | AX142: 1 | AY142: ROZPOCET
C143: 4 | D143: K | E143: 133201101.S | F143: Výkop šachty zapaženej, hornina 3 do 100 m3 | G143: m3 | H143: 11.2 | J143: =ROUND(I143*H143,2) -> 0 | M143: 1 | N143: znížená | P143: =O143*H143 -> 0 | Q143: 0 | R143: =Q143*H143 -> 0 | S143: 0 | T143: =S143*H143 -> 0 | AR143: 4 | AT143: K | AU143: 2 | AY143: ROZPOCET | BE143: =IF(N143="základná",J143,0) -> 0 | BF143: =IF(N143="znížená",J143,0) -> 0 | BG143: =IF(N143="zákl. prenesená",J143,0) -> 0 | BH143: =IF(N143="zníž. prenesená",J143,0) -> 0 | BI143: =IF(N143="nulová",J143,0) -> 0 | BJ143: 2 | BK143: =ROUND(I143*H143,2) -> 0 | BL143: 4 | BM143: 882996662
D144: VV | E144: 1 | F144: 11,20 "výkop pre šachty DN 400, 800 a 1200 | H144: 11.2 | AT144: VV | AU144: 2 | AV144: 2 | AW144: True | AX144: 1 | AY144: ROZPOCET
C145: 5 | D145: K | E145: 151101201.S | F145: Paženie stien bez rozopretia alebo vzopretia, príložné hĺbky do 4m | G145: m2 | H145: 24.8 | J145: =ROUND(I145*H145,2) -> 0 | M145: 1 | N145: znížená | P145: =O145*H145 -> 0 | Q145: 0.00066 | R145: =Q145*H145 -> 0.016368 | S145: 0 | T145: =S145*H145 -> 0 | AR145: 4 | AT145: K | AU145: 2 | AY145: ROZPOCET | BE145: =IF(N145="základná",J145,0) -> 0 | BF145: =IF(N145="znížená",J145,0) -> 0 | BG145: =IF(N145="zákl. prenesená",J145,0) -> 0 | BH145: =IF(N145="zníž. prenesená",J145,0) -> 0 | BI145: =IF(N145="nulová",J145,0) -> 0 | BJ145: 2 | BK145: =ROUND(I145*H145,2) -> 0 | BL145: 4 | BM145: 2000220111
D146: VV | E146: 1 | F146: 24,80 "paženie pre šachty do 2,0 m | H146: 24.8 | AT146: VV | AU146: 2 | AV146: 2 | AW146: True | AX146: 1 | AY146: ROZPOCET
C147: 6 | D147: K | E147: 151101211.S | F147: Odstránenie paženia stien príložné hĺbky do 4 m | G147: m2 | H147: 24.8 | J147: =ROUND(I147*H147,2) -> 0 | M147: 1 | N147: znížená | P147: =O147*H147 -> 0 | Q147: 0 | R147: =Q147*H147 -> 0 | S147: 0 | T147: =S147*H147 -> 0 | AR147: 4 | AT147: K | AU147: 2 | AY147: ROZPOCET | BE147: =IF(N147="základná",J147,0) -> 0 | BF147: =IF(N147="znížená",J147,0) -> 0 | BG147: =IF(N147="zákl. prenesená",J147,0) -> 0 | BH147: =IF(N147="zníž. prenesená",J147,0) -> 0 | BI147: =IF(N147="nulová",J147,0) -> 0 | BJ147: 2 | BK147: =ROUND(I147*H147,2) -> 0 | BL147: 4 | BM147: 1392800935
C148: 7 | D148: K | E148: 162501122.S | F148: Vodorovné premiestnenie výkopku po spevnenej ceste z horniny tr.1-4, nad 100 do 1000 m3 na vzdialenosť do 3000 m | G148: m3 | H148: 309.4 | J148: =ROUND(I148*H148,2) -> 0 | M148: 1 | N148: znížená | P148: =O148*H148 -> 0 | Q148: 0 | R148: =Q148*H148 -> 0 | S148: 0 | T148: =S148*H148 -> 0 | AR148: 4 | AT148: K | AU148: 2 | AY148: ROZPOCET | BE148: =IF(N148="základná",J148,0) -> 0 | BF148: =IF(N148="znížená",J148,0) -> 0 | BG148: =IF(N148="zákl. prenesená",J148,0) -> 0 | BH148: =IF(N148="zníž. prenesená",J148,0) -> 0 | BI148: =IF(N148="nulová",J148,0) -> 0 | BJ148: 2 | BK148: =ROUND(I148*H148,2) -> 0 | BL148: 4 | BM148: -773639761
D149: VV | E149: 1 | F149: 259,60 "zemina z výkopu na skládku | H149: 259.6 | AT149: VV | AU149: 2 | AV149: 2 | AW149: True | AX149: 0 | AY149: ROZPOCET
D150: VV | E150: 1 | F150: 23,40 "ornica na skládku | H150: 23.4 | AT150: VV | AU150: 2 | AV150: 2 | AW150: True | AX150: 0 | AY150: ROZPOCET
D151: VV | E151: 1 | F151: 14,40+11,20 "výkopy rýh a šácht | H151: 25.6 | AT151: VV | AU151: 2 | AV151: 2 | AW151: True | AX151: 0 | AY151: ROZPOCET
D152: VV | E152: 1 | F152: 0,80 "zemina pre spätný zvodného potrubia | H152: 0.8 | AT152: VV | AU152: 2 | AV152: 2 | AW152: True | AX152: 0 | AY152: ROZPOCET
D153: VV | E153: 1 | F153: Súčet | H153: 309.4 | AT153: VV | AU153: 2 | AV153: 4 | AW153: True | AX153: 1 | AY153: ROZPOCET
C154: 8 | D154: K | E154: 162501123.S | F154: Vodorovné premiestnenie výkopku po spevnenej ceste z horniny tr.1-4, nad 100 do 1000 m3, príplatok k cene za každých ďalšich a začatých 1000 m | G154: m3 | H154: 615.6 | J154: =ROUND(I154*H154,2) -> 0 | M154: 1 | N154: znížená | P154: =O154*H154 -> 0 | Q154: 0 | R154: =Q154*H154 -> 0 | S154: 0 | T154: =S154*H154 -> 0 | AR154: 4 | AT154: K | AU154: 2 | AY154: ROZPOCET | BE154: =IF(N154="základná",J154,0) -> 0 | BF154: =IF(N154="znížená",J154,0) -> 0 | BG154: =IF(N154="zákl. prenesená",J154,0) -> 0 | BH154: =IF(N154="zníž. prenesená",J154,0) -> 0 | BI154: =IF(N154="nulová",J154,0) -> 0 | BJ154: 2 | BK154: =ROUND(I154*H154,2) -> 0 | BL154: 4 | BM154: 1885462760
D155: VV | E155: 1 | F155: (23,4+259,60)*2 "zemina a ornica na skládku do 5 km | H155: 566 | AT155: VV | AU155: 2 | AV155: 2 | AW155: True | AX155: 0 | AY155: ROZPOCET
D156: VV | E156: 1 | F156: (14,40+11,2-0,80)*2 "zemina z výkopov rýh a šácht na skládku do 5 km | H156: 49.6 | AT156: VV | AU156: 2 | AV156: 2 | AW156: True | AX156: 0 | AY156: ROZPOCET
D157: VV | E157: 1 | F157: Súčet | H157: 615.6 | AT157: VV | AU157: 2 | AV157: 4 | AW157: True | AX157: 1 | AY157: ROZPOCET
C158: 9 | D158: K | E158: 167101101.S | F158: Nakladanie neuľahnutého výkopku z hornín tr.1-4 do 100 m3 | G158: m3 | H158: 24.2 | J158: =ROUND(I158*H158,2) -> 0 | M158: 1 | N158: znížená | P158: =O158*H158 -> 0 | Q158: 0 | R158: =Q158*H158 -> 0 | S158: 0 | T158: =S158*H158 -> 0 | AR158: 4 | AT158: K | AU158: 2 | AY158: ROZPOCET | BE158: =IF(N158="základná",J158,0) -> 0 | BF158: =IF(N158="znížená",J158,0) -> 0 | BG158: =IF(N158="zákl. prenesená",J158,0) -> 0 | BH158: =IF(N158="zníž. prenesená",J158,0) -> 0 | BI158: =IF(N158="nulová",J158,0) -> 0 | BJ158: 2 | BK158: =ROUND(I158*H158,2) -> 0 | BL158: 4 | BM158: -1757615980
D159: VV | E159: 1 | F159: 23,40 "naloženie ornice po odstránení | H159: 23.4 | AT159: VV | AU159: 2 | AV159: 2 | AW159: True | AX159: 0 | AY159: ROZPOCET
D160: VV | E160: 1 | F160: 0,80 "zemina pre spätný zásyp zvodného potrubia | H160: 0.8 | AT160: VV | AU160: 2 | AV160: 2 | AW160: True | AX160: 0 | AY160: ROZPOCET
D161: VV | E161: 1 | F161: Súčet | H161: 24.2 | AT161: VV | AU161: 2 | AV161: 4 | AW161: True | AX161: 1 | AY161: ROZPOCET
C162: 10 | D162: K | E162: 171101121.S | F162: Uloženie sypaniny do násypu nesúdržných kamenistých hornín | G162: m3 | H162: 81 | J162: =ROUND(I162*H162,2) -> 0 | M162: 1 | N162: znížená | P162: =O162*H162 -> 0 | Q162: 0 | R162: =Q162*H162 -> 0 | S162: 0 | T162: =S162*H162 -> 0 | AR162: 4 | AT162: K | AU162: 2 | AY162: ROZPOCET | BE162: =IF(N162="základná",J162,0) -> 0 | BF162: =IF(N162="znížená",J162,0) -> 0 | BG162: =IF(N162="zákl. prenesená",J162,0) -> 0 | BH162: =IF(N162="zníž. prenesená",J162,0) -> 0 | BI162: =IF(N162="nulová",J162,0) -> 0 | BJ162: 2 | BK162: =ROUND(I162*H162,2) -> 0 | BL162: 4 | BM162: 1740215041
D163: VV | E163: 1 | F163: 81,0 "násyp pod domček PZZ s hutnením, využitie sute ŠD z koľaj. lôžka obj. SO 410.2 | H163: 81 | AT163: VV | AU163: 2 | AV163: 2 | AW163: True | AX163: 1 | AY163: ROZPOCET
C164: 11 | D164: K | E164: 171201202.S | F164: Uloženie sypaniny na skládky nad 100 do 1000 m3 | G164: m3 | H164: 307.8 | J164: =ROUND(I164*H164,2) -> 0 | M164: 1 | N164: znížená | P164: =O164*H164 -> 0 | Q164: 0 | R164: =Q164*H164 -> 0 | S164: 0 | T164: =S164*H164 -> 0 | AR164: 4 | AT164: K | AU164: 2 | AY164: ROZPOCET | BE164: =IF(N164="základná",J164,0) -> 0 | BF164: =IF(N164="znížená",J164,0) -> 0 | BG164: =IF(N164="zákl. prenesená",J164,0) -> 0 | BH164: =IF(N164="zníž. prenesená",J164,0) -> 0 | BI164: =IF(N164="nulová",J164,0) -> 0 | BJ164: 2 | BK164: =ROUND(I164*H164,2) -> 0 | BL164: 4 | BM164: 1759458023
D165: VV | E165: 1 | F165: 23,40+259,60+14,40+11,20-0,80 "prebytočná zemina | H165: 307.8 | AT165: VV | AU165: 2 | AV165: 2 | AW165: True | AX165: 1 | AY165: ROZPOCET
...

Sheet SO 410 - Železničný zvršok
AT2: {93ca7183-4309-44fb-b6fd-597ffea12e41}
AT3: 0
D4: KRYCÍ LIST ROZPOČTU | M4: v --- nižšie sa nachádzajú doplnkové a pomocné údaje k zostavám --- v | AT4: False
D6: Stavba:
E7: ='Rekapitulácia objektov stavby'!K6 -> Strategické územie Valalíky
D8: Objekt:
E9: SO 410 - Barca- Čaňa, Železničný zvršok
D11: JKSO: | F11: 1 | I11: ČS: | J11: 1
D12: Miesto: | F12: kú: Valaliky, kú: Barca, kú: Čaňa | I12: Dátum: | J12: ='Rekapitulácia objektov stavby'!AN8 -> 27. 7. 2026
D14: Objednávateľ: | I14: IČO: | J14: 1
E15: Valaliky Industrial Park, s.r.o., Bratislava | I15: IČ DPH: | J15: 1
D17: Zhotoviteľ: | I17: IČO: | J17: ='Rekapitulácia objektov stavby'!AN13 -> 0
E18: ='Rekapitulácia objektov stavby'!E14 -> 0 | I18: IČ DPH: | J18: ='Rekapitulácia objektov stavby'!AN14 -> 0
D20: Projektant: | I20: IČO: | J20: 1
E21: RRi design, spol. s r.o., Košice | I21: IČ DPH: | J21: 1
D23: Spracovateľ: | I23: IČO: | J23: =IF('Rekapitulácia objektov stavby'!AN19="","",'Rekapitulácia objektov stavby'!AN19) -> 1
E24: =IF('Rekapitulácia objektov stavby'!E20="","",'Rekapitulácia objektov stavby'!E20) | I24: IČ DPH: | J24: =IF('Rekapitulácia objektov stavby'!AN20="","",'Rekapitulácia objektov stavby'!AN20) -> 1
D26: Poznámka:
E27: 1
D30: Náklady z rozpočtu | J30: =J96 -> 0
D31: Ostatné náklady | J31: =J105 -> 0
D32: Cena bez DPH | J32: =ROUND(J30 + J31, 2) -> 0
F34: Základ dane | I34: Sadzba dane | J34: Výška dane
D35: DPH | E35: základná | F35: =ROUND((SUM(BE105:BE112) + SUM(BE132:BE188)), 2) -> 0 | I35: 0.23 | J35: =ROUND(((SUM(BE105:BE112) + SUM(BE132:BE188))*I35), 2) -> 0
E36: znížená | F36: =ROUND((SUM(BF105:BF112) + SUM(BF132:BF188)), 2) -> 0 | I36: 0.23 | J36: =ROUND(((SUM(BF105:BF112) + SUM(BF132:BF188))*I36), 2) -> 0
E37: zákl. prenesená | F37: =ROUND((SUM(BG105:BG112) + SUM(BG132:BG188)), 2) -> 0 | I37: 0.23 | J37: =0 -> 0
E38: zníž. prenesená | F38: =ROUND((SUM(BH105:BH112) + SUM(BH132:BH188)), 2) -> 0 | I38: 0.23 | J38: =0 -> 0
E39: nulová | F39: =ROUND((SUM(BI105:BI112) + SUM(BI132:BI188)), 2) -> 0 | I39: 0 | J39: =0 -> 0
D41: Cena s DPH | G41: v | H41: EUR | J41: =SUM(J32:J39) -> 0
D50: Projektant | G50: Spracovateľ
D61: Dátum a podpis: | F61: Pečiatka | G61: Dátum a podpis: | J61: Pečiatka
D65: Objednávateľ | G65: Zhotoviteľ
D76: Dátum a podpis: | F76: Pečiatka | G76: Dátum a podpis: | J76: Pečiatka
C82: REKAPITULÁCIA ROZPOČTU
C84: Stavba:
E85: =E7 -> Strategické územie Valalíky
C86: Objekt:
E87: =E9 -> SO 410 - Barca- Čaňa, Železničný zvršok
C89: Miesto: | F89: =F12 -> kú: Valaliky, kú: Barca, kú: Čaňa | I89: Dátum: | J89: =IF(J12="","",J12) -> 27. 7. 2026
C91: Objednávateľ: | F91: =E15 -> Valaliky Industrial Park, s.r.o., Bratislava | I91: Projektant: | J91: =E21 -> RRi design, spol. s r.o., Košice
C92: Zhotoviteľ: | F92: =IF(E18="","",E18) -> 0 | I92: Spracovateľ: | J92: =E24
C94: Kód dielu - Popis | J94: Cena celkom [EUR]
C96: 1) Náklady z rozpočtu | J96: =J132 -> 0 | AU96: -1
D97: HSV - Práce a dodávky HSV | J97: =J133 -> 0
D98: 1 - Zemné práce | J98: =J134 -> 0
D99: 2 - Zakladanie | J99: =J137 -> 0
D100: 5 - Komunikácie | J100: =J139 -> 0
D101: 9 - Ostatné konštrukcie a práce-búranie | J101: =J173 -> 0
D102: 99 - Presun hmôt HSV | J102: =J187 -> 0
C105: 2) Ostatné náklady | J105: =ROUND(J106 + J107 + J108 + J109 + J110 + J111,2) -> 0 | N105: DPH
D106: GZS | J106: 0 | N106: znížená | AY106: VRN | BE106: =IF(N106="základná",J106,0) -> 0 | BF106: =IF(N106="znížená",J106,0) -> 0 | BG106: =IF(N106="zákl. prenesená",J106,0) -> 0 | BH106: =IF(N106="zníž. prenesená",J106,0) -> 0 | BI106: =IF(N106="nulová",J106,0) -> 0 | BJ106: 2
D107: Projektové práce | J107: 0 | N107: znížená | AY107: VRN | BE107: =IF(N107="základná",J107,0) -> 0 | BF107: =IF(N107="znížená",J107,0) -> 0 | BG107: =IF(N107="zákl. prenesená",J107,0) -> 0 | BH107: =IF(N107="zníž. prenesená",J107,0) -> 0 | BI107: =IF(N107="nulová",J107,0) -> 0 | BJ107: 2
D108: Sťažené podmienky | J108: 0 | N108: znížená | AY108: VRN | BE108: =IF(N108="základná",J108,0) -> 0 | BF108: =IF(N108="znížená",J108,0) -> 0 | BG108: =IF(N108="zákl. prenesená",J108,0) -> 0 | BH108: =IF(N108="zníž. prenesená",J108,0) -> 0 | BI108: =IF(N108="nulová",J108,0) -> 0 | BJ108: 2
D109: Vplyv prostredia | J109: 0 | N109: znížená | AY109: VRN | BE109: =IF(N109="základná",J109,0) -> 0 | BF109: =IF(N109="znížená",J109,0) -> 0 | BG109: =IF(N109="zákl. prenesená",J109,0) -> 0 | BH109: =IF(N109="zníž. prenesená",J109,0) -> 0 | BI109: =IF(N109="nulová",J109,0) -> 0 | BJ109: 2
D110: Iné VRN | J110: 0 | N110: znížená | AY110: VRN | BE110: =IF(N110="základná",J110,0) -> 0 | BF110: =IF(N110="znížená",J110,0) -> 0 | BG110: =IF(N110="zákl. prenesená",J110,0) -> 0 | BH110: =IF(N110="zníž. prenesená",J110,0) -> 0 | BI110: =IF(N110="nulová",J110,0) -> 0 | BJ110: 2
D111: Kompletačná činnosť | J111: =ROUND(J30*T111,2) -> 0 | N111: znížená | AY111: KOMPLETACNA | BE111: =IF(N111="základná",J111,0) -> 0 | BF111: =IF(N111="znížená",J111,0) -> 0 | BG111: =IF(N111="zákl. prenesená",J111,0) -> 0 | BH111: =IF(N111="zníž. prenesená",J111,0) -> 0 | BI111: =IF(N111="nulová",J111,0) -> 0 | BJ111: 2
C113: Celkové náklady za stavbu 1) + 2) | J113: =ROUND(J96+J105,2) -> 0
C119: ROZPOČET
C121: Stavba:
E122: =E7 -> Strategické územie Valalíky
C123: Objekt:
E124: =E9 -> SO 410 - Barca- Čaňa, Železničný zvršok
