Workbook
Name fakt1R: #REF!
Name KDOLEN1: #REF!
Name KONIECB: #REF!
Name KONIECC: #REF!
Name KONIECCELK: #REF!
Name KONIECJC: #REF!
Name KONIECKP: #REF!
Name KONIECMNOZ: #REF!
Name KONIECSP: #REF!
Name Posl2: #REF!
Name PoslA: #REF!
Name Prva2: #REF!
Name PrvaA: #REF!
Name PRVALAVA: #REF!
Name Q: [1]Suhrnny_list!$O$61
Name ZACB: #REF!
Name ZACC: #REF!
Name ZACKP: #REF!

Sheet Rekapitulácia stavby
B2: REKAPITULÁCIA STAVBY
B4: Stavba: | C4: Strategické územie Valaliky
B5: Kód:
B6: Miesto: | C6: katastrálne územie: Valaliky, Geča
B8: Objednávateľ: | C8: Valaliky Industrial Park, s.r.o.
B9: Adresa: | C9: Trnavská cesta 100, Bratislava - mestská časť Ružinov 821 01
B10: IČO: | C10: 54485053
B12: Súťažiaci:
B13: Adresa:
B14: IČO:
B16: Zodpovedná osoba:
B17: Dátum:
B18: Podpis a pečiatka:
B20: Cena bez DPH | C20: Stavebné objekty | F20: ='Rekapitulácia objektov stavby'!AG94 -> 0
B21: Cena bez DPH | C21: Všeobecné položky | F21: ='VSEOB.POLOZKY.ROZPOCET'!H28 -> 0
B22: Cena bez DPH | C22: Celkom | F22: =SUM(F20:F21) -> 0
B23: DPH | F23: =F22*0.2 -> 0
B24: Cena s DPH | F24: =F22+F23 -> 0

Sheet VSEOB.POLOZKY.ROZPOCET
A1: ROZPOČET
A2: Stavba: | C2: Strategické územie Valaliky
A3: Kód:
A4: Časť : | C4: Všeobecné položky stavby
A6: POLOŽKA | D6: NAZOV POLOZKY | E6: M.J. | F6: MNOŽ. | G6: JEDN. CENA | H6: CENA CELKOM
A7: Č. | B7: KÓD KP | C7: KÓD SP
A8: 1 | B8: 45.00.00 | C8: 00000101 | D8: Zariadenie staveniska objednávateľa hlavne - prevádzka ZS | E8: mes | F8: 24 | G8: 0 | H8: =ROUND(F8*G8,2) -> 0
D9: (popis položky viď Príloha č.1 - Požiadavky Objednávateľa, časť C5.1 Zariadenie staveniska - Zariadenie pre činnosť Objednávateľa)
A10: 3 | B10: 45.00.00 | C10: 00000103 | D10: Dokumentácia skutočného zhotovenia stavby DSZS) | E10: kpl | F10: 1 | G10: =VSEOB.POLOZKY_PD!D27 -> 0 | H10: =ROUND(F10*G10,2) -> 0
D11: Dokumentácia skutočného zhotovenia stavby (DSZS)
D12: dokumentácia, pozostávajúca z technickej správy,
D13: výkresov a manuálu užívania a prevádzkových poriadkov
D14: vypracovaná pre každú časť stavby samostatne vrátane technologickej časti
D15: projekt a výpočet zaťažiteľnosti mostných objektov a pod., mostné zošity
D16: vypracovaná v tlačenej aj digitálnej forme
D17: vypracovaná projektantom s platným osvedčením v zmysle legislatívy SR
A18: 4 | B18: 45.00.00 | C18: 00000104 | D18: Požiadavky objednávateľa ostatné požiadavky pyrotechnický prieskum a dozor | E18: m2 | F18: 8500 | G18: 0 | H18: =ROUND(F18*G18,2) -> 0
D19: Predpoklad rozsahu prieskumu na ploche trvalého
A20: 7 | B20: 45.00.00 | C20: 00000107 | D20: Výskumná dokumentácia archeologického dozoru | E20: kpl | F20: 1 | G20: 0 | H20: =F20*G20 -> 0
D21: (popis položky viď Príloha č.1 - Požiadavky Objednávateľa, bod E.6 Archeologický dozor / Služba – Archeologický dozor pri zemných prácach – výkopoch)
A22: 8 | B22: 45.00.00 | C22: 00000108 | D22: Archeologický dozor pri zemných prácach – výkopoch | E22: deň | F22: 90 | G22: 0 | H22: =F22*G22 -> 0
D23: (popis položky viď Príloha č.1 - Požiadavky Objednávateľa, bod E.6 Archeologický dozor / Služba – Archeologický dozor pri zemných prácach – výkopoch)
A24: 9 | B24: 45.00.00 | C24: 00000109 | D24: Strážna služba pre archeologický výskum | E24: deň | F24: 90 | G24: 0 | H24: =F24*G24 -> 0
D25: (popis položky viď Príloha č.1 - Požiadavky Objednávateľa, bod E.6 Archeologický dozor / Služba – strážna služba pre archeologický výskum)
A26: 10 | B26: 45.00.00 | C26: 00000110 | D26: Zemné práce pre vykonanie archeologického výskumu | E26: deň | F26: 90 | G26: 0 | H26: =F26*G26 -> 0
D27: (popis položky viď Príloha č.1 - Požiadavky Objednávateľa, bod E.6 Archeologický dozor / Služba – zemné práce pre vykonanie archeologického výskumu)
H28: =SUM(H8:H27) -> 0

Sheet VSEOB.POLOZKY_PD
B1: ROZPOČET
B2: Stavba: | C2: Strategické územie Valaliky
B3: Kód:
B4: Časť : | C4: Všeobecné položky stavby
C5: Projektová dokumentácia súvisiaca s realizáciou stavby a dokončením / kolaudáciou stavby
B8: Kód | C8: Popis | D8: DSZS
C9: Cestné napojenie medzi priem. parkom Valaliky a obcou Valaliky-Nové Koščany | D9: =SUBTOTAL(9,D10:D26) -> 0
B10: PS 309 | C10: PZZ v žkm 362,792 184 | D10: 0
B11: PS 301.1 | C11: Čaňa - Valalíky, TZZ, Úprava | D11: 0
B12: SO 115 | C12: MK pre napojenie obce Valalíky - Nové Koščany na cestu III/3813 v úseku N - E | D12: 0
B13: SO 161.1 | C13: Cyklochodník pre napojenie obce Valalíky - Nové Koščany na cestu III/3813 v úseku N - E | D13: 0
B14: SO 161 | C14: Cyklochodník, úsek 4, Úprava | D14: 0
B15: SO 161 | C15: Cyklochodník, úsek 5, Úprava | D15: 0
B16: SO 165.1 | C16: Chodník pre napojenie obce Valalíky - Nové Koščany na cestu III/3813 v úseku N - E | D16: 0
B17: SO 165 | C17: Chodníky, Úprava | D17: 0
B18: SO 215 | C18: Priepust cez Valalický kanál na MK Valaliky- Nové Koščany
B19: SO 215 | C19: Priepust cez Valalický kanál na MK Valaliky- Nové Koščany | D19: 0
B20: SO 409 | C20: Barca- Čaňa, železničný spodok | D20: 0
B21: SO 410 | C21: Barca- Čaňa, železničný zvršok | D21: 0
B22: SO 410.2 | C22: Barca- Čaňa, železničné priecestie km 362,792 184 | D22: 0
B23: SO 433 | C23: TIOP Valaliky- ŽSR, Protihlukové steny- Búracie práce | D23: 0
B24: SO 442 | C24: Barca- Čaňa, prípojka NN pre PZZ v žkm 362,792 184 | D24: 0
B25: SO 659.1 | C25: Verejné osvetlenie cyklochodníka- kataser Valaliky a NN prípojky, Úprava a rozšírenie | D25: 0
B26: D 3 | C26: Dopravné zančenie_ MK Valaliky- Nové Koščany | D26: 0
C27: Celkom | D27: =D9 -> 0
B30: DSZS - Dokumentácia skutočného zhtovenia stavby

Sheet Rekapitulácia objektov stavby
A1: Export Komplet | AZ1: 1 | BA1: 2.0 | BB1: ZAMOK | BT1: False | BU1: False | BV1: {ddfe40c9-1ae7-4ff5-93de-0a1c9de020eb}
BS2: 0,01 | BT2: 23
BS3: 0,01 | BT3: 23
D4: REKAPITULÁCIA OBJEKTOV STAVBY | AS4: v --- nižšie sa nachádzajú doplnkové a pomocné údaje k zostavám --- v | BE4: Návod na vyplnenie | BS4: 0,001
D5: Kód: | K5: VALALIKY | BE5: Meniť je možné iba bunky so žltým podfarbením!_x000D_ _x000D_ 1) na prvom liste Rekapitulácie stavby vyplňte v zostave_x000D_ _x000D_ a) Rekapitulácia stavby_x000D_ - údaje o Zhotoviteľovi_x000D_ (prenesú sa do ostatných zostáv aj v iných listoch)_x000D_ _x000D_ b) Rekapitulácia objektov stavby_x000D_ - potrebné Ostatné náklady_x000D_ _x000D_ 2) na vybraných listoch vyplňte v zostave_x000D_ _x000D_ a) Krycí list_x000D_ - údaje o Zhotoviteľovi, pokiaľ sa líšia od údajov o Zhotoviteľovi na Rekapitulácii stavby_x000D_ (údaje se prenesú do ostatných zostav v danom liste)_x000D_ _x000D_ b) Rekapitulácia rozpočtu_x000D_ - potrebné Ostatné náklady_x000D_ _x000D_ c) Celkové náklady za stavbu_x000D_ - ceny na položkách_x000D_ - množstvo, pokiaľ má žlté podfarbenie_x000D_ - a v prípade potreby poznámku (tá je v skrytom stĺpci) | BS5: 0,01
D6: Stavba: | K6: Strategické územie Valalíky | BS6: 0,01
D7: JKSO: | K7: 1 | AK7: ČS: | AN7: 1 | BS7: 0,01
D8: Miesto: | K8: kú: Valaliky, kú: Barca, kú: Čaňa | AK8: Dátum: | AN8: 27. 7. 2026 | BS8: 0,01
BS9: 0,01
D10: Objednávateľ: | AK10: IČO: | AN10: 1 | BS10: 0,01
E11: Valaliky Industrial Park, s.r.o., Bratislava | AK11: IČ DPH: | AN11: 1 | BS11: 0,01
BS12: 0,01
D13: Zhotoviteľ: | AK13: IČO: | BS13: 0,01
AK14: IČ DPH: | BS14: 0,01
BS15: False
D16: Projektant: | AK16: IČO: | AN16: 1 | BS16: False
E17: RRi design, spol. s r.o., Košice | AK17: IČ DPH: | AN17: 1 | BS17: True
BS18: 0,01
D19: Spracovateľ: | AK19: IČO: | AN19: 1 | BS19: 0,01
AK20: IČ DPH: | AN20: 1 | BS20: True
D22: Poznámka:
E23: 1
D26: Cena bez DPH | AK26: =ROUND(AG94,2) -> 0
L28: Sadzba dane | W28: Základ dane | AK28: Výška dane
D29: DPH | F29: základná | L29: 0.23 | W29: =ROUND(AZ94, 2) -> 0 | AK29: =ROUND(AV94, 2) -> 0
F30: znížená | L30: 0.23 | W30: =ROUND(BA94, 2) -> 0 | AK30: =ROUND(AW94, 2) -> 0
F31: zákl. prenesená | L31: 0.23 | W31: =ROUND(BB94, 2) -> 0 | AK31: 0
F32: zníž. prenesená | L32: 0.23 | W32: =ROUND(BC94, 2) -> 0 | AK32: 0
F33: nulová | L33: 0 | W33: =ROUND(BD94, 2) -> 0 | AK33: 0
D35: Cena s DPH | T35: v | X35: EUR | AK35: =SUM(AK26:AK33) -> 0
D49: Projektant | AH49: Spracovateľ
D60: Dátum a podpis: | V60: Pečiatka | AH60: Dátum a podpis: | AM60: Pečiatka
D64: Objednávateľ | AH64: Zhotoviteľ
D75: Dátum a podpis: | V75: Pečiatka | AH75: Dátum a podpis: | AM75: Pečiatka
C82: REKAPITULÁCIA OBJEKTOV STAVBY
C84: Kód: | L84: =K5 -> VALALIKY
C85: Stavba: | L85: =K6 -> Strategické územie Valalíky
C87: Miesto: | L87: =IF(K8="","",K8) -> kú: Valaliky, kú: Barca, kú: Čaňa | AI87: Dátum: | AM87: =IF(AN8= "","",AN8) -> 27. 7. 2026
C89: Objednávateľ: | L89: =IF(E11= "","",E11) -> Valaliky Industrial Park, s.r.o., Bratislava | AI89: Projektant: | AM89: =IF(E17="","",E17) -> RRi design, spol. s r.o., Košice | AS89: Informatívne údaje z listov zákaziek
C90: Zhotoviteľ: | L90: =IF(E14= "Vyplň údaj","",E14) -> 0 | AI90: Spracovateľ: | AM90: =IF(E20="","",E20)
...

Sheet PS 309 - PZZ žkm 362,792 184
AT2: {b1f6e103-0acb-456e-a8ce-1a3d1e5c8a7c}
AT3: 0
D4: KRYCÍ LIST ROZPOČTU | M4: v --- nižšie sa nachádzajú doplnkové a pomocné údaje k zostavám --- v | AT4: False
D6: Stavba:
E7: ='Rekapitulácia objektov stavby'!K6 -> Strategické územie Valalíky
D8: Objekt:
E9: PS 309 - PZZ v žkm 362,792 184
D11: JKSO: | F11: 1 | I11: ČS: | J11: 1
D12: Miesto: | F12: kú: Valaliky, kú: Barca, kú: Čaňa | I12: Dátum: | J12: ='Rekapitulácia objektov stavby'!AN8 -> 27. 7. 2026
D14: Objednávateľ: | I14: IČO: | J14: 1
E15: Valaliky Industrial Park, s.r.o., Bratislava | I15: IČ DPH: | J15: 1
D17: Zhotoviteľ: | I17: IČO: | J17: ='Rekapitulácia objektov stavby'!AN13 -> 0
E18: ='Rekapitulácia objektov stavby'!E14 -> 0 | I18: IČ DPH: | J18: ='Rekapitulácia objektov stavby'!AN14 -> 0
D20: Projektant: | I20: IČO: | J20: 1
E21: RRi design, spol. s r.o., Košice | I21: IČ DPH: | J21: 1
D23: Spracovateľ: | I23: IČO: | J23: =IF('Rekapitulácia objektov stavby'!AN19="","",'Rekapitulácia objektov stavby'!AN19) -> 1
E24: =IF('Rekapitulácia objektov stavby'!E20="","",'Rekapitulácia objektov stavby'!E20) | I24: IČ DPH: | J24: =IF('Rekapitulácia objektov stavby'!AN20="","",'Rekapitulácia objektov stavby'!AN20) -> 1
D26: Poznámka:
E27: 1
D30: Náklady z rozpočtu | J30: =J96 -> 0
D31: Ostatné náklady | J31: =J104 -> 0
D32: Cena bez DPH | J32: =ROUND(J30 + J31, 2) -> 0
F34: Základ dane | I34: Sadzba dane | J34: Výška dane
D35: DPH | E35: základná | F35: =ROUND((SUM(BE104:BE111) + SUM(BE131:BE262)), 2) -> 0 | I35: 0.23 | J35: =ROUND(((SUM(BE104:BE111) + SUM(BE131:BE262))*I35), 2) -> 0
E36: znížená | F36: =ROUND((SUM(BF104:BF111) + SUM(BF131:BF262)), 2) -> 0 | I36: 0.23 | J36: =ROUND(((SUM(BF104:BF111) + SUM(BF131:BF262))*I36), 2) -> 0
E37: zákl. prenesená | F37: =ROUND((SUM(BG104:BG111) + SUM(BG131:BG262)), 2) -> 0 | I37: 0.23 | J37: =0 -> 0
E38: zníž. prenesená | F38: =ROUND((SUM(BH104:BH111) + SUM(BH131:BH262)), 2) -> 0 | I38: 0.23 | J38: =0 -> 0
E39: nulová | F39: =ROUND((SUM(BI104:BI111) + SUM(BI131:BI262)), 2) -> 0 | I39: 0 | J39: =0 -> 0
D41: Cena s DPH | G41: v | H41: EUR | J41: =SUM(J32:J39) -> 0
D50: Projektant | G50: Spracovateľ
D61: Dátum a podpis: | F61: Pečiatka | G61: Dátum a podpis: | J61: Pečiatka
D65: Objednávateľ | G65: Zhotoviteľ
D76: Dátum a podpis: | F76: Pečiatka | G76: Dátum a podpis: | J76: Pečiatka
C82: REKAPITULÁCIA ROZPOČTU
C84: Stavba:
E85: =E7 -> Strategické územie Valalíky
C86: Objekt:
E87: =E9 -> PS 309 - PZZ v žkm 362,792 184
C89: Miesto: | F89: =F12 -> kú: Valaliky, kú: Barca, kú: Čaňa | I89: Dátum: | J89: =IF(J12="","",J12) -> 27. 7. 2026
C91: Objednávateľ: | F91: =E15 -> Valaliky Industrial Park, s.r.o., Bratislava | I91: Projektant: | J91: =E21 -> RRi design, spol. s r.o., Košice
...

Sheet PS 301.1 - TZZ - Úprava
AT2: {feb2e094-1f62-4e8e-a5df-a6a4483983e9}
AT3: 0
D4: KRYCÍ LIST ROZPOČTU | M4: v --- nižšie sa nachádzajú doplnkové a pomocné údaje k zostavám --- v | AT4: False
D6: Stavba:
E7: ='Rekapitulácia objektov stavby'!K6 -> Strategické územie Valalíky
D8: Objekt:
E9: PS 301.1 - Čaňa - Valaliky, TZZ, - Úprava
D11: JKSO: | F11: 1 | I11: ČS: | J11: 1
D12: Miesto: | F12: kú: Valaliky, kú: Barca, kú: Čaňa | I12: Dátum: | J12: ='Rekapitulácia objektov stavby'!AN8 -> 27. 7. 2026
D14: Objednávateľ: | I14: IČO: | J14: 1
E15: Valaliky Industrial Park, s.r.o., Bratislava | I15: IČ DPH: | J15: 1
D17: Zhotoviteľ: | I17: IČO: | J17: ='Rekapitulácia objektov stavby'!AN13 -> 0
E18: ='Rekapitulácia objektov stavby'!E14 -> 0 | I18: IČ DPH: | J18: ='Rekapitulácia objektov stavby'!AN14 -> 0
D20: Projektant: | I20: IČO: | J20: 1
E21: RRi design, spol. s r.o., Košice | I21: IČ DPH: | J21: 1
D23: Spracovateľ: | I23: IČO: | J23: =IF('Rekapitulácia objektov stavby'!AN19="","",'Rekapitulácia objektov stavby'!AN19) -> 1
E24: =IF('Rekapitulácia objektov stavby'!E20="","",'Rekapitulácia objektov stavby'!E20) | I24: IČ DPH: | J24: =IF('Rekapitulácia objektov stavby'!AN20="","",'Rekapitulácia objektov stavby'!AN20) -> 1
D26: Poznámka:
E27: 1
D30: Náklady z rozpočtu | J30: =J96 -> 0
D31: Ostatné náklady | J31: =J102 -> 0
D32: Cena bez DPH | J32: =ROUND(J30 + J31, 2) -> 0
F34: Základ dane | I34: Sadzba dane | J34: Výška dane
D35: DPH | E35: základná | F35: =ROUND((SUM(BE102:BE109) + SUM(BE129:BE149)), 2) -> 0 | I35: 0.23 | J35: =ROUND(((SUM(BE102:BE109) + SUM(BE129:BE149))*I35), 2) -> 0
E36: znížená | F36: =ROUND((SUM(BF102:BF109) + SUM(BF129:BF149)), 2) -> 0 | I36: 0.23 | J36: =ROUND(((SUM(BF102:BF109) + SUM(BF129:BF149))*I36), 2) -> 0
E37: zákl. prenesená | F37: =ROUND((SUM(BG102:BG109) + SUM(BG129:BG149)), 2) -> 0 | I37: 0.23 | J37: =0 -> 0
E38: zníž. prenesená | F38: =ROUND((SUM(BH102:BH109) + SUM(BH129:BH149)), 2) -> 0 | I38: 0.23 | J38: =0 -> 0
E39: nulová | F39: =ROUND((SUM(BI102:BI109) + SUM(BI129:BI149)), 2) -> 0 | I39: 0 | J39: =0 -> 0
D41: Cena s DPH | G41: v | H41: EUR | J41: =SUM(J32:J39) -> 0
D50: Projektant | G50: Spracovateľ
D61: Dátum a podpis: | F61: Pečiatka | G61: Dátum a podpis: | J61: Pečiatka
D65: Objednávateľ | G65: Zhotoviteľ
D76: Dátum a podpis: | F76: Pečiatka | G76: Dátum a podpis: | J76: Pečiatka
C82: REKAPITULÁCIA ROZPOČTU
C84: Stavba:
E85: =E7 -> Strategické územie Valalíky
C86: Objekt:
E87: =E9 -> PS 301.1 - Čaňa - Valaliky, TZZ, - Úprava
C89: Miesto: | F89: =F12 -> kú: Valaliky, kú: Barca, kú: Čaňa | I89: Dátum: | J89: =IF(J12="","",J12) -> 27. 7. 2026
C91: Objednávateľ: | F91: =E15 -> Valaliky Industrial Park, s.r.o., Bratislava | I91: Projektant: | J91: =E21 -> RRi design, spol. s r.o., Košice
...

Sheet SO 115 - MK napojenie
AT2: {cf31ee3d-caf4-40d7-8829-90b85582cca3}
AT3: 0
D4: KRYCÍ LIST ROZPOČTU | M4: v --- nižšie sa nachádzajú doplnkové a pomocné údaje k zostavám --- v | AT4: False
D6: Stavba:
E7: ='Rekapitulácia objektov stavby'!K6 -> Strategické územie Valalíky
D8: Objekt:
E9: SO 115 - MK pre napojenie obce Valaliky- Nové Koščany na cestu III/3813 v úseku "N-E"
D11: JKSO: | F11: 1 | I11: ČS: | J11: 1
D12: Miesto: | F12: kú: Valaliky, kú: Barca, kú: Čaňa | I12: Dátum: | J12: ='Rekapitulácia objektov stavby'!AN8 -> 27. 7. 2026
D14: Objednávateľ: | I14: IČO: | J14: 1
E15: Valaliky Industrial Park, s.r.o., Bratislava | I15: IČ DPH: | J15: 1
D17: Zhotoviteľ: | I17: IČO: | J17: ='Rekapitulácia objektov stavby'!AN13 -> 0
E18: ='Rekapitulácia objektov stavby'!E14 -> 0 | I18: IČ DPH: | J18: ='Rekapitulácia objektov stavby'!AN14 -> 0
D20: Projektant: | I20: IČO: | J20: 1
E21: RRi design, spol. s r.o., Košice | I21: IČ DPH: | J21: 1
D23: Spracovateľ: | I23: IČO: | J23: =IF('Rekapitulácia objektov stavby'!AN19="","",'Rekapitulácia objektov stavby'!AN19) -> 1
E24: =IF('Rekapitulácia objektov stavby'!E20="","",'Rekapitulácia objektov stavby'!E20) | I24: IČ DPH: | J24: =IF('Rekapitulácia objektov stavby'!AN20="","",'Rekapitulácia objektov stavby'!AN20) -> 1
D26: Poznámka:
E27: 1
D30: Náklady z rozpočtu | J30: =J96 -> 0
D31: Ostatné náklady | J31: =J108 -> 0
D32: Cena bez DPH | J32: =ROUND(J30 + J31, 2) -> 0
F34: Základ dane | I34: Sadzba dane | J34: Výška dane
D35: DPH | E35: základná | F35: =ROUND((SUM(BE108:BE115) + SUM(BE135:BE287)), 2) -> 0 | I35: 0.23 | J35: =ROUND(((SUM(BE108:BE115) + SUM(BE135:BE287))*I35), 2) -> 0
E36: znížená | F36: =ROUND((SUM(BF108:BF115) + SUM(BF135:BF287)), 2) -> 0 | I36: 0.23 | J36: =ROUND(((SUM(BF108:BF115) + SUM(BF135:BF287))*I36), 2) -> 0
E37: zákl. prenesená | F37: =ROUND((SUM(BG108:BG115) + SUM(BG135:BG287)), 2) -> 0 | I37: 0.23 | J37: =0 -> 0
E38: zníž. prenesená | F38: =ROUND((SUM(BH108:BH115) + SUM(BH135:BH287)), 2) -> 0 | I38: 0.23 | J38: =0 -> 0
E39: nulová | F39: =ROUND((SUM(BI108:BI115) + SUM(BI135:BI287)), 2) -> 0 | I39: 0 | J39: =0 -> 0
D41: Cena s DPH | G41: v | H41: EUR | J41: =SUM(J32:J39) -> 0
D50: Projektant | G50: Spracovateľ
D61: Dátum a podpis: | F61: Pečiatka | G61: Dátum a podpis: | J61: Pečiatka
D65: Objednávateľ | G65: Zhotoviteľ
D76: Dátum a podpis: | F76: Pečiatka | G76: Dátum a podpis: | J76: Pečiatka
C82: REKAPITULÁCIA ROZPOČTU
C84: Stavba:
E85: =E7 -> Strategické územie Valalíky
C86: Objekt:
E87: =E9 -> SO 115 - MK pre napojenie obce Valaliky- Nové Koščany na cestu III/3813 v úseku "N-E"
C89: Miesto: | F89: =F12 -> kú: Valaliky, kú: Barca, kú: Čaňa | I89: Dátum: | J89: =IF(J12="","",J12) -> 27. 7. 2026
C91: Objednávateľ: | F91: =E15 -> Valaliky Industrial Park, s.r.o., Bratislava | I91: Projektant: | J91: =E21 -> RRi design, spol. s r.o., Košice
...

Sheet SO 161.1 - Cyklochodník
AT2: {e03262f0-fb90-450d-9578-679f304b1af9}
AT3: 0
D4: KRYCÍ LIST ROZPOČTU | M4: v --- nižšie sa nachádzajú doplnkové a pomocné údaje k zostavám --- v | AT4: False
D6: Stavba:
E7: ='Rekapitulácia objektov stavby'!K6 -> Strategické územie Valalíky
D8: Objekt:
E9: SO 161.1 - Cyklochodník - pre napojenie obce Valaliky - Nové Koščany na cestu III/3813 v úseku "N-E"
D11: JKSO: | F11: 1 | I11: ČS: | J11: 1
D12: Miesto: | F12: kú: Valaliky, kú: Barca, kú: Čaňa | I12: Dátum: | J12: ='Rekapitulácia objektov stavby'!AN8 -> 27. 7. 2026
D14: Objednávateľ: | I14: IČO: | J14: 1
E15: Valaliky Industrial Park, s.r.o., Bratislava | I15: IČ DPH: | J15: 1
D17: Zhotoviteľ: | I17: IČO: | J17: ='Rekapitulácia objektov stavby'!AN13 -> 0
E18: ='Rekapitulácia objektov stavby'!E14 -> 0 | I18: IČ DPH: | J18: ='Rekapitulácia objektov stavby'!AN14 -> 0
D20: Projektant: | I20: IČO: | J20: 1
E21: RRi design, spol. s r.o., Košice | I21: IČ DPH: | J21: 1
D23: Spracovateľ: | I23: IČO: | J23: =IF('Rekapitulácia objektov stavby'!AN19="","",'Rekapitulácia objektov stavby'!AN19) -> 1
E24: =IF('Rekapitulácia objektov stavby'!E20="","",'Rekapitulácia objektov stavby'!E20) | I24: IČ DPH: | J24: =IF('Rekapitulácia objektov stavby'!AN20="","",'Rekapitulácia objektov stavby'!AN20) -> 1
D26: Poznámka:
E27: 1
D30: Náklady z rozpočtu | J30: =J96 -> 0
D31: Ostatné náklady | J31: =J104 -> 0
D32: Cena bez DPH | J32: =ROUND(J30 + J31, 2) -> 0
F34: Základ dane | I34: Sadzba dane | J34: Výška dane
D35: DPH | E35: základná | F35: =ROUND((SUM(BE104:BE111) + SUM(BE131:BE156)), 2) -> 0 | I35: 0.23 | J35: =ROUND(((SUM(BE104:BE111) + SUM(BE131:BE156))*I35), 2) -> 0
E36: znížená | F36: =ROUND((SUM(BF104:BF111) + SUM(BF131:BF156)), 2) -> 0 | I36: 0.23 | J36: =ROUND(((SUM(BF104:BF111) + SUM(BF131:BF156))*I36), 2) -> 0
E37: zákl. prenesená | F37: =ROUND((SUM(BG104:BG111) + SUM(BG131:BG156)), 2) -> 0 | I37: 0.23 | J37: =0 -> 0
E38: zníž. prenesená | F38: =ROUND((SUM(BH104:BH111) + SUM(BH131:BH156)), 2) -> 0 | I38: 0.23 | J38: =0 -> 0
E39: nulová | F39: =ROUND((SUM(BI104:BI111) + SUM(BI131:BI156)), 2) -> 0 | I39: 0 | J39: =0 -> 0
D41: Cena s DPH | G41: v | H41: EUR | J41: =SUM(J32:J39) -> 0
D50: Projektant | G50: Spracovateľ
D61: Dátum a podpis: | F61: Pečiatka | G61: Dátum a podpis: | J61: Pečiatka
D65: Objednávateľ | G65: Zhotoviteľ
D76: Dátum a podpis: | F76: Pečiatka | G76: Dátum a podpis: | J76: Pečiatka
C82: REKAPITULÁCIA ROZPOČTU
C84: Stavba:
E85: =E7 -> Strategické územie Valalíky
C86: Objekt:
E87: =E9 -> SO 161.1 - Cyklochodník - pre napojenie obce Valaliky - Nové Koščany na cestu III/3813 v úseku "N-E"
C89: Miesto: | F89: =F12 -> kú: Valaliky, kú: Barca, kú: Čaňa | I89: Dátum: | J89: =IF(J12="","",J12) -> 27. 7. 2026
C91: Objednávateľ: | F91: =E15 -> Valaliky Industrial Park, s.r.o., Bratislava | I91: Projektant: | J91: =E21 -> RRi design, spol. s r.o., Košice
...

Sheet SO 161 - Úprava - úsek 4
AT2: {bb78afa2-67f9-46ef-9703-9ff595bec6df}
AT3: 0
D4: KRYCÍ LIST ROZPOČTU | M4: v --- nižšie sa nachádzajú doplnkové a pomocné údaje k zostavám --- v | AT4: False
D6: Stavba:
E7: ='Rekapitulácia objektov stavby'!K6 -> Strategické územie Valalíky
D8: Objekt:
E9: SO 161 - Cyklochodníky - Úprava- úsek 4
D11: JKSO: | F11: 1 | I11: ČS: | J11: 1
D12: Miesto: | F12: kú: Valaliky, kú: Barca, kú: Čaňa | I12: Dátum: | J12: ='Rekapitulácia objektov stavby'!AN8 -> 27. 7. 2026
D14: Objednávateľ: | I14: IČO: | J14: 1
E15: Valaliky Industrial Park, s.r.o., Bratislava | I15: IČ DPH: | J15: 1
D17: Zhotoviteľ: | I17: IČO: | J17: ='Rekapitulácia objektov stavby'!AN13 -> 0
E18: ='Rekapitulácia objektov stavby'!E14 -> 0 | I18: IČ DPH: | J18: ='Rekapitulácia objektov stavby'!AN14 -> 0
D20: Projektant: | I20: IČO: | J20: 1
E21: RRi design, spol. s r.o., Košice | I21: IČ DPH: | J21: 1
D23: Spracovateľ: | I23: IČO: | J23: =IF('Rekapitulácia objektov stavby'!AN19="","",'Rekapitulácia objektov stavby'!AN19) -> 1
E24: =IF('Rekapitulácia objektov stavby'!E20="","",'Rekapitulácia objektov stavby'!E20) | I24: IČ DPH: | J24: =IF('Rekapitulácia objektov stavby'!AN20="","",'Rekapitulácia objektov stavby'!AN20) -> 1
D26: Poznámka:
E27: 1
D30: Náklady z rozpočtu | J30: =J96 -> 0
D31: Ostatné náklady | J31: =J104 -> 0
D32: Cena bez DPH | J32: =ROUND(J30 + J31, 2) -> 0
F34: Základ dane | I34: Sadzba dane | J34: Výška dane
D35: DPH | E35: základná | F35: =ROUND((SUM(BE104:BE111) + SUM(BE131:BE212)), 2) -> 0 | I35: 0.23 | J35: =ROUND(((SUM(BE104:BE111) + SUM(BE131:BE212))*I35), 2) -> 0
E36: znížená | F36: =ROUND((SUM(BF104:BF111) + SUM(BF131:BF212)), 2) -> 0 | I36: 0.23 | J36: =ROUND(((SUM(BF104:BF111) + SUM(BF131:BF212))*I36), 2) -> 0
E37: zákl. prenesená | F37: =ROUND((SUM(BG104:BG111) + SUM(BG131:BG212)), 2) -> 0 | I37: 0.23 | J37: =0 -> 0
E38: zníž. prenesená | F38: =ROUND((SUM(BH104:BH111) + SUM(BH131:BH212)), 2) -> 0 | I38: 0.23 | J38: =0 -> 0
E39: nulová | F39: =ROUND((SUM(BI104:BI111) + SUM(BI131:BI212)), 2) -> 0 | I39: 0 | J39: =0 -> 0
D41: Cena s DPH | G41: v | H41: EUR | J41: =SUM(J32:J39) -> 0
D50: Projektant | G50: Spracovateľ
D61: Dátum a podpis: | F61: Pečiatka | G61: Dátum a podpis: | J61: Pečiatka
D65: Objednávateľ | G65: Zhotoviteľ
D76: Dátum a podpis: | F76: Pečiatka | G76: Dátum a podpis: | J76: Pečiatka
C82: REKAPITULÁCIA ROZPOČTU
C84: Stavba:
E85: =E7 -> Strategické územie Valalíky
C86: Objekt:
E87: =E9 -> SO 161 - Cyklochodníky - Úprava- úsek 4
C89: Miesto: | F89: =F12 -> kú: Valaliky, kú: Barca, kú: Čaňa | I89: Dátum: | J89: =IF(J12="","",J12) -> 27. 7. 2026
C91: Objednávateľ: | F91: =E15 -> Valaliky Industrial Park, s.r.o., Bratislava | I91: Projektant: | J91: =E21 -> RRi design, spol. s r.o., Košice
...

Sheet SO 161 - Úprava - úsek 5
AT2: {7bc53312-bdd6-444a-a2fd-30d0be3c9e10}
AT3: 0
D4: KRYCÍ LIST ROZPOČTU | M4: v --- nižšie sa nachádzajú doplnkové a pomocné údaje k zostavám --- v | AT4: False
D6: Stavba:
E7: ='Rekapitulácia objektov stavby'!K6 -> Strategické územie Valalíky
D8: Objekt:
E9: SO 161 - Cyklochodníky - Úprava úsek 5
D11: JKSO: | F11: 1 | I11: ČS: | J11: 1
D12: Miesto: | F12: kú: Valaliky, kú: Barca, kú: Čaňa | I12: Dátum: | J12: ='Rekapitulácia objektov stavby'!AN8 -> 27. 7. 2026
D14: Objednávateľ: | I14: IČO: | J14: 1
E15: Valaliky Industrial Park, s.r.o., Bratislava | I15: IČ DPH: | J15: 1
D17: Zhotoviteľ: | I17: IČO: | J17: ='Rekapitulácia objektov stavby'!AN13 -> 0
E18: ='Rekapitulácia objektov stavby'!E14 -> 0 | I18: IČ DPH: | J18: ='Rekapitulácia objektov stavby'!AN14 -> 0
D20: Projektant: | I20: IČO: | J20: 1
E21: RRi design, spol. s r.o., Košice | I21: IČ DPH: | J21: 1
D23: Spracovateľ: | I23: IČO: | J23: =IF('Rekapitulácia objektov stavby'!AN19="","",'Rekapitulácia objektov stavby'!AN19) -> 1
E24: =IF('Rekapitulácia objektov stavby'!E20="","",'Rekapitulácia objektov stavby'!E20) | I24: IČ DPH: | J24: =IF('Rekapitulácia objektov stavby'!AN20="","",'Rekapitulácia objektov stavby'!AN20) -> 1
D26: Poznámka:
E27: 1
D30: Náklady z rozpočtu | J30: =J96 -> 0
D31: Ostatné náklady | J31: =J101 -> 0
D32: Cena bez DPH | J32: =ROUND(J30 + J31, 2) -> 0
F34: Základ dane | I34: Sadzba dane | J34: Výška dane
D35: DPH | E35: základná | F35: =ROUND((SUM(BE101:BE108) + SUM(BE128:BE174)), 2) -> 0 | I35: 0.23 | J35: =ROUND(((SUM(BE101:BE108) + SUM(BE128:BE174))*I35), 2) -> 0
E36: znížená | F36: =ROUND((SUM(BF101:BF108) + SUM(BF128:BF174)), 2) -> 0 | I36: 0.23 | J36: =ROUND(((SUM(BF101:BF108) + SUM(BF128:BF174))*I36), 2) -> 0
E37: zákl. prenesená | F37: =ROUND((SUM(BG101:BG108) + SUM(BG128:BG174)), 2) -> 0 | I37: 0.23 | J37: =0 -> 0
E38: zníž. prenesená | F38: =ROUND((SUM(BH101:BH108) + SUM(BH128:BH174)), 2) -> 0 | I38: 0.23 | J38: =0 -> 0
E39: nulová | F39: =ROUND((SUM(BI101:BI108) + SUM(BI128:BI174)), 2) -> 0 | I39: 0 | J39: =0 -> 0
D41: Cena s DPH | G41: v | H41: EUR | J41: =SUM(J32:J39) -> 0
D50: Projektant | G50: Spracovateľ
D61: Dátum a podpis: | F61: Pečiatka | G61: Dátum a podpis: | J61: Pečiatka
D65: Objednávateľ | G65: Zhotoviteľ
D76: Dátum a podpis: | F76: Pečiatka | G76: Dátum a podpis: | J76: Pečiatka
C82: REKAPITULÁCIA ROZPOČTU
C84: Stavba:
E85: =E7 -> Strategické územie Valalíky
C86: Objekt:
E87: =E9 -> SO 161 - Cyklochodníky - Úprava úsek 5
C89: Miesto: | F89: =F12 -> kú: Valaliky, kú: Barca, kú: Čaňa | I89: Dátum: | J89: =IF(J12="","",J12) -> 27. 7. 2026
C91: Objednávateľ: | F91: =E15 -> Valaliky Industrial Park, s.r.o., Bratislava | I91: Projektant: | J91: =E21 -> RRi design, spol. s r.o., Košice
...

Sheet SO 165.1 - Chodník
AT2: {921ec1ab-5f59-4b52-aac9-4e5729832627}
AT3: 0
D4: KRYCÍ LIST ROZPOČTU | M4: v --- nižšie sa nachádzajú doplnkové a pomocné údaje k zostavám --- v | AT4: False
D6: Stavba:
E7: ='Rekapitulácia objektov stavby'!K6 -> Strategické územie Valalíky
D8: Objekt:
E9: SO 165.1 - Chodník - pre napojenie obce Valaliky - Nové Koščany na cestu III/3813 v úseku "N-E"
D11: JKSO: | F11: 1 | I11: ČS: | J11: 1
D12: Miesto: | F12: kú: Valaliky, kú: Barca, kú: Čaňa | I12: Dátum: | J12: ='Rekapitulácia objektov stavby'!AN8 -> 27. 7. 2026
D14: Objednávateľ: | I14: IČO: | J14: 1
E15: Valaliky Industrial Park, s.r.o., Bratislava | I15: IČ DPH: | J15: 1
D17: Zhotoviteľ: | I17: IČO: | J17: ='Rekapitulácia objektov stavby'!AN13 -> 0
E18: ='Rekapitulácia objektov stavby'!E14 -> 0 | I18: IČ DPH: | J18: ='Rekapitulácia objektov stavby'!AN14 -> 0
D20: Projektant: | I20: IČO: | J20: 1
E21: RRi design, spol. s r.o., Košice | I21: IČ DPH: | J21: 1
D23: Spracovateľ: | I23: IČO: | J23: =IF('Rekapitulácia objektov stavby'!AN19="","",'Rekapitulácia objektov stavby'!AN19) -> 1
E24: =IF('Rekapitulácia objektov stavby'!E20="","",'Rekapitulácia objektov stavby'!E20) | I24: IČ DPH: | J24: =IF('Rekapitulácia objektov stavby'!AN20="","",'Rekapitulácia objektov stavby'!AN20) -> 1
D26: Poznámka:
E27: 1
D30: Náklady z rozpočtu | J30: =J96 -> 0
D31: Ostatné náklady | J31: =J102 -> 0
D32: Cena bez DPH | J32: =ROUND(J30 + J31, 2) -> 0
F34: Základ dane | I34: Sadzba dane | J34: Výška dane
D35: DPH | E35: základná | F35: =ROUND((SUM(BE102:BE109) + SUM(BE129:BE145)), 2) -> 0 | I35: 0.23 | J35: =ROUND(((SUM(BE102:BE109) + SUM(BE129:BE145))*I35), 2) -> 0
E36: znížená | F36: =ROUND((SUM(BF102:BF109) + SUM(BF129:BF145)), 2) -> 0 | I36: 0.23 | J36: =ROUND(((SUM(BF102:BF109) + SUM(BF129:BF145))*I36), 2) -> 0
E37: zákl. prenesená | F37: =ROUND((SUM(BG102:BG109) + SUM(BG129:BG145)), 2) -> 0 | I37: 0.23 | J37: =0 -> 0
E38: zníž. prenesená | F38: =ROUND((SUM(BH102:BH109) + SUM(BH129:BH145)), 2) -> 0 | I38: 0.23 | J38: =0 -> 0
E39: nulová | F39: =ROUND((SUM(BI102:BI109) + SUM(BI129:BI145)), 2) -> 0 | I39: 0 | J39: =0 -> 0
D41: Cena s DPH | G41: v | H41: EUR | J41: =SUM(J32:J39) -> 0
D50: Projektant | G50: Spracovateľ
D61: Dátum a podpis: | F61: Pečiatka | G61: Dátum a podpis: | J61: Pečiatka
D65: Objednávateľ | G65: Zhotoviteľ
D76: Dátum a podpis: | F76: Pečiatka | G76: Dátum a podpis: | J76: Pečiatka
C82: REKAPITULÁCIA ROZPOČTU
C84: Stavba:
E85: =E7 -> Strategické územie Valalíky
C86: Objekt:
E87: =E9 -> SO 165.1 - Chodník - pre napojenie obce Valaliky - Nové Koščany na cestu III/3813 v úseku "N-E"
C89: Miesto: | F89: =F12 -> kú: Valaliky, kú: Barca, kú: Čaňa | I89: Dátum: | J89: =IF(J12="","",J12) -> 27. 7. 2026
C91: Objednávateľ: | F91: =E15 -> Valaliky Industrial Park, s.r.o., Bratislava | I91: Projektant: | J91: =E21 -> RRi design, spol. s r.o., Košice
...

Sheet SO 165 - Úprava
AT2: {6b024d99-e4ce-4ac5-abd1-3c269edc1640}
AT3: 0
D4: KRYCÍ LIST ROZPOČTU | M4: v --- nižšie sa nachádzajú doplnkové a pomocné údaje k zostavám --- v | AT4: False
D6: Stavba:
E7: ='Rekapitulácia objektov stavby'!K6 -> Strategické územie Valalíky
D8: Objekt:
E9: SO 165 - Chodníky - Úprava
D11: JKSO: | F11: 1 | I11: ČS: | J11: 1
D12: Miesto: | F12: kú: Valaliky, kú: Barca, kú: Čaňa | I12: Dátum: | J12: ='Rekapitulácia objektov stavby'!AN8 -> 27. 7. 2026
D14: Objednávateľ: | I14: IČO: | J14: 1
E15: Valaliky Industrial Park, s.r.o., Bratislava | I15: IČ DPH: | J15: 1
D17: Zhotoviteľ: | I17: IČO: | J17: ='Rekapitulácia objektov stavby'!AN13 -> 0
E18: ='Rekapitulácia objektov stavby'!E14 -> 0 | I18: IČ DPH: | J18: ='Rekapitulácia objektov stavby'!AN14 -> 0
D20: Projektant: | I20: IČO: | J20: 1
E21: RRi design, spol. s r.o., Košice | I21: IČ DPH: | J21: 1
D23: Spracovateľ: | I23: IČO: | J23: =IF('Rekapitulácia objektov stavby'!AN19="","",'Rekapitulácia objektov stavby'!AN19) -> 1
E24: =IF('Rekapitulácia objektov stavby'!E20="","",'Rekapitulácia objektov stavby'!E20) | I24: IČ DPH: | J24: =IF('Rekapitulácia objektov stavby'!AN20="","",'Rekapitulácia objektov stavby'!AN20) -> 1
D26: Poznámka:
E27: 1
D30: Náklady z rozpočtu | J30: =J96 -> 0
D31: Ostatné náklady | J31: =J104 -> 0
D32: Cena bez DPH | J32: =ROUND(J30 + J31, 2) -> 0
F34: Základ dane | I34: Sadzba dane | J34: Výška dane
D35: DPH | E35: základná | F35: =ROUND((SUM(BE104:BE111) + SUM(BE131:BE156)), 2) -> 0 | I35: 0.23 | J35: =ROUND(((SUM(BE104:BE111) + SUM(BE131:BE156))*I35), 2) -> 0
E36: znížená | F36: =ROUND((SUM(BF104:BF111) + SUM(BF131:BF156)), 2) -> 0 | I36: 0.23 | J36: =ROUND(((SUM(BF104:BF111) + SUM(BF131:BF156))*I36), 2) -> 0
E37: zákl. prenesená | F37: =ROUND((SUM(BG104:BG111) + SUM(BG131:BG156)), 2) -> 0 | I37: 0.23 | J37: =0 -> 0
E38: zníž. prenesená | F38: =ROUND((SUM(BH104:BH111) + SUM(BH131:BH156)), 2) -> 0 | I38: 0.23 | J38: =0 -> 0
E39: nulová | F39: =ROUND((SUM(BI104:BI111) + SUM(BI131:BI156)), 2) -> 0 | I39: 0 | J39: =0 -> 0
D41: Cena s DPH | G41: v | H41: EUR | J41: =SUM(J32:J39) -> 0
D50: Projektant | G50: Spracovateľ
D61: Dátum a podpis: | F61: Pečiatka | G61: Dátum a podpis: | J61: Pečiatka
D65: Objednávateľ | G65: Zhotoviteľ
D76: Dátum a podpis: | F76: Pečiatka | G76: Dátum a podpis: | J76: Pečiatka
C82: REKAPITULÁCIA ROZPOČTU
C84: Stavba:
E85: =E7 -> Strategické územie Valalíky
C86: Objekt:
E87: =E9 -> SO 165 - Chodníky - Úprava
C89: Miesto: | F89: =F12 -> kú: Valaliky, kú: Barca, kú: Čaňa | I89: Dátum: | J89: =IF(J12="","",J12) -> 27. 7. 2026
C91: Objednávateľ: | F91: =E15 -> Valaliky Industrial Park, s.r.o., Bratislava | I91: Projektant: | J91: =E21 -> RRi design, spol. s r.o., Košice
...

Sheet SO 215 - Priepust
AT2: {44941707-5611-4fa3-a549-6461b311fa80}
AT3: 0
D4: KRYCÍ LIST ROZPOČTU | M4: v --- nižšie sa nachádzajú doplnkové a pomocné údaje k zostavám --- v | AT4: False
D6: Stavba:
E7: ='Rekapitulácia objektov stavby'!K6 -> Strategické územie Valalíky
D8: Objekt:
E9: SO 215 - Priepust cez Valalický kanál na MK Valaliky- Nové Koščany
D11: JKSO: | F11: 1 | I11: ČS: | J11: 1
D12: Miesto: | F12: kú: Valaliky, kú: Barca, kú: Čaňa | I12: Dátum: | J12: ='Rekapitulácia objektov stavby'!AN8 -> 27. 7. 2026
D14: Objednávateľ: | I14: IČO: | J14: 1
E15: Valaliky Industrial Park, s.r.o., Bratislava | I15: IČ DPH: | J15: 1
D17: Zhotoviteľ: | I17: IČO: | J17: ='Rekapitulácia objektov stavby'!AN13 -> 0
E18: ='Rekapitulácia objektov stavby'!E14 -> 0 | I18: IČ DPH: | J18: ='Rekapitulácia objektov stavby'!AN14 -> 0
D20: Projektant: | I20: IČO: | J20: 1
E21: RRi design, spol. s r.o., Košice | I21: IČ DPH: | J21: 1
D23: Spracovateľ: | I23: IČO: | J23: =IF('Rekapitulácia objektov stavby'!AN19="","",'Rekapitulácia objektov stavby'!AN19) -> 1
E24: =IF('Rekapitulácia objektov stavby'!E20="","",'Rekapitulácia objektov stavby'!E20) | I24: IČ DPH: | J24: =IF('Rekapitulácia objektov stavby'!AN20="","",'Rekapitulácia objektov stavby'!AN20) -> 1
D26: Poznámka:
E27: 1
D30: Náklady z rozpočtu | J30: =J96 -> 0
D31: Ostatné náklady | J31: =J108 -> 0
D32: Cena bez DPH | J32: =ROUND(J30 + J31, 2) -> 0
F34: Základ dane | I34: Sadzba dane | J34: Výška dane
D35: DPH | E35: základná | F35: =ROUND((SUM(BE108:BE115) + SUM(BE135:BE261)), 2) -> 0 | I35: 0.23 | J35: =ROUND(((SUM(BE108:BE115) + SUM(BE135:BE261))*I35), 2) -> 0
E36: znížená | F36: =ROUND((SUM(BF108:BF115) + SUM(BF135:BF261)), 2) -> 0 | I36: 0.23 | J36: =ROUND(((SUM(BF108:BF115) + SUM(BF135:BF261))*I36), 2) -> 0
E37: zákl. prenesená | F37: =ROUND((SUM(BG108:BG115) + SUM(BG135:BG261)), 2) -> 0 | I37: 0.23 | J37: =0 -> 0
E38: zníž. prenesená | F38: =ROUND((SUM(BH108:BH115) + SUM(BH135:BH261)), 2) -> 0 | I38: 0.23 | J38: =0 -> 0
E39: nulová | F39: =ROUND((SUM(BI108:BI115) + SUM(BI135:BI261)), 2) -> 0 | I39: 0 | J39: =0 -> 0
D41: Cena s DPH | G41: v | H41: EUR | J41: =SUM(J32:J39) -> 0
D50: Projektant | G50: Spracovateľ
D61: Dátum a podpis: | F61: Pečiatka | G61: Dátum a podpis: | J61: Pečiatka
D65: Objednávateľ | G65: Zhotoviteľ
D76: Dátum a podpis: | F76: Pečiatka | G76: Dátum a podpis: | J76: Pečiatka
C82: REKAPITULÁCIA ROZPOČTU
C84: Stavba:
E85: =E7 -> Strategické územie Valalíky
C86: Objekt:
E87: =E9 -> SO 215 - Priepust cez Valalický kanál na MK Valaliky- Nové Koščany
C89: Miesto: | F89: =F12 -> kú: Valaliky, kú: Barca, kú: Čaňa | I89: Dátum: | J89: =IF(J12="","",J12) -> 27. 7. 2026
C91: Objednávateľ: | F91: =E15 -> Valaliky Industrial Park, s.r.o., Bratislava | I91: Projektant: | J91: =E21 -> RRi design, spol. s r.o., Košice
...

Sheet SO 409 - Železničný spodok
AT2: {2f0803a1-9988-449c-8e22-77374517cc6f}
AT3: 0
D4: KRYCÍ LIST ROZPOČTU | M4: v --- nižšie sa nachádzajú doplnkové a pomocné údaje k zostavám --- v | AT4: False
D6: Stavba:
E7: ='Rekapitulácia objektov stavby'!K6 -> Strategické územie Valalíky
D8: Objekt:
E9: SO 409 - Barca- Čaňa, Železničný spodok
D11: JKSO: | F11: 1 | I11: ČS: | J11: 1
D12: Miesto: | F12: kú: Valaliky, kú: Barca, kú: Čaňa | I12: Dátum: | J12: ='Rekapitulácia objektov stavby'!AN8 -> 27. 7. 2026
D14: Objednávateľ: | I14: IČO: | J14: 1
E15: Valaliky Industrial Park, s.r.o., Bratislava | I15: IČ DPH: | J15: 1
D17: Zhotoviteľ: | I17: IČO: | J17: ='Rekapitulácia objektov stavby'!AN13 -> 0
E18: ='Rekapitulácia objektov stavby'!E14 -> 0 | I18: IČ DPH: | J18: ='Rekapitulácia objektov stavby'!AN14 -> 0
D20: Projektant: | I20: IČO: | J20: 1
E21: RRi design, spol. s r.o., Košice | I21: IČ DPH: | J21: 1
D23: Spracovateľ: | I23: IČO: | J23: =IF('Rekapitulácia objektov stavby'!AN19="","",'Rekapitulácia objektov stavby'!AN19) -> 1
E24: =IF('Rekapitulácia objektov stavby'!E20="","",'Rekapitulácia objektov stavby'!E20) | I24: IČ DPH: | J24: =IF('Rekapitulácia objektov stavby'!AN20="","",'Rekapitulácia objektov stavby'!AN20) -> 1
D26: Poznámka:
E27: 1
D30: Náklady z rozpočtu | J30: =J96 -> 0
D31: Ostatné náklady | J31: =J106 -> 0
D32: Cena bez DPH | J32: =ROUND(J30 + J31, 2) -> 0
F34: Základ dane | I34: Sadzba dane | J34: Výška dane
D35: DPH | E35: základná | F35: =ROUND((SUM(BE106:BE113) + SUM(BE133:BE235)), 2) -> 0 | I35: 0.23 | J35: =ROUND(((SUM(BE106:BE113) + SUM(BE133:BE235))*I35), 2) -> 0
E36: znížená | F36: =ROUND((SUM(BF106:BF113) + SUM(BF133:BF235)), 2) -> 0 | I36: 0.23 | J36: =ROUND(((SUM(BF106:BF113) + SUM(BF133:BF235))*I36), 2) -> 0
E37: zákl. prenesená | F37: =ROUND((SUM(BG106:BG113) + SUM(BG133:BG235)), 2) -> 0 | I37: 0.23 | J37: =0 -> 0
E38: zníž. prenesená | F38: =ROUND((SUM(BH106:BH113) + SUM(BH133:BH235)), 2) -> 0 | I38: 0.23 | J38: =0 -> 0
E39: nulová | F39: =ROUND((SUM(BI106:BI113) + SUM(BI133:BI235)), 2) -> 0 | I39: 0 | J39: =0 -> 0
D41: Cena s DPH | G41: v | H41: EUR | J41: =SUM(J32:J39) -> 0
D50: Projektant | G50: Spracovateľ
D61: Dátum a podpis: | F61: Pečiatka | G61: Dátum a podpis: | J61: Pečiatka
D65: Objednávateľ | G65: Zhotoviteľ
D76: Dátum a podpis: | F76: Pečiatka | G76: Dátum a podpis: | J76: Pečiatka
C82: REKAPITULÁCIA ROZPOČTU
C84: Stavba:
E85: =E7 -> Strategické územie Valalíky
C86: Objekt:
E87: =E9 -> SO 409 - Barca- Čaňa, Železničný spodok
C89: Miesto: | F89: =F12 -> kú: Valaliky, kú: Barca, kú: Čaňa | I89: Dátum: | J89: =IF(J12="","",J12) -> 27. 7. 2026
C91: Objednávateľ: | F91: =E15 -> Valaliky Industrial Park, s.r.o., Bratislava | I91: Projektant: | J91: =E21 -> RRi design, spol. s r.o., Košice
...

Sheet SO 410 - Železničný zvršok
AT2: {93ca7183-4309-44fb-b6fd-597ffea12e41}
AT3: 0
D4: KRYCÍ LIST ROZPOČTU | M4: v --- nižšie sa nachádzajú doplnkové a pomocné údaje k zostavám --- v | AT4: False
D6: Stavba:
E7: ='Rekapitulácia objektov stavby'!K6 -> Strategické územie Valalíky
D8: Objekt:
E9: SO 410 - Barca- Čaňa, Železničný zvršok
D11: JKSO: | F11: 1 | I11: ČS: | J11: 1
D12: Miesto: | F12: kú: Valaliky, kú: Barca, kú: Čaňa | I12: Dátum: | J12: ='Rekapitulácia objektov stavby'!AN8 -> 27. 7. 2026
D14: Objednávateľ: | I14: IČO: | J14: 1
E15: Valaliky Industrial Park, s.r.o., Bratislava | I15: IČ DPH: | J15: 1
D17: Zhotoviteľ: | I17: IČO: | J17: ='Rekapitulácia objektov stavby'!AN13 -> 0
E18: ='Rekapitulácia objektov stavby'!E14 -> 0 | I18: IČ DPH: | J18: ='Rekapitulácia objektov stavby'!AN14 -> 0
D20: Projektant: | I20: IČO: | J20: 1
E21: RRi design, spol. s r.o., Košice | I21: IČ DPH: | J21: 1
D23: Spracovateľ: | I23: IČO: | J23: =IF('Rekapitulácia objektov stavby'!AN19="","",'Rekapitulácia objektov stavby'!AN19) -> 1
E24: =IF('Rekapitulácia objektov stavby'!E20="","",'Rekapitulácia objektov stavby'!E20) | I24: IČ DPH: | J24: =IF('Rekapitulácia objektov stavby'!AN20="","",'Rekapitulácia objektov stavby'!AN20) -> 1
D26: Poznámka:
E27: 1
D30: Náklady z rozpočtu | J30: =J96 -> 0
D31: Ostatné náklady | J31: =J105 -> 0
D32: Cena bez DPH | J32: =ROUND(J30 + J31, 2) -> 0
F34: Základ dane | I34: Sadzba dane | J34: Výška dane
D35: DPH | E35: základná | F35: =ROUND((SUM(BE105:BE112) + SUM(BE132:BE188)), 2) -> 0 | I35: 0.23 | J35: =ROUND(((SUM(BE105:BE112) + SUM(BE132:BE188))*I35), 2) -> 0
E36: znížená | F36: =ROUND((SUM(BF105:BF112) + SUM(BF132:BF188)), 2) -> 0 | I36: 0.23 | J36: =ROUND(((SUM(BF105:BF112) + SUM(BF132:BF188))*I36), 2) -> 0
E37: zákl. prenesená | F37: =ROUND((SUM(BG105:BG112) + SUM(BG132:BG188)), 2) -> 0 | I37: 0.23 | J37: =0 -> 0
E38: zníž. prenesená | F38: =ROUND((SUM(BH105:BH112) + SUM(BH132:BH188)), 2) -> 0 | I38: 0.23 | J38: =0 -> 0
E39: nulová | F39: =ROUND((SUM(BI105:BI112) + SUM(BI132:BI188)), 2) -> 0 | I39: 0 | J39: =0 -> 0
D41: Cena s DPH | G41: v | H41: EUR | J41: =SUM(J32:J39) -> 0
D50: Projektant | G50: Spracovateľ
D61: Dátum a podpis: | F61: Pečiatka | G61: Dátum a podpis: | J61: Pečiatka
D65: Objednávateľ | G65: Zhotoviteľ
D76: Dátum a podpis: | F76: Pečiatka | G76: Dátum a podpis: | J76: Pečiatka
C82: REKAPITULÁCIA ROZPOČTU
C84: Stavba:
E85: =E7 -> Strategické územie Valalíky
C86: Objekt:
E87: =E9 -> SO 410 - Barca- Čaňa, Železničný zvršok
C89: Miesto: | F89: =F12 -> kú: Valaliky, kú: Barca, kú: Čaňa | I89: Dátum: | J89: =IF(J12="","",J12) -> 27. 7. 2026
C91: Objednávateľ: | F91: =E15 -> Valaliky Industrial Park, s.r.o., Bratislava | I91: Projektant: | J91: =E21 -> RRi design, spol. s r.o., Košice
...

Sheet SO 410.2 - Žel. priecestie
AT2: {c5230461-acb1-47ee-a7ab-9b8266b5594d}
AT3: 0
D4: KRYCÍ LIST ROZPOČTU | M4: v --- nižšie sa nachádzajú doplnkové a pomocné údaje k zostavám --- v | AT4: False
D6: Stavba:
E7: ='Rekapitulácia objektov stavby'!K6 -> Strategické územie Valalíky
D8: Objekt:
E9: SO 410.2 - Barca- Čaňa, Železničné priecestie km 362,792 184
D11: JKSO: | F11: 1 | I11: ČS: | J11: 1
D12: Miesto: | F12: kú: Valaliky, kú: Barca, kú: Čaňa | I12: Dátum: | J12: ='Rekapitulácia objektov stavby'!AN8 -> 27. 7. 2026
D14: Objednávateľ: | I14: IČO: | J14: 1
E15: Valaliky Industrial Park, s.r.o., Bratislava | I15: IČ DPH: | J15: 1
D17: Zhotoviteľ: | I17: IČO: | J17: ='Rekapitulácia objektov stavby'!AN13 -> 0
E18: ='Rekapitulácia objektov stavby'!E14 -> 0 | I18: IČ DPH: | J18: ='Rekapitulácia objektov stavby'!AN14 -> 0
D20: Projektant: | I20: IČO: | J20: 1
E21: RRi design, spol. s r.o., Košice | I21: IČ DPH: | J21: 1
D23: Spracovateľ: | I23: IČO: | J23: =IF('Rekapitulácia objektov stavby'!AN19="","",'Rekapitulácia objektov stavby'!AN19) -> 1
E24: =IF('Rekapitulácia objektov stavby'!E20="","",'Rekapitulácia objektov stavby'!E20) | I24: IČ DPH: | J24: =IF('Rekapitulácia objektov stavby'!AN20="","",'Rekapitulácia objektov stavby'!AN20) -> 1
D26: Poznámka:
E27: 1
D30: Náklady z rozpočtu | J30: =J96 -> 0
D31: Ostatné náklady | J31: =J103 -> 0
D32: Cena bez DPH | J32: =ROUND(J30 + J31, 2) -> 0
F34: Základ dane | I34: Sadzba dane | J34: Výška dane
D35: DPH | E35: základná | F35: =ROUND((SUM(BE103:BE110) + SUM(BE130:BE152)), 2) -> 0 | I35: 0.23 | J35: =ROUND(((SUM(BE103:BE110) + SUM(BE130:BE152))*I35), 2) -> 0
E36: znížená | F36: =ROUND((SUM(BF103:BF110) + SUM(BF130:BF152)), 2) -> 0 | I36: 0.23 | J36: =ROUND(((SUM(BF103:BF110) + SUM(BF130:BF152))*I36), 2) -> 0
E37: zákl. prenesená | F37: =ROUND((SUM(BG103:BG110) + SUM(BG130:BG152)), 2) -> 0 | I37: 0.23 | J37: =0 -> 0
E38: zníž. prenesená | F38: =ROUND((SUM(BH103:BH110) + SUM(BH130:BH152)), 2) -> 0 | I38: 0.23 | J38: =0 -> 0
E39: nulová | F39: =ROUND((SUM(BI103:BI110) + SUM(BI130:BI152)), 2) -> 0 | I39: 0 | J39: =0 -> 0
D41: Cena s DPH | G41: v | H41: EUR | J41: =SUM(J32:J39) -> 0
D50: Projektant | G50: Spracovateľ
D61: Dátum a podpis: | F61: Pečiatka | G61: Dátum a podpis: | J61: Pečiatka
D65: Objednávateľ | G65: Zhotoviteľ
D76: Dátum a podpis: | F76: Pečiatka | G76: Dátum a podpis: | J76: Pečiatka
C82: REKAPITULÁCIA ROZPOČTU
C84: Stavba:
E85: =E7 -> Strategické územie Valalíky
C86: Objekt:
E87: =E9 -> SO 410.2 - Barca- Čaňa, Železničné priecestie km 362,792 184
C89: Miesto: | F89: =F12 -> kú: Valaliky, kú: Barca, kú: Čaňa | I89: Dátum: | J89: =IF(J12="","",J12) -> 27. 7. 2026
C91: Objednávateľ: | F91: =E15 -> Valaliky Industrial Park, s.r.o., Bratislava | I91: Projektant: | J91: =E21 -> RRi design, spol. s r.o., Košice
...

Sheet SO 433 - PHS - Búracie práce
AT2: {c13c4c90-e40a-47ad-98df-14e4c20494e4}
AT3: 0
D4: KRYCÍ LIST ROZPOČTU | M4: v --- nižšie sa nachádzajú doplnkové a pomocné údaje k zostavám --- v | AT4: False
D6: Stavba:
E7: ='Rekapitulácia objektov stavby'!K6 -> Strategické územie Valalíky
D8: Objekt:
E9: SO 433 - TIOP Valaliky- ŽSR, Protihlukové steny- Búracie práce
D11: JKSO: | F11: 1 | I11: ČS: | J11: 1
D12: Miesto: | F12: kú: Valaliky, kú: Barca, kú: Čaňa | I12: Dátum: | J12: ='Rekapitulácia objektov stavby'!AN8 -> 27. 7. 2026
D14: Objednávateľ: | I14: IČO: | J14: 1
E15: Valaliky Industrial Park, s.r.o., Bratislava | I15: IČ DPH: | J15: 1
D17: Zhotoviteľ: | I17: IČO: | J17: ='Rekapitulácia objektov stavby'!AN13 -> 0
E18: ='Rekapitulácia objektov stavby'!E14 -> 0 | I18: IČ DPH: | J18: ='Rekapitulácia objektov stavby'!AN14 -> 0
D20: Projektant: | I20: IČO: | J20: 1
E21: RRi design, spol. s r.o., Košice | I21: IČ DPH: | J21: 1
D23: Spracovateľ: | I23: IČO: | J23: =IF('Rekapitulácia objektov stavby'!AN19="","",'Rekapitulácia objektov stavby'!AN19) -> 1
E24: =IF('Rekapitulácia objektov stavby'!E20="","",'Rekapitulácia objektov stavby'!E20) | I24: IČ DPH: | J24: =IF('Rekapitulácia objektov stavby'!AN20="","",'Rekapitulácia objektov stavby'!AN20) -> 1
D26: Poznámka:
E27: 1
D30: Náklady z rozpočtu | J30: =J96 -> 0
D31: Ostatné náklady | J31: =J103 -> 0
D32: Cena bez DPH | J32: =ROUND(J30 + J31, 2) -> 0
F34: Základ dane | I34: Sadzba dane | J34: Výška dane
D35: DPH | E35: základná | F35: =ROUND((SUM(BE103:BE110) + SUM(BE130:BE160)), 2) -> 0 | I35: 0.23 | J35: =ROUND(((SUM(BE103:BE110) + SUM(BE130:BE160))*I35), 2) -> 0
E36: znížená | F36: =ROUND((SUM(BF103:BF110) + SUM(BF130:BF160)), 2) -> 0 | I36: 0.23 | J36: =ROUND(((SUM(BF103:BF110) + SUM(BF130:BF160))*I36), 2) -> 0
E37: zákl. prenesená | F37: =ROUND((SUM(BG103:BG110) + SUM(BG130:BG160)), 2) -> 0 | I37: 0.23 | J37: =0 -> 0
E38: zníž. prenesená | F38: =ROUND((SUM(BH103:BH110) + SUM(BH130:BH160)), 2) -> 0 | I38: 0.23 | J38: =0 -> 0
E39: nulová | F39: =ROUND((SUM(BI103:BI110) + SUM(BI130:BI160)), 2) -> 0 | I39: 0 | J39: =0 -> 0
D41: Cena s DPH | G41: v | H41: EUR | J41: =SUM(J32:J39) -> 0
D50: Projektant | G50: Spracovateľ
D61: Dátum a podpis: | F61: Pečiatka | G61: Dátum a podpis: | J61: Pečiatka
D65: Objednávateľ | G65: Zhotoviteľ
D76: Dátum a podpis: | F76: Pečiatka | G76: Dátum a podpis: | J76: Pečiatka
C82: REKAPITULÁCIA ROZPOČTU
C84: Stavba:
E85: =E7 -> Strategické územie Valalíky
C86: Objekt:
E87: =E9 -> SO 433 - TIOP Valaliky- ŽSR, Protihlukové steny- Búracie práce
C89: Miesto: | F89: =F12 -> kú: Valaliky, kú: Barca, kú: Čaňa | I89: Dátum: | J89: =IF(J12="","",J12) -> 27. 7. 2026
C91: Objednávateľ: | F91: =E15 -> Valaliky Industrial Park, s.r.o., Bratislava | I91: Projektant: | J91: =E21 -> RRi design, spol. s r.o., Košice
...

Sheet SO 442 - NN prípojka PZZ
AT2: {0c44c09b-45e1-42c5-9b15-bd00a167fa03}
AT3: 0
D4: KRYCÍ LIST ROZPOČTU | M4: v --- nižšie sa nachádzajú doplnkové a pomocné údaje k zostavám --- v | AT4: False
D6: Stavba:
E7: ='Rekapitulácia objektov stavby'!K6 -> Strategické územie Valalíky
D8: Objekt:
E9: SO 442 - Barca-Čaňa, prípojka NN pre PZZ v žkm 362,792 184
D11: JKSO: | F11: 1 | I11: ČS: | J11: 1
D12: Miesto: | F12: kú: Valaliky, kú: Barca, kú: Čaňa | I12: Dátum: | J12: ='Rekapitulácia objektov stavby'!AN8 -> 27. 7. 2026
D14: Objednávateľ: | I14: IČO: | J14: 1
E15: Valaliky Industrial Park, s.r.o., Bratislava | I15: IČ DPH: | J15: 1
D17: Zhotoviteľ: | I17: IČO: | J17: ='Rekapitulácia objektov stavby'!AN13 -> 0
E18: ='Rekapitulácia objektov stavby'!E14 -> 0 | I18: IČ DPH: | J18: ='Rekapitulácia objektov stavby'!AN14 -> 0
D20: Projektant: | I20: IČO: | J20: 1
E21: RRi design, spol. s r.o., Košice | I21: IČ DPH: | J21: 1
D23: Spracovateľ: | I23: IČO: | J23: =IF('Rekapitulácia objektov stavby'!AN19="","",'Rekapitulácia objektov stavby'!AN19) -> 1
E24: =IF('Rekapitulácia objektov stavby'!E20="","",'Rekapitulácia objektov stavby'!E20) | I24: IČ DPH: | J24: =IF('Rekapitulácia objektov stavby'!AN20="","",'Rekapitulácia objektov stavby'!AN20) -> 1
D26: Poznámka:
E27: 1
D30: Náklady z rozpočtu | J30: =J96 -> 0
D31: Ostatné náklady | J31: =J107 -> 0
D32: Cena bez DPH | J32: =ROUND(J30 + J31, 2) -> 0
F34: Základ dane | I34: Sadzba dane | J34: Výška dane
D35: DPH | E35: základná | F35: =ROUND((SUM(BE107:BE114) + SUM(BE134:BE155)), 2) -> 0 | I35: 0.23 | J35: =ROUND(((SUM(BE107:BE114) + SUM(BE134:BE155))*I35), 2) -> 0
E36: znížená | F36: =ROUND((SUM(BF107:BF114) + SUM(BF134:BF155)), 2) -> 0 | I36: 0.23 | J36: =ROUND(((SUM(BF107:BF114) + SUM(BF134:BF155))*I36), 2) -> 0
E37: zákl. prenesená | F37: =ROUND((SUM(BG107:BG114) + SUM(BG134:BG155)), 2) -> 0 | I37: 0.23 | J37: =0 -> 0
E38: zníž. prenesená | F38: =ROUND((SUM(BH107:BH114) + SUM(BH134:BH155)), 2) -> 0 | I38: 0.23 | J38: =0 -> 0
E39: nulová | F39: =ROUND((SUM(BI107:BI114) + SUM(BI134:BI155)), 2) -> 0 | I39: 0 | J39: =0 -> 0
D41: Cena s DPH | G41: v | H41: EUR | J41: =SUM(J32:J39) -> 0
D50: Projektant | G50: Spracovateľ
D61: Dátum a podpis: | F61: Pečiatka | G61: Dátum a podpis: | J61: Pečiatka
D65: Objednávateľ | G65: Zhotoviteľ
D76: Dátum a podpis: | F76: Pečiatka | G76: Dátum a podpis: | J76: Pečiatka
C82: REKAPITULÁCIA ROZPOČTU
C84: Stavba:
E85: =E7 -> Strategické územie Valalíky
C86: Objekt:
E87: =E9 -> SO 442 - Barca-Čaňa, prípojka NN pre PZZ v žkm 362,792 184
C89: Miesto: | F89: =F12 -> kú: Valaliky, kú: Barca, kú: Čaňa | I89: Dátum: | J89: =IF(J12="","",J12) -> 27. 7. 2026
C91: Objednávateľ: | F91: =E15 -> Valaliky Industrial Park, s.r.o., Bratislava | I91: Projektant: | J91: =E21 -> RRi design, spol. s r.o., Košice
...

Sheet SO 659.1 - VO - Úprava
AT2: {564af72b-1c0a-40e1-9437-94b846524baa}
AT3: 0
D4: KRYCÍ LIST ROZPOČTU | M4: v --- nižšie sa nachádzajú doplnkové a pomocné údaje k zostavám --- v | AT4: False
D6: Stavba:
E7: ='Rekapitulácia objektov stavby'!K6 -> Strategické územie Valalíky
D8: Objekt:
E9: SO 659.1 - Verejné osvetlenie cyklochodníka - kataster Valaliky a NN prípojky - Úprava a rozšírenie
D11: JKSO: | F11: 1 | I11: ČS: | J11: 1
D12: Miesto: | F12: kú: Valaliky, kú: Barca, kú: Čaňa | I12: Dátum: | J12: ='Rekapitulácia objektov stavby'!AN8 -> 27. 7. 2026
D14: Objednávateľ: | I14: IČO: | J14: 1
E15: Valaliky Industrial Park, s.r.o., Bratislava | I15: IČ DPH: | J15: 1
D17: Zhotoviteľ: | I17: IČO: | J17: ='Rekapitulácia objektov stavby'!AN13 -> 0
E18: ='Rekapitulácia objektov stavby'!E14 -> 0 | I18: IČ DPH: | J18: ='Rekapitulácia objektov stavby'!AN14 -> 0
D20: Projektant: | I20: IČO: | J20: 1
E21: RRi design, spol. s r.o., Košice | I21: IČ DPH: | J21: 1
D23: Spracovateľ: | I23: IČO: | J23: =IF('Rekapitulácia objektov stavby'!AN19="","",'Rekapitulácia objektov stavby'!AN19) -> 1
E24: =IF('Rekapitulácia objektov stavby'!E20="","",'Rekapitulácia objektov stavby'!E20) | I24: IČ DPH: | J24: =IF('Rekapitulácia objektov stavby'!AN20="","",'Rekapitulácia objektov stavby'!AN20) -> 1
D26: Poznámka:
E27: 1
D30: Náklady z rozpočtu | J30: =J96 -> 0
D31: Ostatné náklady | J31: =J106 -> 0
D32: Cena bez DPH | J32: =ROUND(J30 + J31, 2) -> 0
F34: Základ dane | I34: Sadzba dane | J34: Výška dane
D35: DPH | E35: základná | F35: =ROUND((SUM(BE106:BE113) + SUM(BE133:BE161)), 2) -> 0 | I35: 0.23 | J35: =ROUND(((SUM(BE106:BE113) + SUM(BE133:BE161))*I35), 2) -> 0
E36: znížená | F36: =ROUND((SUM(BF106:BF113) + SUM(BF133:BF161)), 2) -> 0 | I36: 0.23 | J36: =ROUND(((SUM(BF106:BF113) + SUM(BF133:BF161))*I36), 2) -> 0
E37: zákl. prenesená | F37: =ROUND((SUM(BG106:BG113) + SUM(BG133:BG161)), 2) -> 0 | I37: 0.23 | J37: =0 -> 0
E38: zníž. prenesená | F38: =ROUND((SUM(BH106:BH113) + SUM(BH133:BH161)), 2) -> 0 | I38: 0.23 | J38: =0 -> 0
E39: nulová | F39: =ROUND((SUM(BI106:BI113) + SUM(BI133:BI161)), 2) -> 0 | I39: 0 | J39: =0 -> 0
D41: Cena s DPH | G41: v | H41: EUR | J41: =SUM(J32:J39) -> 0
D50: Projektant | G50: Spracovateľ
D61: Dátum a podpis: | F61: Pečiatka | G61: Dátum a podpis: | J61: Pečiatka
D65: Objednávateľ | G65: Zhotoviteľ
D76: Dátum a podpis: | F76: Pečiatka | G76: Dátum a podpis: | J76: Pečiatka
C82: REKAPITULÁCIA ROZPOČTU
C84: Stavba:
E85: =E7 -> Strategické územie Valalíky
C86: Objekt:
E87: =E9 -> SO 659.1 - Verejné osvetlenie cyklochodníka - kataster Valaliky a NN prípojky - Úprava a rozšírenie
C89: Miesto: | F89: =F12 -> kú: Valaliky, kú: Barca, kú: Čaňa | I89: Dátum: | J89: =IF(J12="","",J12) -> 27. 7. 2026
C91: Objednávateľ: | F91: =E15 -> Valaliky Industrial Park, s.r.o., Bratislava | I91: Projektant: | J91: =E21 -> RRi design, spol. s r.o., Košice
...

Sheet D3 - Dopravné značenie
AT2: {5ebffb9b-983d-463b-902a-693acf7b890e}
AT3: 0
D4: KRYCÍ LIST ROZPOČTU | M4: v --- nižšie sa nachádzajú doplnkové a pomocné údaje k zostavám --- v | AT4: False
D6: Stavba:
E7: ='Rekapitulácia objektov stavby'!K6 -> Strategické územie Valalíky
D8: Objekt:
E9: D3 - Dopravné značenie MK Valaliky - Nové Koščany
D11: JKSO: | F11: 1 | I11: ČS: | J11: 1
D12: Miesto: | F12: kú: Valaliky, kú: Barca, kú: Čaňa | I12: Dátum: | J12: ='Rekapitulácia objektov stavby'!AN8 -> 27. 7. 2026
D14: Objednávateľ: | I14: IČO: | J14: 1
E15: Valaliky Industrial Park, s.r.o., Bratislava | I15: IČ DPH: | J15: 1
D17: Zhotoviteľ: | I17: IČO: | J17: ='Rekapitulácia objektov stavby'!AN13 -> 0
E18: ='Rekapitulácia objektov stavby'!E14 -> 0 | I18: IČ DPH: | J18: ='Rekapitulácia objektov stavby'!AN14 -> 0
D20: Projektant: | I20: IČO: | J20: 1
E21: RRi design, spol. s r.o., Košice | I21: IČ DPH: | J21: 1
D23: Spracovateľ: | I23: IČO: | J23: =IF('Rekapitulácia objektov stavby'!AN19="","",'Rekapitulácia objektov stavby'!AN19) -> 1
E24: =IF('Rekapitulácia objektov stavby'!E20="","",'Rekapitulácia objektov stavby'!E20) | I24: IČ DPH: | J24: =IF('Rekapitulácia objektov stavby'!AN20="","",'Rekapitulácia objektov stavby'!AN20) -> 1
D26: Poznámka:
E27: 1
D30: Náklady z rozpočtu | J30: =J96 -> 0
D31: Ostatné náklady | J31: =J101 -> 0
D32: Cena bez DPH | J32: =ROUND(J30 + J31, 2) -> 0
F34: Základ dane | I34: Sadzba dane | J34: Výška dane
D35: DPH | E35: základná | F35: =ROUND((SUM(BE101:BE108) + SUM(BE128:BE161)), 2) -> 0 | I35: 0.23 | J35: =ROUND(((SUM(BE101:BE108) + SUM(BE128:BE161))*I35), 2) -> 0
E36: znížená | F36: =ROUND((SUM(BF101:BF108) + SUM(BF128:BF161)), 2) -> 0 | I36: 0.23 | J36: =ROUND(((SUM(BF101:BF108) + SUM(BF128:BF161))*I36), 2) -> 0
E37: zákl. prenesená | F37: =ROUND((SUM(BG101:BG108) + SUM(BG128:BG161)), 2) -> 0 | I37: 0.23 | J37: =0 -> 0
E38: zníž. prenesená | F38: =ROUND((SUM(BH101:BH108) + SUM(BH128:BH161)), 2) -> 0 | I38: 0.23 | J38: =0 -> 0
E39: nulová | F39: =ROUND((SUM(BI101:BI108) + SUM(BI128:BI161)), 2) -> 0 | I39: 0 | J39: =0 -> 0
D41: Cena s DPH | G41: v | H41: EUR | J41: =SUM(J32:J39) -> 0
D50: Projektant | G50: Spracovateľ
D61: Dátum a podpis: | F61: Pečiatka | G61: Dátum a podpis: | J61: Pečiatka
D65: Objednávateľ | G65: Zhotoviteľ
D76: Dátum a podpis: | F76: Pečiatka | G76: Dátum a podpis: | J76: Pečiatka
C82: REKAPITULÁCIA ROZPOČTU
C84: Stavba:
E85: =E7 -> Strategické územie Valalíky
C86: Objekt:
E87: =E9 -> D3 - Dopravné značenie MK Valaliky - Nové Koščany
C89: Miesto: | F89: =F12 -> kú: Valaliky, kú: Barca, kú: Čaňa | I89: Dátum: | J89: =IF(J12="","",J12) -> 27. 7. 2026
C91: Objednávateľ: | F91: =E15 -> Valaliky Industrial Park, s.r.o., Bratislava | I91: Projektant: | J91: =E21 -> RRi design, spol. s r.o., Košice
...
